| Back to Multiple platform build/check report for BioC 3.18: simplified long |
|
This page was generated on 2024-04-17 11:36:23 -0400 (Wed, 17 Apr 2024).
| Hostname | OS | Arch (*) | R version | Installed pkgs |
|---|---|---|---|---|
| nebbiolo2 | Linux (Ubuntu 22.04.3 LTS) | x86_64 | 4.3.3 (2024-02-29) -- "Angel Food Cake" | 4676 |
| palomino4 | Windows Server 2022 Datacenter | x64 | 4.3.3 (2024-02-29 ucrt) -- "Angel Food Cake" | 4414 |
| merida1 | macOS 12.7.1 Monterey | x86_64 | 4.3.3 (2024-02-29) -- "Angel Food Cake" | 4437 |
| Click on any hostname to see more info about the system (e.g. compilers) (*) as reported by 'uname -p', except on Windows and Mac OS X | ||||
| Package 1964/2266 | Hostname | OS / Arch | INSTALL | BUILD | CHECK | BUILD BIN | ||||||||
| simona 1.0.10 (landing page) Zuguang Gu
| nebbiolo2 | Linux (Ubuntu 22.04.3 LTS) / x86_64 | OK | OK | OK | |||||||||
| palomino4 | Windows Server 2022 Datacenter / x64 | OK | OK | OK | OK | |||||||||
| merida1 | macOS 12.7.1 Monterey / x86_64 | OK | OK | OK | OK | |||||||||
| kjohnson1 | macOS 13.6.1 Ventura / arm64 | see weekly results here | ||||||||||||
|
To the developers/maintainers of the simona package: - Allow up to 24 hours (and sometimes 48 hours) for your latest push to git@git.bioconductor.org:packages/simona.git to reflect on this report. See Troubleshooting Build Report for more information. - Use the following Renviron settings to reproduce errors and warnings. - If 'R CMD check' started to fail recently on the Linux builder(s) over a missing dependency, add the missing dependency to 'Suggests:' in your DESCRIPTION file. See Renviron.bioc for more information. |
| Package: simona |
| Version: 1.0.10 |
| Command: /home/biocbuild/bbs-3.18-bioc/R/bin/R CMD check --install=check:simona.install-out.txt --library=/home/biocbuild/bbs-3.18-bioc/R/site-library --timings simona_1.0.10.tar.gz |
| StartedAt: 2024-04-16 03:59:17 -0400 (Tue, 16 Apr 2024) |
| EndedAt: 2024-04-16 04:13:18 -0400 (Tue, 16 Apr 2024) |
| EllapsedTime: 840.2 seconds |
| RetCode: 0 |
| Status: OK |
| CheckDir: simona.Rcheck |
| Warnings: 0 |
##############################################################################
##############################################################################
###
### Running command:
###
### /home/biocbuild/bbs-3.18-bioc/R/bin/R CMD check --install=check:simona.install-out.txt --library=/home/biocbuild/bbs-3.18-bioc/R/site-library --timings simona_1.0.10.tar.gz
###
##############################################################################
##############################################################################
* using log directory ‘/home/biocbuild/bbs-3.18-bioc/meat/simona.Rcheck’
* using R version 4.3.3 (2024-02-29)
* using platform: x86_64-pc-linux-gnu (64-bit)
* R was compiled by
gcc (Ubuntu 11.4.0-1ubuntu1~22.04) 11.4.0
GNU Fortran (Ubuntu 11.4.0-1ubuntu1~22.04) 11.4.0
* running under: Ubuntu 22.04.4 LTS
* using session charset: UTF-8
* checking for file ‘simona/DESCRIPTION’ ... OK
* checking extension type ... Package
* this is package ‘simona’ version ‘1.0.10’
* package encoding: UTF-8
* checking package namespace information ... OK
* checking package dependencies ... OK
* checking if this is a source package ... OK
* checking if there is a namespace ... OK
* checking for hidden files and directories ... OK
* checking for portable file names ... OK
* checking for sufficient/correct file permissions ... OK
* checking whether package ‘simona’ can be installed ... OK
* used C++ compiler: ‘g++ (Ubuntu 11.4.0-1ubuntu1~22.04) 11.4.0’
* checking C++ specification ... NOTE
Specified C++11: please drop specification unless essential
* checking installed package size ... NOTE
installed size is 12.6Mb
sub-directories of 1Mb or more:
libs 10.8Mb
* checking package directory ... OK
* checking ‘build’ directory ... OK
* checking DESCRIPTION meta-information ... OK
* checking top-level files ... OK
* checking for left-over files ... OK
* checking index information ... OK
* checking package subdirectories ... OK
* checking R files for non-ASCII characters ... OK
* checking R files for syntax errors ... OK
* checking whether the package can be loaded ... OK
* checking whether the package can be loaded with stated dependencies ... OK
* checking whether the package can be unloaded cleanly ... OK
* checking whether the namespace can be loaded with stated dependencies ... OK
* checking whether the namespace can be unloaded cleanly ... OK
* checking loading without being on the library search path ... OK
* checking startup messages can be suppressed ... OK
* checking dependencies in R code ... OK
* checking S3 generic/method consistency ... OK
* checking replacement functions ... OK
* checking foreign function calls ... OK
* checking R code for possible problems ... OK
* checking Rd files ... OK
* checking Rd metadata ... OK
* checking Rd cross-references ... OK
* checking for missing documentation entries ... OK
* checking for code/documentation mismatches ... OK
* checking Rd \usage sections ... OK
* checking Rd contents ... OK
* checking for unstated dependencies in examples ... OK
* checking line endings in C/C++/Fortran sources/headers ... OK
* checking line endings in Makefiles ... OK
* checking compilation flags in Makevars ... OK
* checking for GNU extensions in Makefiles ... OK
* checking for portable use of $(BLAS_LIBS) and $(LAPACK_LIBS) ... OK
* checking use of PKG_*FLAGS in Makefiles ... OK
* checking compiled code ... NOTE
Note: information on .o files is not available
* checking files in ‘vignettes’ ... OK
* checking examples ... OK
* checking for unstated dependencies in ‘tests’ ... OK
* checking tests ...
Running ‘test-all.R’
OK
* checking for unstated dependencies in vignettes ... OK
* checking package vignettes in ‘inst/doc’ ... OK
* checking running R code from vignettes ...
‘v01_dag.Rmd’ using ‘UTF-8’... OK
‘v02_GO.Rmd’ using ‘UTF-8’... OK
‘v03_import.Rmd’ using ‘UTF-8’... OK
‘v04_information_content.Rmd’ using ‘UTF-8’... OK
‘v05_term_similarity.Rmd’ using ‘UTF-8’... OK
‘v06_group_similarity.Rmd’ using ‘UTF-8’... OK
‘v07_dag_visualization.Rmd’ using ‘UTF-8’... OK
‘v08_random.Rmd’ using ‘UTF-8’... OK
‘v09_shiny.Rmd’ using ‘UTF-8’... OK
‘v10_enrichment.Rmd’ using ‘UTF-8’... OK
OK
* checking re-building of vignette outputs ... OK
* checking PDF version of manual ... OK
* DONE
Status: 3 NOTEs
See
‘/home/biocbuild/bbs-3.18-bioc/meat/simona.Rcheck/00check.log’
for details.
simona.Rcheck/00install.out
############################################################################## ############################################################################## ### ### Running command: ### ### /home/biocbuild/bbs-3.18-bioc/R/bin/R CMD INSTALL simona ### ############################################################################## ############################################################################## * installing to library ‘/home/biocbuild/bbs-3.18-bioc/R/site-library’ * installing *source* package ‘simona’ ... ** using staged installation ** libs using C++ compiler: ‘g++ (Ubuntu 11.4.0-1ubuntu1~22.04) 11.4.0’ using C++11 g++ -std=gnu++11 -I"/home/biocbuild/bbs-3.18-bioc/R/include" -DNDEBUG -I'/home/biocbuild/bbs-3.18-bioc/R/site-library/Rcpp/include' -I/usr/local/include -fpic -g -O2 -Wall -c RcppExports.cpp -o RcppExports.o g++ -std=gnu++11 -I"/home/biocbuild/bbs-3.18-bioc/R/include" -DNDEBUG -I'/home/biocbuild/bbs-3.18-bioc/R/site-library/Rcpp/include' -I/usr/local/include -fpic -g -O2 -Wall -c annotation.cpp -o annotation.o g++ -std=gnu++11 -I"/home/biocbuild/bbs-3.18-bioc/R/include" -DNDEBUG -I'/home/biocbuild/bbs-3.18-bioc/R/site-library/Rcpp/include' -I/usr/local/include -fpic -g -O2 -Wall -c common_ancestor.cpp -o common_ancestor.o g++ -std=gnu++11 -I"/home/biocbuild/bbs-3.18-bioc/R/include" -DNDEBUG -I'/home/biocbuild/bbs-3.18-bioc/R/site-library/Rcpp/include' -I/usr/local/include -fpic -g -O2 -Wall -c dist.cpp -o dist.o g++ -std=gnu++11 -I"/home/biocbuild/bbs-3.18-bioc/R/include" -DNDEBUG -I'/home/biocbuild/bbs-3.18-bioc/R/site-library/Rcpp/include' -I/usr/local/include -fpic -g -O2 -Wall -c intersectToList_logical.cpp -o intersectToList_logical.o g++ -std=gnu++11 -I"/home/biocbuild/bbs-3.18-bioc/R/include" -DNDEBUG -I'/home/biocbuild/bbs-3.18-bioc/R/site-library/Rcpp/include' -I/usr/local/include -fpic -g -O2 -Wall -c partition.cpp -o partition.o g++ -std=gnu++11 -I"/home/biocbuild/bbs-3.18-bioc/R/include" -DNDEBUG -I'/home/biocbuild/bbs-3.18-bioc/R/site-library/Rcpp/include' -I/usr/local/include -fpic -g -O2 -Wall -c permutation.cpp -o permutation.o g++ -std=gnu++11 -I"/home/biocbuild/bbs-3.18-bioc/R/include" -DNDEBUG -I'/home/biocbuild/bbs-3.18-bioc/R/site-library/Rcpp/include' -I/usr/local/include -fpic -g -O2 -Wall -c plot.cpp -o plot.o g++ -std=gnu++11 -I"/home/biocbuild/bbs-3.18-bioc/R/include" -DNDEBUG -I'/home/biocbuild/bbs-3.18-bioc/R/site-library/Rcpp/include' -I/usr/local/include -fpic -g -O2 -Wall -c reorder.cpp -o reorder.o g++ -std=gnu++11 -I"/home/biocbuild/bbs-3.18-bioc/R/include" -DNDEBUG -I'/home/biocbuild/bbs-3.18-bioc/R/site-library/Rcpp/include' -I/usr/local/include -fpic -g -O2 -Wall -c sim.cpp -o sim.o g++ -std=gnu++11 -I"/home/biocbuild/bbs-3.18-bioc/R/include" -DNDEBUG -I'/home/biocbuild/bbs-3.18-bioc/R/site-library/Rcpp/include' -I/usr/local/include -fpic -g -O2 -Wall -c term.cpp -o term.o g++ -std=gnu++11 -I"/home/biocbuild/bbs-3.18-bioc/R/include" -DNDEBUG -I'/home/biocbuild/bbs-3.18-bioc/R/site-library/Rcpp/include' -I/usr/local/include -fpic -g -O2 -Wall -c traverse.cpp -o traverse.o g++ -std=gnu++11 -I"/home/biocbuild/bbs-3.18-bioc/R/include" -DNDEBUG -I'/home/biocbuild/bbs-3.18-bioc/R/site-library/Rcpp/include' -I/usr/local/include -fpic -g -O2 -Wall -c tree.cpp -o tree.o g++ -std=gnu++11 -I"/home/biocbuild/bbs-3.18-bioc/R/include" -DNDEBUG -I'/home/biocbuild/bbs-3.18-bioc/R/site-library/Rcpp/include' -I/usr/local/include -fpic -g -O2 -Wall -c utils.cpp -o utils.o g++ -std=gnu++11 -shared -L/home/biocbuild/bbs-3.18-bioc/R/lib -L/usr/local/lib -o simona.so RcppExports.o annotation.o common_ancestor.o dist.o intersectToList_logical.o partition.o permutation.o plot.o reorder.o sim.o term.o traverse.o tree.o utils.o -L/home/biocbuild/bbs-3.18-bioc/R/lib -lR installing to /home/biocbuild/bbs-3.18-bioc/R/site-library/00LOCK-simona/00new/simona/libs ** R ** inst ** byte-compile and prepare package for lazy loading ** help *** installing help indices ** building package indices ** installing vignettes ** testing if installed package can be loaded from temporary location ** checking absolute paths in shared objects and dynamic libraries ** testing if installed package can be loaded from final location ** testing if installed package keeps a record of temporary installation path * DONE (simona)
simona.Rcheck/tests/test-all.Rout
R version 4.3.3 (2024-02-29) -- "Angel Food Cake"
Copyright (C) 2024 The R Foundation for Statistical Computing
Platform: x86_64-pc-linux-gnu (64-bit)
R is free software and comes with ABSOLUTELY NO WARRANTY.
You are welcome to redistribute it under certain conditions.
Type 'license()' or 'licence()' for distribution details.
R is a collaborative project with many contributors.
Type 'contributors()' for more information and
'citation()' on how to cite R or R packages in publications.
Type 'demo()' for some demos, 'help()' for on-line help, or
'help.start()' for an HTML browser interface to help.
Type 'q()' to quit R.
> library(testthat)
> suppressWarnings(suppressPackageStartupMessages(library(simona)))
>
> test_check("simona")
GroupSim_pairwise_avg
group2
group1 0.4761502
GroupSim_pairwise_max
group2
group1 1
GroupSim_pairwise_BMA
group2
group1 0.7599716
GroupSim_pairwise_BMM
group2
group1 0.7955366
GroupSim_pairwise_ABM
group2
group1 0.7599716
GroupSim_pairwise_HDF
group2
group1 0.5866099
GroupSim_pairwise_MHDF
group2
group1 0.7244066
GroupSim_pairwise_VHDF
group2
group1 0.6986662
GroupSim_pairwise_Froehlich_2007
group2
group1 0.6614042
GroupSim_pairwise_Joeng_2014
group2
group1 0.7817037
GroupSim_SimALN
group2
group1 0.1512398
GroupSim_SimGIC
group2
group1 0.2697222
GroupSim_SimDIC
group2
group1 0.4248523
GroupSim_SimUIC
group2
group1 0.3693419
GroupSim_SimUI
group2
group1 0.2
GroupSim_SimDB
group2
group1 0.3333333
GroupSim_SimUB
group2
group1 0.3333333
GroupSim_SimNTO
group2
group1 0.3333333
GroupSim_SimCOU
group2
group1 0.4499397
GroupSim_SimCOT
group2
group1 0.2636391
GroupSim_SimLP
group2
group1 3
GroupSim_Ye_2005
group2
group1 1
GroupSim_SimCHO
group2
group1 0.6666667
GroupSim_SimALD
group2
group1 0.75
GroupSim_Jaccard
group2
group1 0.75
GroupSim_Dice
group2
group1 0.8571429
GroupSim_Overlap
group2
group1 1
GroupSim_Kappa
group2
group1 0.6666667
[ FAIL 0 | WARN 0 | SKIP 0 | PASS 369 ]
>
> proc.time()
user system elapsed
29.373 1.012 30.374
simona.Rcheck/simona-Ex.timings
| name | user | system | elapsed | |
| all_methods | 0.001 | 0.001 | 0.001 | |
| annotation | 0.006 | 0.002 | 0.009 | |
| common_ancestor | 0.026 | 0.005 | 0.030 | |
| create_ontology_DAG | 0.009 | 0.004 | 0.013 | |
| create_ontology_DAG_from_GO_db | 3.670 | 0.138 | 3.810 | |
| dag_all_terms | 0.002 | 0.001 | 0.002 | |
| dag_as_igraph | 0.03 | 0.00 | 0.03 | |
| dag_depth | 0.003 | 0.000 | 0.003 | |
| dag_distinct_ancestors | 0.004 | 0.000 | 0.004 | |
| dag_enrich_on_items | 0 | 0 | 0 | |
| dag_enrich_on_offsprings | 0.001 | 0.000 | 0.001 | |
| dag_enrich_on_offsprings_by_permutation | 0 | 0 | 0 | |
| dag_filter | 0.011 | 0.000 | 0.011 | |
| dag_longest_dist_to_offspring | 0.002 | 0.000 | 0.002 | |
| dag_random | 0.044 | 0.000 | 0.044 | |
| dag_reorder | 0.005 | 0.000 | 0.005 | |
| dag_root | 0.002 | 0.000 | 0.002 | |
| dag_shiny | 0.001 | 0.000 | 0.001 | |
| dag_terms | 0.002 | 0.000 | 0.002 | |
| dag_treelize | 0.457 | 0.012 | 0.469 | |
| dag_viz | 0.001 | 0.000 | 0.000 | |
| distance | 0.006 | 0.000 | 0.006 | |
| group_sim | 0.007 | 0.000 | 0.007 | |
| import_obo | 0 | 0 | 0 | |
| mcols_ontology_DAG | 0.003 | 0.003 | 0.006 | |
| method_param | 0 | 0 | 0 | |
| n_annotations | 0.002 | 0.000 | 0.002 | |
| n_terms | 0.002 | 0.000 | 0.002 | |
| ontology_DAG-class | 0 | 0 | 0 | |
| partition_by_level | 0 | 0 | 0 | |
| random_terms | 0.003 | 0.000 | 0.003 | |
| simona_opt | 0.002 | 0.000 | 0.002 | |
| subset | 0.015 | 0.000 | 0.015 | |
| term_IC | 0.003 | 0.000 | 0.003 | |
| term_sim | 0.004 | 0.000 | 0.004 | |