| Back to Multiple platform build/check report for BioC 3.18: simplified long |
|
This page was generated on 2023-10-24 11:41:32 -0400 (Tue, 24 Oct 2023).
| Hostname | OS | Arch (*) | R version | Installed pkgs |
|---|---|---|---|---|
| nebbiolo2 | Linux (Ubuntu 22.04.2 LTS) | x86_64 | 4.3.1 (2023-06-16) -- "Beagle Scouts" | 4724 |
| palomino4 | Windows Server 2022 Datacenter | x64 | 4.3.1 (2023-06-16 ucrt) -- "Beagle Scouts" | 4459 |
| lconway | macOS 12.6.5 Monterey | x86_64 | 4.3.1 Patched (2023-06-17 r84564) -- "Beagle Scouts" | 4473 |
| kunpeng2 | Linux (openEuler 22.03 LTS-SP1) | aarch64 | 4.3.1 (2023-06-16) -- "Beagle Scouts" | 4461 |
| Click on any hostname to see more info about the system (e.g. compilers) (*) as reported by 'uname -p', except on Windows and Mac OS X | ||||
| Package 1949/2264 | Hostname | OS / Arch | INSTALL | BUILD | CHECK | BUILD BIN | ||||||||
| signatureSearch 1.15.2 (landing page) Brendan Gongol
| nebbiolo2 | Linux (Ubuntu 22.04.2 LTS) / x86_64 | OK | OK | OK | |||||||||
| palomino4 | Windows Server 2022 Datacenter / x64 | OK | OK | OK | OK | |||||||||
| lconway | macOS 12.6.5 Monterey / x86_64 | OK | OK | OK | OK | |||||||||
| kjohnson1 | macOS 13.3.1 Ventura / arm64 | see weekly results here | ||||||||||||
| kunpeng2 | Linux (openEuler 22.03 LTS-SP1) / aarch64 | OK | OK | OK | ||||||||||
|
To the developers/maintainers of the signatureSearch package: - Allow up to 24 hours (and sometimes 48 hours) for your latest push to git@git.bioconductor.org:packages/signatureSearch.git to reflect on this report. See Troubleshooting Build Report for more information. - Use the following Renviron settings to reproduce errors and warnings. - If 'R CMD check' started to fail recently on the Linux builder(s) over a missing dependency, add the missing dependency to 'Suggests:' in your DESCRIPTION file. See Renviron.bioc for more information. - See Martin Grigorov's blog post for how to debug Linux ARM64 related issues on a x86_64 host. |
| Package: signatureSearch |
| Version: 1.15.2 |
| Command: /home/biocbuild/R/R-4.3.1/bin/R CMD check --install=check:signatureSearch.install-out.txt --library=/home/biocbuild/R/R-4.3.1/site-library --timings signatureSearch_1.15.2.tar.gz |
| StartedAt: 2023-10-24 13:03:05 -0000 (Tue, 24 Oct 2023) |
| EndedAt: 2023-10-24 13:30:49 -0000 (Tue, 24 Oct 2023) |
| EllapsedTime: 1664.6 seconds |
| RetCode: 0 |
| Status: OK |
| CheckDir: signatureSearch.Rcheck |
| Warnings: 0 |
##############################################################################
##############################################################################
###
### Running command:
###
### /home/biocbuild/R/R-4.3.1/bin/R CMD check --install=check:signatureSearch.install-out.txt --library=/home/biocbuild/R/R-4.3.1/site-library --timings signatureSearch_1.15.2.tar.gz
###
##############################################################################
##############################################################################
* using log directory ‘/home/biocbuild/bbs-3.18-bioc/meat/signatureSearch.Rcheck’
* using R version 4.3.1 (2023-06-16)
* using platform: aarch64-unknown-linux-gnu (64-bit)
* R was compiled by
gcc (GCC) 10.3.1
GNU Fortran (GCC) 10.3.1
* running under: openEuler 22.03 (LTS-SP1)
* using session charset: UTF-8
* checking for file ‘signatureSearch/DESCRIPTION’ ... OK
* this is package ‘signatureSearch’ version ‘1.15.2’
* package encoding: UTF-8
* checking package namespace information ... OK
* checking package dependencies ... OK
* checking if this is a source package ... OK
* checking if there is a namespace ... OK
* checking for hidden files and directories ... OK
* checking for portable file names ... OK
* checking for sufficient/correct file permissions ... OK
* checking whether package ‘signatureSearch’ can be installed ... OK
* used C compiler: ‘gcc (GCC) 10.3.1’
* used C++ compiler: ‘g++ (GCC) 10.3.1’
* checking C++ specification ... NOTE
Specified C++11: please drop specification unless essential
* checking installed package size ... NOTE
installed size is 88.2Mb
sub-directories of 1Mb or more:
R 82.0Mb
data 2.0Mb
extdata 1.9Mb
libs 2.0Mb
* checking package directory ... OK
* checking ‘build’ directory ... OK
* checking DESCRIPTION meta-information ... OK
* checking top-level files ... OK
* checking for left-over files ... OK
* checking index information ... OK
* checking package subdirectories ... OK
* checking R files for non-ASCII characters ... OK
* checking R files for syntax errors ... OK
* checking whether the package can be loaded ... OK
* checking whether the package can be loaded with stated dependencies ... OK
* checking whether the package can be unloaded cleanly ... OK
* checking whether the namespace can be loaded with stated dependencies ... OK
* checking whether the namespace can be unloaded cleanly ... OK
* checking loading without being on the library search path ... OK
* checking dependencies in R code ... OK
* checking S3 generic/method consistency ... OK
* checking replacement functions ... OK
* checking foreign function calls ... OK
* checking R code for possible problems ... OK
* checking Rd files ... OK
* checking Rd metadata ... OK
* checking Rd cross-references ... OK
* checking for missing documentation entries ... OK
* checking for code/documentation mismatches ... OK
* checking Rd \usage sections ... OK
* checking Rd contents ... OK
* checking for unstated dependencies in examples ... OK
* checking contents of ‘data’ directory ... OK
* checking data for non-ASCII characters ... NOTE
Note: found 147 marked UTF-8 strings
* checking data for ASCII and uncompressed saves ... OK
* checking R/sysdata.rda ... OK
* checking line endings in C/C++/Fortran sources/headers ... OK
* checking compiled code ... NOTE
Note: information on .o files is not available
* checking files in ‘vignettes’ ... OK
* checking examples ... OK
Examples with CPU (user + system) or elapsed time > 5s
user system elapsed
set_readable 114.342 1.910 118.878
rand_query_ES 9.635 3.692 13.727
runWF 10.180 0.748 21.222
addGESSannot 3.046 0.820 7.071
get_targets 2.636 0.606 5.647
dtnetplot 2.505 0.464 5.389
getSig 1.751 0.365 5.679
* checking for unstated dependencies in ‘tests’ ... OK
* checking tests ...
Running ‘testthat.R’
OK
* checking for unstated dependencies in vignettes ... OK
* checking package vignettes in ‘inst/doc’ ... OK
* checking running R code from vignettes ...
‘signatureSearch.Rmd’ using ‘UTF-8’... OK
NONE
* checking re-building of vignette outputs ... OK
* checking PDF version of manual ... OK
* DONE
Status: 4 NOTEs
See
‘/home/biocbuild/bbs-3.18-bioc/meat/signatureSearch.Rcheck/00check.log’
for details.
signatureSearch.Rcheck/00install.out
##############################################################################
##############################################################################
###
### Running command:
###
### /home/biocbuild/R/R-4.3.1/bin/R CMD INSTALL signatureSearch
###
##############################################################################
##############################################################################
* installing to library ‘/home/biocbuild/R/R-4.3.1/site-library’
* installing *source* package ‘signatureSearch’ ...
** using staged installation
** libs
using C compiler: ‘gcc (GCC) 10.3.1’
using C++ compiler: ‘g++ (GCC) 10.3.1’
using C++11
g++ -std=gnu++11 -I"/home/biocbuild/R/R-4.3.1/include" -DNDEBUG -I'/home/biocbuild/R/R-4.3.1/site-library/Rcpp/include' -I/usr/local/include -fPIC -g -O2 -Wall -c RcppExports.cpp -o RcppExports.o
g++ -std=gnu++11 -I"/home/biocbuild/R/R-4.3.1/include" -DNDEBUG -I'/home/biocbuild/R/R-4.3.1/site-library/Rcpp/include' -I/usr/local/include -fPIC -g -O2 -Wall -c fastGSEA.cpp -o fastGSEA.o
fastGSEA.cpp: In function ‘Rcpp::NumericVector calcGseaStatBatchCpp(const NumericVector&, const List&, const IntegerVector&)’:
fastGSEA.cpp:444:27: warning: comparison of integer expressions of different signedness: ‘int’ and ‘std::vector<int>::size_type’ {aka ‘long unsigned int’} [-Wsign-compare]
444 | for (int j = 0; j < S.size(); ++j) {
| ~~^~~~~~~~~~
gcc -I"/home/biocbuild/R/R-4.3.1/include" -DNDEBUG -I'/home/biocbuild/R/R-4.3.1/site-library/Rcpp/include' -I/usr/local/include -fPIC -g -O2 -Wall -c fgsea_init.c -o fgsea_init.o
g++ -std=gnu++11 -shared -L/home/biocbuild/R/R-4.3.1/lib -L/usr/local/lib -o signatureSearch.so RcppExports.o fastGSEA.o fgsea_init.o -L/home/biocbuild/R/R-4.3.1/lib -lR
installing to /home/biocbuild/R/R-4.3.1/site-library/00LOCK-signatureSearch/00new/signatureSearch/libs
** R
** data
** inst
** byte-compile and prepare package for lazy loading
** help
*** installing help indices
** building package indices
** installing vignettes
** testing if installed package can be loaded from temporary location
** checking absolute paths in shared objects and dynamic libraries
** testing if installed package can be loaded from final location
** testing if installed package keeps a record of temporary installation path
* DONE (signatureSearch)
signatureSearch.Rcheck/tests/testthat.Rout
R version 4.3.1 (2023-06-16) -- "Beagle Scouts"
Copyright (C) 2023 The R Foundation for Statistical Computing
Platform: aarch64-unknown-linux-gnu (64-bit)
R is free software and comes with ABSOLUTELY NO WARRANTY.
You are welcome to redistribute it under certain conditions.
Type 'license()' or 'licence()' for distribution details.
R is a collaborative project with many contributors.
Type 'contributors()' for more information and
'citation()' on how to cite R or R packages in publications.
Type 'demo()' for some demos, 'help()' for on-line help, or
'help.start()' for an HTML browser interface to help.
Type 'q()' to quit R.
> # library(testthat)
> # library(signatureSearch)
> #
> # test_check("signatureSearch")
>
> proc.time()
user system elapsed
0.198 0.020 0.204
signatureSearch.Rcheck/signatureSearch-Ex.timings
| name | user | system | elapsed | |
| addGESSannot | 3.046 | 0.820 | 7.071 | |
| addMOA | 0.332 | 0.007 | 0.341 | |
| add_pcid | 0.238 | 0.001 | 0.238 | |
| append2H5 | 0.092 | 0.011 | 0.104 | |
| build_custom_db | 0.350 | 0.009 | 0.359 | |
| cellNtestPlot | 0.962 | 0.164 | 2.550 | |
| cell_info | 0.025 | 0.010 | 0.034 | |
| cell_info2 | 0.048 | 0.016 | 0.064 | |
| chembl_moa_list | 0.014 | 0.000 | 0.014 | |
| clue_moa_list | 0.009 | 0.000 | 0.009 | |
| comp_fea_res | 0.287 | 0.020 | 0.307 | |
| create_empty_h5 | 0.028 | 0.008 | 0.036 | |
| dim-methods | 0.011 | 0.004 | 0.015 | |
| drug_cell_ranks | 0.010 | 0.008 | 0.018 | |
| drugs-methods | 0.003 | 0.000 | 0.003 | |
| drugs10 | 0.000 | 0.002 | 0.002 | |
| dtnetplot | 2.505 | 0.464 | 5.389 | |
| enrichGO2 | 0.000 | 0.001 | 0.000 | |
| enrichKEGG2 | 0 | 0 | 0 | |
| enrichMOA | 0.049 | 0.004 | 0.054 | |
| enrichReactome | 0.001 | 0.000 | 0.000 | |
| fea | 0.003 | 0.000 | 0.002 | |
| feaResult | 0.003 | 0.000 | 0.003 | |
| gctx2h5 | 0.446 | 0.075 | 0.527 | |
| gess | 0.000 | 0.002 | 0.001 | |
| gessResult | 0.000 | 0.003 | 0.003 | |
| gess_res_vis | 0.389 | 0.041 | 0.430 | |
| getSig | 1.751 | 0.365 | 5.679 | |
| getTreats | 0.732 | 0.140 | 3.794 | |
| get_targets | 2.636 | 0.606 | 5.647 | |
| gmt2h5 | 0.135 | 0.014 | 0.151 | |
| gseGO2 | 0.003 | 0.000 | 0.002 | |
| gseKEGG2 | 0.012 | 0.000 | 0.013 | |
| gseReactome | 0.014 | 0.000 | 0.014 | |
| head-methods | 0.009 | 0.000 | 0.009 | |
| lincs_expr_inst_info | 0.066 | 0.000 | 0.065 | |
| lincs_pert_info | 0.392 | 0.016 | 0.408 | |
| lincs_pert_info2 | 1.801 | 0.096 | 1.901 | |
| lincs_sig_info | 0.074 | 0.015 | 0.090 | |
| list2df | 0.005 | 0.000 | 0.005 | |
| list_rev | 0.003 | 0.000 | 0.003 | |
| mabsGO | 0.003 | 0.000 | 0.003 | |
| mabsKEGG | 0.012 | 0.000 | 0.012 | |
| mabsReactome | 0.011 | 0.000 | 0.011 | |
| matrix2h5 | 0.097 | 0.028 | 0.124 | |
| meanExpr2h5 | 0.615 | 0.199 | 0.816 | |
| moa_conn | 0.045 | 0.000 | 0.046 | |
| parse_gctx | 0.103 | 0.004 | 0.106 | |
| qSig | 1.460 | 0.179 | 4.939 | |
| rand_query_ES | 9.635 | 3.692 | 13.727 | |
| read_gmt | 0.004 | 0.000 | 0.004 | |
| result-methods | 0.566 | 0.192 | 0.047 | |
| runWF | 10.180 | 0.748 | 21.222 | |
| set_readable | 114.342 | 1.910 | 118.878 | |
| show-methods | 0.040 | 0.004 | 0.044 | |
| sim_score_grp | 0.010 | 0.004 | 0.014 | |
| tail-methods | 0.008 | 0.000 | 0.009 | |
| tarReduce | 0.001 | 0.000 | 0.000 | |
| targetList | 0.004 | 0.000 | 0.004 | |
| vec_char_redu | 0.000 | 0.000 | 0.001 | |