| Back to Multiple platform build/check report for BioC 3.18: simplified long |
|
This page was generated on 2024-04-17 11:38:13 -0400 (Wed, 17 Apr 2024).
| Hostname | OS | Arch (*) | R version | Installed pkgs |
|---|---|---|---|---|
| nebbiolo2 | Linux (Ubuntu 22.04.3 LTS) | x86_64 | 4.3.3 (2024-02-29) -- "Angel Food Cake" | 4676 |
| palomino4 | Windows Server 2022 Datacenter | x64 | 4.3.3 (2024-02-29 ucrt) -- "Angel Food Cake" | 4414 |
| merida1 | macOS 12.7.1 Monterey | x86_64 | 4.3.3 (2024-02-29) -- "Angel Food Cake" | 4437 |
| Click on any hostname to see more info about the system (e.g. compilers) (*) as reported by 'uname -p', except on Windows and Mac OS X | ||||
| Package 1910/2266 | Hostname | OS / Arch | INSTALL | BUILD | CHECK | BUILD BIN | ||||||||
| segmenter 1.8.0 (landing page) Mahmoud Ahmed
| nebbiolo2 | Linux (Ubuntu 22.04.3 LTS) / x86_64 | OK | OK | OK | |||||||||
| palomino4 | Windows Server 2022 Datacenter / x64 | OK | OK | OK | OK | |||||||||
| merida1 | macOS 12.7.1 Monterey / x86_64 | OK | OK | OK | OK | |||||||||
| kjohnson1 | macOS 13.6.1 Ventura / arm64 | see weekly results here | ||||||||||||
|
To the developers/maintainers of the segmenter package: - Allow up to 24 hours (and sometimes 48 hours) for your latest push to git@git.bioconductor.org:packages/segmenter.git to reflect on this report. See Troubleshooting Build Report for more information. - Use the following Renviron settings to reproduce errors and warnings. - If 'R CMD check' started to fail recently on the Linux builder(s) over a missing dependency, add the missing dependency to 'Suggests:' in your DESCRIPTION file. See Renviron.bioc for more information. |
| Package: segmenter |
| Version: 1.8.0 |
| Command: /Library/Frameworks/R.framework/Resources/bin/R CMD check --install=check:segmenter.install-out.txt --library=/Library/Frameworks/R.framework/Resources/library --no-vignettes --timings segmenter_1.8.0.tar.gz |
| StartedAt: 2024-04-16 08:44:07 -0400 (Tue, 16 Apr 2024) |
| EndedAt: 2024-04-16 09:00:35 -0400 (Tue, 16 Apr 2024) |
| EllapsedTime: 988.1 seconds |
| RetCode: 0 |
| Status: OK |
| CheckDir: segmenter.Rcheck |
| Warnings: 0 |
##############################################################################
##############################################################################
###
### Running command:
###
### /Library/Frameworks/R.framework/Resources/bin/R CMD check --install=check:segmenter.install-out.txt --library=/Library/Frameworks/R.framework/Resources/library --no-vignettes --timings segmenter_1.8.0.tar.gz
###
##############################################################################
##############################################################################
* using log directory ‘/Users/biocbuild/bbs-3.18-bioc/meat/segmenter.Rcheck’
* using R version 4.3.3 (2024-02-29)
* using platform: x86_64-apple-darwin20 (64-bit)
* R was compiled by
Apple clang version 14.0.0 (clang-1400.0.29.202)
GNU Fortran (GCC) 12.2.0
* running under: macOS Monterey 12.7.1
* using session charset: UTF-8
* using option ‘--no-vignettes’
* checking for file ‘segmenter/DESCRIPTION’ ... OK
* checking extension type ... Package
* this is package ‘segmenter’ version ‘1.8.0’
* package encoding: UTF-8
* checking package namespace information ... OK
* checking package dependencies ... OK
* checking if this is a source package ... OK
* checking if there is a namespace ... OK
* checking for hidden files and directories ... OK
* checking for portable file names ... OK
* checking for sufficient/correct file permissions ... OK
* checking whether package ‘segmenter’ can be installed ... OK
* checking installed package size ... OK
* checking package directory ... OK
* checking ‘build’ directory ... OK
* checking DESCRIPTION meta-information ... OK
* checking top-level files ... OK
* checking for left-over files ... OK
* checking index information ... OK
* checking package subdirectories ... OK
* checking R files for non-ASCII characters ... OK
* checking R files for syntax errors ... OK
* checking whether the package can be loaded ... OK
* checking whether the package can be loaded with stated dependencies ... OK
* checking whether the package can be unloaded cleanly ... OK
* checking whether the namespace can be loaded with stated dependencies ... OK
* checking whether the namespace can be unloaded cleanly ... OK
* checking dependencies in R code ... OK
* checking S3 generic/method consistency ... OK
* checking replacement functions ... OK
* checking foreign function calls ... OK
* checking R code for possible problems ... OK
* checking Rd files ... OK
* checking Rd metadata ... OK
* checking Rd cross-references ... OK
* checking for missing documentation entries ... OK
* checking for code/documentation mismatches ... OK
* checking Rd \usage sections ... OK
* checking Rd contents ... OK
* checking for unstated dependencies in examples ... OK
* checking contents of ‘data’ directory ... OK
* checking data for non-ASCII characters ... OK
* checking LazyData ... OK
* checking data for ASCII and uncompressed saves ... OK
* checking files in ‘vignettes’ ... OK
* checking examples ... OK
Examples with CPU (user + system) or elapsed time > 5s
user system elapsed
learn_model 47.965 2.807 28.025
annotate_segments 38.406 1.986 42.860
binarize_bam 23.195 10.266 23.461
read_bins_file 5.037 1.597 7.151
* checking for unstated dependencies in ‘tests’ ... OK
* checking tests ...
Running ‘testthat.R’
OK
* checking for unstated dependencies in vignettes ... OK
* checking package vignettes in ‘inst/doc’ ... OK
* checking running R code from vignettes ... SKIPPED
* checking re-building of vignette outputs ... SKIPPED
* checking PDF version of manual ... OK
* DONE
Status: OK
segmenter.Rcheck/00install.out
############################################################################## ############################################################################## ### ### Running command: ### ### /Library/Frameworks/R.framework/Resources/bin/R CMD INSTALL segmenter ### ############################################################################## ############################################################################## * installing to library ‘/Library/Frameworks/R.framework/Versions/4.3-x86_64/Resources/library’ * installing *source* package ‘segmenter’ ... ** using staged installation ** R ** data *** moving datasets to lazyload DB ** inst ** byte-compile and prepare package for lazy loading ** help *** installing help indices ** building package indices ** installing vignettes ** testing if installed package can be loaded from temporary location ** testing if installed package can be loaded from final location ** testing if installed package keeps a record of temporary installation path * DONE (segmenter)
segmenter.Rcheck/tests/testthat.Rout
R version 4.3.3 (2024-02-29) -- "Angel Food Cake"
Copyright (C) 2024 The R Foundation for Statistical Computing
Platform: x86_64-apple-darwin20 (64-bit)
R is free software and comes with ABSOLUTELY NO WARRANTY.
You are welcome to redistribute it under certain conditions.
Type 'license()' or 'licence()' for distribution details.
R is a collaborative project with many contributors.
Type 'contributors()' for more information and
'citation()' on how to cite R or R packages in publications.
Type 'demo()' for some demos, 'help()' for on-line help, or
'help.start()' for an HTML browser interface to help.
Type 'q()' to quit R.
> library(testthat)
> library(segmenter)
>
> test_check("segmenter")
[ FAIL 0 | WARN 0 | SKIP 0 | PASS 123 ]
>
> proc.time()
user system elapsed
337.417 19.265 261.323
segmenter.Rcheck/segmenter-Ex.timings
| name | user | system | elapsed | |
| accessors | 0.160 | 0.026 | 0.237 | |
| annotate_segments | 38.406 | 1.986 | 42.860 | |
| binarize_bam | 23.195 | 10.266 | 23.461 | |
| compare_models | 0.005 | 0.001 | 0.007 | |
| emissions_file | 0.000 | 0.000 | 0.001 | |
| enrichment_files | 0.000 | 0.000 | 0.001 | |
| get_frequency | 0.027 | 0.001 | 0.029 | |
| get_width | 0.914 | 1.600 | 2.629 | |
| learn_model | 47.965 | 2.807 | 28.025 | |
| methods | 0.001 | 0.002 | 0.002 | |
| model_file | 0.000 | 0.001 | 0.001 | |
| overlap_files | 0 | 0 | 0 | |
| plot_heatmap | 0.986 | 0.043 | 1.068 | |
| read_bam_file | 0.040 | 0.005 | 0.049 | |
| read_bins_file | 5.037 | 1.597 | 7.151 | |
| read_cellmark_file | 0.004 | 0.002 | 0.006 | |
| read_chromsize_file | 0.004 | 0.004 | 0.009 | |
| read_emissions_file | 0.003 | 0.001 | 0.004 | |
| read_enrichment_file | 0.003 | 0.002 | 0.006 | |
| read_model_file | 0.009 | 0.006 | 0.017 | |
| read_overlap_file | 0.003 | 0.001 | 0.005 | |
| read_segements_file | 0.054 | 0.002 | 0.061 | |
| read_transitions_file | 0.002 | 0.001 | 0.002 | |
| segments_files | 0.000 | 0.000 | 0.001 | |
| tidy_ranges | 0.064 | 0.002 | 0.070 | |
| transitions_file | 0.000 | 0.000 | 0.001 | |