| Back to Multiple platform build/check report for BioC 3.18: simplified long |
|
This page was generated on 2023-10-24 11:41:30 -0400 (Tue, 24 Oct 2023).
| Hostname | OS | Arch (*) | R version | Installed pkgs |
|---|---|---|---|---|
| nebbiolo2 | Linux (Ubuntu 22.04.2 LTS) | x86_64 | 4.3.1 (2023-06-16) -- "Beagle Scouts" | 4724 |
| palomino4 | Windows Server 2022 Datacenter | x64 | 4.3.1 (2023-06-16 ucrt) -- "Beagle Scouts" | 4459 |
| lconway | macOS 12.6.5 Monterey | x86_64 | 4.3.1 Patched (2023-06-17 r84564) -- "Beagle Scouts" | 4473 |
| kunpeng2 | Linux (openEuler 22.03 LTS-SP1) | aarch64 | 4.3.1 (2023-06-16) -- "Beagle Scouts" | 4461 |
| Click on any hostname to see more info about the system (e.g. compilers) (*) as reported by 'uname -p', except on Windows and Mac OS X | ||||
| Package 1903/2264 | Hostname | OS / Arch | INSTALL | BUILD | CHECK | BUILD BIN | ||||||||
| scTreeViz 1.7.0 (landing page) Jayaram Kancherla
| nebbiolo2 | Linux (Ubuntu 22.04.2 LTS) / x86_64 | OK | OK | OK | |||||||||
| palomino4 | Windows Server 2022 Datacenter / x64 | OK | OK | OK | OK | |||||||||
| lconway | macOS 12.6.5 Monterey / x86_64 | OK | OK | OK | OK | |||||||||
| kjohnson1 | macOS 13.3.1 Ventura / arm64 | see weekly results here | ||||||||||||
| kunpeng2 | Linux (openEuler 22.03 LTS-SP1) / aarch64 | OK | OK | OK | ||||||||||
|
To the developers/maintainers of the scTreeViz package: - Allow up to 24 hours (and sometimes 48 hours) for your latest push to git@git.bioconductor.org:packages/scTreeViz.git to reflect on this report. See Troubleshooting Build Report for more information. - Use the following Renviron settings to reproduce errors and warnings. - If 'R CMD check' started to fail recently on the Linux builder(s) over a missing dependency, add the missing dependency to 'Suggests:' in your DESCRIPTION file. See Renviron.bioc for more information. - See Martin Grigorov's blog post for how to debug Linux ARM64 related issues on a x86_64 host. |
| Package: scTreeViz |
| Version: 1.7.0 |
| Command: /home/biocbuild/R/R-4.3.1/bin/R CMD check --install=check:scTreeViz.install-out.txt --library=/home/biocbuild/R/R-4.3.1/site-library --timings scTreeViz_1.7.0.tar.gz |
| StartedAt: 2023-10-24 12:46:41 -0000 (Tue, 24 Oct 2023) |
| EndedAt: 2023-10-24 13:01:12 -0000 (Tue, 24 Oct 2023) |
| EllapsedTime: 870.3 seconds |
| RetCode: 0 |
| Status: OK |
| CheckDir: scTreeViz.Rcheck |
| Warnings: 0 |
##############################################################################
##############################################################################
###
### Running command:
###
### /home/biocbuild/R/R-4.3.1/bin/R CMD check --install=check:scTreeViz.install-out.txt --library=/home/biocbuild/R/R-4.3.1/site-library --timings scTreeViz_1.7.0.tar.gz
###
##############################################################################
##############################################################################
* using log directory ‘/home/biocbuild/bbs-3.18-bioc/meat/scTreeViz.Rcheck’
* using R version 4.3.1 (2023-06-16)
* using platform: aarch64-unknown-linux-gnu (64-bit)
* R was compiled by
gcc (GCC) 10.3.1
GNU Fortran (GCC) 10.3.1
* running under: openEuler 22.03 (LTS-SP1)
* using session charset: UTF-8
* checking for file ‘scTreeViz/DESCRIPTION’ ... OK
* checking extension type ... Package
* this is package ‘scTreeViz’ version ‘1.7.0’
* package encoding: UTF-8
* checking package namespace information ... OK
* checking package dependencies ... OK
* checking if this is a source package ... OK
* checking if there is a namespace ... OK
* checking for hidden files and directories ... OK
* checking for portable file names ... OK
* checking for sufficient/correct file permissions ... OK
* checking whether package ‘scTreeViz’ can be installed ... OK
* checking installed package size ... OK
* checking package directory ... OK
* checking ‘build’ directory ... OK
* checking DESCRIPTION meta-information ... OK
* checking top-level files ... OK
* checking for left-over files ... OK
* checking index information ... OK
* checking package subdirectories ... OK
* checking R files for non-ASCII characters ... OK
* checking R files for syntax errors ... OK
* checking whether the package can be loaded ... OK
* checking whether the package can be loaded with stated dependencies ... OK
* checking whether the package can be unloaded cleanly ... OK
* checking whether the namespace can be loaded with stated dependencies ... OK
* checking whether the namespace can be unloaded cleanly ... OK
* checking loading without being on the library search path ... OK
* checking dependencies in R code ... OK
* checking S3 generic/method consistency ... OK
* checking replacement functions ... OK
* checking foreign function calls ... OK
* checking R code for possible problems ... NOTE
.generate_hierarchy_tree: no visible binding for global variable
'otu_index'
.generate_leaf_of_table: no visible binding for global variable 'leaf'
.generate_leaf_of_table: no visible binding for global variable
'otu_index'
.generate_leaf_of_table: no visible binding for global variable 'id'
.generate_node_ids : <anonymous>: no visible global function definition
for '.'
.generate_node_ids : <anonymous>: no visible binding for global
variable 'otu_index'
.generate_nodes_table: no visible binding for global variable 'id'
.generate_nodes_table: no visible binding for global variable 'lineage'
.generate_nodes_table: no visible binding for global variable
'node_label'
.generate_nodes_table: no visible binding for global variable 'level'
.preprocessAndCreateTreeViz: no visible global function definition for
'chracter'
getNodes,TreeIndex: no visible binding for global variable 'level'
getNodes,TreeIndex: no visible binding for global variable 'id'
splitAt,TreeIndex: no visible binding for global variable 'level'
splitAt,TreeIndex: no visible binding for global variable 'id'
splitAt,TreeIndex: no visible binding for global variable 'lineage'
splitAt,TreeIndex: no visible binding for global variable 'leaf'
splitAt,TreeIndex: no visible binding for global variable 'otu_index'
splitAt,TreeIndex: no visible global function definition for '.'
splitAt,TreeIndex: no visible binding for global variable 'node_label'
Undefined global functions or variables:
. chracter id leaf level lineage node_label otu_index
* checking Rd files ... OK
* checking Rd metadata ... OK
* checking Rd cross-references ... OK
* checking for missing documentation entries ... OK
* checking for code/documentation mismatches ... OK
* checking Rd \usage sections ... OK
* checking Rd contents ... OK
* checking for unstated dependencies in examples ... OK
* checking files in ‘vignettes’ ... OK
* checking examples ... OK
Examples with CPU (user + system) or elapsed time > 5s
user system elapsed
TreeIndex-methods 29.417 0.295 29.675
TreeViz 14.194 0.136 14.311
TreeIndex 12.964 0.052 12.995
createFromSCE 10.866 0.068 10.949
* checking for unstated dependencies in ‘tests’ ... OK
* checking tests ...
Running ‘testthat.R’
OK
* checking for unstated dependencies in vignettes ... OK
* checking package vignettes in ‘inst/doc’ ... OK
* checking running R code from vignettes ...
‘ExploreTreeViz.Rmd’ using ‘UTF-8’... OK
NONE
* checking re-building of vignette outputs ... OK
* checking PDF version of manual ... OK
* DONE
Status: 1 NOTE
See
‘/home/biocbuild/bbs-3.18-bioc/meat/scTreeViz.Rcheck/00check.log’
for details.
scTreeViz.Rcheck/00install.out
############################################################################## ############################################################################## ### ### Running command: ### ### /home/biocbuild/R/R-4.3.1/bin/R CMD INSTALL scTreeViz ### ############################################################################## ############################################################################## * installing to library ‘/home/biocbuild/R/R-4.3.1/site-library’ * installing *source* package ‘scTreeViz’ ... ** using staged installation ** R ** byte-compile and prepare package for lazy loading ** help *** installing help indices ** building package indices ** installing vignettes ** testing if installed package can be loaded from temporary location ** testing if installed package can be loaded from final location ** testing if installed package keeps a record of temporary installation path * DONE (scTreeViz)
scTreeViz.Rcheck/tests/testthat.Rout
R version 4.3.1 (2023-06-16) -- "Beagle Scouts"
Copyright (C) 2023 The R Foundation for Statistical Computing
Platform: aarch64-unknown-linux-gnu (64-bit)
R is free software and comes with ABSOLUTELY NO WARRANTY.
You are welcome to redistribute it under certain conditions.
Type 'license()' or 'licence()' for distribution details.
R is a collaborative project with many contributors.
Type 'contributors()' for more information and
'citation()' on how to cite R or R packages in publications.
Type 'demo()' for some demos, 'help()' for on-line help, or
'help.start()' for an HTML browser interface to help.
Type 'q()' to quit R.
> library(testthat)
> library(scTreeViz)
Loading required package: epivizr
Loading required package: SummarizedExperiment
Loading required package: MatrixGenerics
Loading required package: matrixStats
Attaching package: 'MatrixGenerics'
The following objects are masked from 'package:matrixStats':
colAlls, colAnyNAs, colAnys, colAvgsPerRowSet, colCollapse,
colCounts, colCummaxs, colCummins, colCumprods, colCumsums,
colDiffs, colIQRDiffs, colIQRs, colLogSumExps, colMadDiffs,
colMads, colMaxs, colMeans2, colMedians, colMins, colOrderStats,
colProds, colQuantiles, colRanges, colRanks, colSdDiffs, colSds,
colSums2, colTabulates, colVarDiffs, colVars, colWeightedMads,
colWeightedMeans, colWeightedMedians, colWeightedSds,
colWeightedVars, rowAlls, rowAnyNAs, rowAnys, rowAvgsPerColSet,
rowCollapse, rowCounts, rowCummaxs, rowCummins, rowCumprods,
rowCumsums, rowDiffs, rowIQRDiffs, rowIQRs, rowLogSumExps,
rowMadDiffs, rowMads, rowMaxs, rowMeans2, rowMedians, rowMins,
rowOrderStats, rowProds, rowQuantiles, rowRanges, rowRanks,
rowSdDiffs, rowSds, rowSums2, rowTabulates, rowVarDiffs, rowVars,
rowWeightedMads, rowWeightedMeans, rowWeightedMedians,
rowWeightedSds, rowWeightedVars
Loading required package: GenomicRanges
Loading required package: stats4
Loading required package: BiocGenerics
Attaching package: 'BiocGenerics'
The following objects are masked from 'package:stats':
IQR, mad, sd, var, xtabs
The following objects are masked from 'package:base':
Filter, Find, Map, Position, Reduce, anyDuplicated, aperm, append,
as.data.frame, basename, cbind, colnames, dirname, do.call,
duplicated, eval, evalq, get, grep, grepl, intersect, is.unsorted,
lapply, mapply, match, mget, order, paste, pmax, pmax.int, pmin,
pmin.int, rank, rbind, rownames, sapply, setdiff, sort, table,
tapply, union, unique, unsplit, which.max, which.min
Loading required package: S4Vectors
Attaching package: 'S4Vectors'
The following object is masked from 'package:utils':
findMatches
The following objects are masked from 'package:base':
I, expand.grid, unname
Loading required package: IRanges
Loading required package: GenomeInfoDb
Loading required package: Biobase
Welcome to Bioconductor
Vignettes contain introductory material; view with
'browseVignettes()'. To cite Bioconductor, see
'citation("Biobase")', and for packages 'citation("pkgname")'.
Attaching package: 'Biobase'
The following object is masked from 'package:MatrixGenerics':
rowMedians
The following objects are masked from 'package:matrixStats':
anyMissing, rowMedians
>
> test_check("scTreeViz")
[1] "root" "3.cluster3" "5.cluster5" "6.cluster6" "samples"
[1] "root" "3.cluster3" "5.cluster5"
[1] "1.cluster1" "2.cluster2" "3.cluster3" "samples"
[ FAIL 0 | WARN 0 | SKIP 2 | PASS 7 ]
══ Skipped tests (2) ═══════════════════════════════════════════════════════════
• conflict between new Seurat and Summarized Experiment (1):
'test-TreeViz.R:77:3'
• need data here (1): 'tests-start_treeviz.R:6:3'
[ FAIL 0 | WARN 0 | SKIP 2 | PASS 7 ]
>
> proc.time()
user system elapsed
32.134 1.056 33.238
scTreeViz.Rcheck/scTreeViz-Ex.timings
| name | user | system | elapsed | |
| ClusterHierarchy | 0.416 | 0.008 | 0.425 | |
| TreeIndex-methods | 29.417 | 0.295 | 29.675 | |
| TreeIndex | 12.964 | 0.052 | 12.995 | |
| TreeViz-methods | 0 | 0 | 0 | |
| TreeViz | 14.194 | 0.136 | 14.311 | |
| createFromSCE | 10.866 | 0.068 | 10.949 | |
| createFromSeurat | 0.703 | 0.056 | 0.760 | |
| createTreeViz | 0.445 | 0.035 | 0.483 | |
| startTreeviz | 0.167 | 0.008 | 0.175 | |