| Back to Multiple platform build/check report for BioC 3.18: simplified long |
|
This page was generated on 2023-10-24 11:41:29 -0400 (Tue, 24 Oct 2023).
| Hostname | OS | Arch (*) | R version | Installed pkgs |
|---|---|---|---|---|
| nebbiolo2 | Linux (Ubuntu 22.04.2 LTS) | x86_64 | 4.3.1 (2023-06-16) -- "Beagle Scouts" | 4724 |
| palomino4 | Windows Server 2022 Datacenter | x64 | 4.3.1 (2023-06-16 ucrt) -- "Beagle Scouts" | 4459 |
| lconway | macOS 12.6.5 Monterey | x86_64 | 4.3.1 Patched (2023-06-17 r84564) -- "Beagle Scouts" | 4473 |
| kunpeng2 | Linux (openEuler 22.03 LTS-SP1) | aarch64 | 4.3.1 (2023-06-16) -- "Beagle Scouts" | 4461 |
| Click on any hostname to see more info about the system (e.g. compilers) (*) as reported by 'uname -p', except on Windows and Mac OS X | ||||
| Package 1861/2264 | Hostname | OS / Arch | INSTALL | BUILD | CHECK | BUILD BIN | ||||||||
| scClassify 1.13.0 (landing page) Yingxin Lin
| nebbiolo2 | Linux (Ubuntu 22.04.2 LTS) / x86_64 | OK | OK | OK | |||||||||
| palomino4 | Windows Server 2022 Datacenter / x64 | OK | OK | OK | OK | |||||||||
| lconway | macOS 12.6.5 Monterey / x86_64 | OK | OK | OK | OK | |||||||||
| kjohnson1 | macOS 13.3.1 Ventura / arm64 | see weekly results here | ||||||||||||
| kunpeng2 | Linux (openEuler 22.03 LTS-SP1) / aarch64 | OK | OK | OK | ||||||||||
|
To the developers/maintainers of the scClassify package: - Allow up to 24 hours (and sometimes 48 hours) for your latest push to git@git.bioconductor.org:packages/scClassify.git to reflect on this report. See Troubleshooting Build Report for more information. - Use the following Renviron settings to reproduce errors and warnings. - If 'R CMD check' started to fail recently on the Linux builder(s) over a missing dependency, add the missing dependency to 'Suggests:' in your DESCRIPTION file. See Renviron.bioc for more information. - See Martin Grigorov's blog post for how to debug Linux ARM64 related issues on a x86_64 host. |
| Package: scClassify |
| Version: 1.13.0 |
| Command: /home/biocbuild/R/R-4.3.1/bin/R CMD check --install=check:scClassify.install-out.txt --library=/home/biocbuild/R/R-4.3.1/site-library --timings scClassify_1.13.0.tar.gz |
| StartedAt: 2023-10-24 12:28:16 -0000 (Tue, 24 Oct 2023) |
| EndedAt: 2023-10-24 12:39:46 -0000 (Tue, 24 Oct 2023) |
| EllapsedTime: 690.0 seconds |
| RetCode: 0 |
| Status: OK |
| CheckDir: scClassify.Rcheck |
| Warnings: 0 |
##############################################################################
##############################################################################
###
### Running command:
###
### /home/biocbuild/R/R-4.3.1/bin/R CMD check --install=check:scClassify.install-out.txt --library=/home/biocbuild/R/R-4.3.1/site-library --timings scClassify_1.13.0.tar.gz
###
##############################################################################
##############################################################################
* using log directory ‘/home/biocbuild/bbs-3.18-bioc/meat/scClassify.Rcheck’
* using R version 4.3.1 (2023-06-16)
* using platform: aarch64-unknown-linux-gnu (64-bit)
* R was compiled by
gcc (GCC) 10.3.1
GNU Fortran (GCC) 10.3.1
* running under: openEuler 22.03 (LTS-SP1)
* using session charset: UTF-8
* checking for file ‘scClassify/DESCRIPTION’ ... OK
* checking extension type ... Package
* this is package ‘scClassify’ version ‘1.13.0’
* package encoding: UTF-8
* checking package namespace information ... OK
* checking package dependencies ... OK
* checking if this is a source package ... OK
* checking if there is a namespace ... OK
* checking for hidden files and directories ... OK
* checking for portable file names ... OK
* checking for sufficient/correct file permissions ... OK
* checking whether package ‘scClassify’ can be installed ... OK
* checking installed package size ... OK
* checking package directory ... OK
* checking ‘build’ directory ... OK
* checking DESCRIPTION meta-information ... OK
* checking top-level files ... OK
* checking for left-over files ... OK
* checking index information ... OK
* checking package subdirectories ... OK
* checking R files for non-ASCII characters ... OK
* checking R files for syntax errors ... OK
* checking whether the package can be loaded ... OK
* checking whether the package can be loaded with stated dependencies ... OK
* checking whether the package can be unloaded cleanly ... OK
* checking whether the namespace can be loaded with stated dependencies ... OK
* checking whether the namespace can be unloaded cleanly ... OK
* checking loading without being on the library search path ... OK
* checking dependencies in R code ... OK
* checking S3 generic/method consistency ... OK
* checking replacement functions ... OK
* checking foreign function calls ... OK
* checking R code for possible problems ... OK
* checking Rd files ... OK
* checking Rd metadata ... OK
* checking Rd cross-references ... OK
* checking for missing documentation entries ... OK
* checking for code/documentation mismatches ... OK
* checking Rd \usage sections ... OK
* checking Rd contents ... OK
* checking for unstated dependencies in examples ... OK
* checking contents of ‘data’ directory ... OK
* checking data for non-ASCII characters ... OK
* checking data for ASCII and uncompressed saves ... OK
* checking files in ‘vignettes’ ... OK
* checking examples ... OK
Examples with CPU (user + system) or elapsed time > 5s
user system elapsed
runSampleCal 136.390 3.975 139.174
predict_scClassifyJoint 29.378 0.436 29.175
predict_scClassify 18.605 0.990 18.513
scClassify 18.309 0.364 18.318
* checking for unstated dependencies in vignettes ... OK
* checking package vignettes in ‘inst/doc’ ... OK
* checking running R code from vignettes ...
‘pretrainedModel.Rmd’ using ‘UTF-8’... OK
‘scClassify.Rmd’ using ‘UTF-8’... OK
NONE
* checking re-building of vignette outputs ... OK
* checking PDF version of manual ... OK
* DONE
Status: OK
scClassify.Rcheck/00install.out
############################################################################## ############################################################################## ### ### Running command: ### ### /home/biocbuild/R/R-4.3.1/bin/R CMD INSTALL scClassify ### ############################################################################## ############################################################################## * installing to library ‘/home/biocbuild/R/R-4.3.1/site-library’ * installing *source* package ‘scClassify’ ... ** using staged installation ** R ** data ** inst ** byte-compile and prepare package for lazy loading ** help *** installing help indices *** copying figures ** building package indices ** installing vignettes ** testing if installed package can be loaded from temporary location ** testing if installed package can be loaded from final location ** testing if installed package keeps a record of temporary installation path * DONE (scClassify)
scClassify.Rcheck/scClassify-Ex.timings
| name | user | system | elapsed | |
| cellTypeTrain | 0.091 | 0.000 | 0.090 | |
| cellTypeTree | 0.085 | 0.000 | 0.085 | |
| features | 0.077 | 0.004 | 0.082 | |
| getN | 0.977 | 0.020 | 0.999 | |
| learningCurve | 0.111 | 0.004 | 0.115 | |
| model | 0.483 | 0.223 | 0.708 | |
| modelweights | 0.076 | 0.000 | 0.077 | |
| name | 0.075 | 0.000 | 0.075 | |
| plotCellTypeTree | 0.371 | 0.004 | 0.376 | |
| predict_scClassify | 18.605 | 0.990 | 18.513 | |
| predict_scClassifyJoint | 29.378 | 0.436 | 29.175 | |
| runHOPACH | 0.869 | 0.023 | 0.895 | |
| runSampleCal | 136.390 | 3.975 | 139.174 | |
| scClassify | 18.309 | 0.364 | 18.318 | |
| scClassifyTrainModelList | 0.116 | 0.004 | 0.120 | |
| train_scClassify | 2.184 | 0.052 | 2.240 | |