Back to Multiple platform build/check report for BioC 3.18: simplified long |
|
This page was generated on 2023-11-02 11:41:07 -0400 (Thu, 02 Nov 2023).
Hostname | OS | Arch (*) | R version | Installed pkgs |
---|---|---|---|---|
nebbiolo2 | Linux (Ubuntu 22.04.2 LTS) | x86_64 | 4.3.1 (2023-06-16) -- "Beagle Scouts" | 4729 |
palomino4 | Windows Server 2022 Datacenter | x64 | 4.3.1 (2023-06-16 ucrt) -- "Beagle Scouts" | 4463 |
lconway | macOS 12.6.5 Monterey | x86_64 | 4.3.1 Patched (2023-06-17 r84564) -- "Beagle Scouts" | 4478 |
kunpeng2 | Linux (openEuler 22.03 LTS-SP1) | aarch64 | 4.3.1 (2023-06-16) -- "Beagle Scouts" | 4464 |
Click on any hostname to see more info about the system (e.g. compilers) (*) as reported by 'uname -p', except on Windows and Mac OS X |
Package 1643/2266 | Hostname | OS / Arch | INSTALL | BUILD | CHECK | BUILD BIN | ||||||||
qvalue 2.34.0 (landing page) John D. Storey
| nebbiolo2 | Linux (Ubuntu 22.04.2 LTS) / x86_64 | OK | OK | OK | ![]() | ||||||||
palomino4 | Windows Server 2022 Datacenter / x64 | OK | OK | OK | OK | ![]() | ||||||||
lconway | macOS 12.6.5 Monterey / x86_64 | OK | OK | OK | OK | ![]() | ||||||||
kjohnson1 | macOS 13.6.1 Ventura / arm64 | see weekly results here | ||||||||||||
kunpeng2 | Linux (openEuler 22.03 LTS-SP1) / aarch64 | OK | OK | OK | ||||||||||
To the developers/maintainers of the qvalue package: - Allow up to 24 hours (and sometimes 48 hours) for your latest push to git@git.bioconductor.org:packages/qvalue.git to reflect on this report. See Troubleshooting Build Report for more information. - Use the following Renviron settings to reproduce errors and warnings. - If 'R CMD check' started to fail recently on the Linux builder(s) over a missing dependency, add the missing dependency to 'Suggests:' in your DESCRIPTION file. See Renviron.bioc for more information. - See Martin Grigorov's blog post for how to debug Linux ARM64 related issues on a x86_64 host. |
Package: qvalue |
Version: 2.34.0 |
Command: /home/biocbuild/R/R-4.3.1/bin/R CMD check --install=check:qvalue.install-out.txt --library=/home/biocbuild/R/R-4.3.1/site-library --no-vignettes --timings qvalue_2.34.0.tar.gz |
StartedAt: 2023-11-02 13:25:58 -0000 (Thu, 02 Nov 2023) |
EndedAt: 2023-11-02 13:26:41 -0000 (Thu, 02 Nov 2023) |
EllapsedTime: 43.1 seconds |
RetCode: 0 |
Status: OK |
CheckDir: qvalue.Rcheck |
Warnings: 0 |
############################################################################## ############################################################################## ### ### Running command: ### ### /home/biocbuild/R/R-4.3.1/bin/R CMD check --install=check:qvalue.install-out.txt --library=/home/biocbuild/R/R-4.3.1/site-library --no-vignettes --timings qvalue_2.34.0.tar.gz ### ############################################################################## ############################################################################## * using log directory ‘/home/biocbuild/bbs-3.18-bioc/meat/qvalue.Rcheck’ * using R version 4.3.1 (2023-06-16) * using platform: aarch64-unknown-linux-gnu (64-bit) * R was compiled by gcc (GCC) 10.3.1 GNU Fortran (GCC) 10.3.1 * running under: openEuler 22.03 (LTS-SP1) * using session charset: UTF-8 * using option ‘--no-vignettes’ * checking for file ‘qvalue/DESCRIPTION’ ... OK * checking extension type ... Package * this is package ‘qvalue’ version ‘2.34.0’ * checking package namespace information ... OK * checking package dependencies ... OK * checking if this is a source package ... OK * checking if there is a namespace ... OK * checking for hidden files and directories ... OK * checking for portable file names ... OK * checking for sufficient/correct file permissions ... OK * checking whether package ‘qvalue’ can be installed ... OK * checking installed package size ... OK * checking package directory ... OK * checking ‘build’ directory ... OK * checking DESCRIPTION meta-information ... OK * checking top-level files ... OK * checking for left-over files ... OK * checking index information ... OK * checking package subdirectories ... OK * checking R files for non-ASCII characters ... OK * checking R files for syntax errors ... OK * checking whether the package can be loaded ... OK * checking whether the package can be loaded with stated dependencies ... OK * checking whether the package can be unloaded cleanly ... OK * checking whether the namespace can be loaded with stated dependencies ... OK * checking whether the namespace can be unloaded cleanly ... OK * checking loading without being on the library search path ... OK * checking dependencies in R code ... OK * checking S3 generic/method consistency ... OK * checking replacement functions ... OK * checking foreign function calls ... OK * checking R code for possible problems ... NOTE hist.qvalue: no visible binding for global variable ‘density’ lfdr: no visible global function definition for ‘qnorm’ lfdr: no visible global function definition for ‘density’ lfdr: no visible global function definition for ‘smooth.spline’ lfdr: no visible global function definition for ‘predict’ lfdr: no visible global function definition for ‘dnorm’ pi0est: no visible global function definition for ‘smooth.spline’ pi0est: no visible global function definition for ‘predict’ pi0est: no visible global function definition for ‘quantile’ plot.qvalue: no visible global function definition for ‘quantile’ write.qvalue: no visible global function definition for ‘write.table’ Undefined global functions or variables: density dnorm predict qnorm quantile smooth.spline write.table Consider adding importFrom("stats", "density", "dnorm", "predict", "qnorm", "quantile", "smooth.spline") importFrom("utils", "write.table") to your NAMESPACE file. * checking Rd files ... OK * checking Rd metadata ... OK * checking Rd cross-references ... OK * checking for missing documentation entries ... OK * checking for code/documentation mismatches ... OK * checking Rd \usage sections ... OK * checking Rd contents ... OK * checking for unstated dependencies in examples ... OK * checking contents of ‘data’ directory ... OK * checking data for non-ASCII characters ... OK * checking data for ASCII and uncompressed saves ... OK * checking installed files from ‘inst/doc’ ... OK * checking files in ‘vignettes’ ... OK * checking examples ... OK * checking for unstated dependencies in vignettes ... OK * checking package vignettes in ‘inst/doc’ ... OK * checking running R code from vignettes ... SKIPPED * checking re-building of vignette outputs ... SKIPPED * checking PDF version of manual ... OK * DONE Status: 1 NOTE See ‘/home/biocbuild/bbs-3.18-bioc/meat/qvalue.Rcheck/00check.log’ for details.
qvalue.Rcheck/00install.out
############################################################################## ############################################################################## ### ### Running command: ### ### /home/biocbuild/R/R-4.3.1/bin/R CMD INSTALL qvalue ### ############################################################################## ############################################################################## * installing to library ‘/home/biocbuild/R/R-4.3.1/site-library’ * installing *source* package ‘qvalue’ ... ** using staged installation ** R ** data ** inst ** byte-compile and prepare package for lazy loading ** help *** installing help indices ** building package indices ** installing vignettes ** testing if installed package can be loaded from temporary location ** testing if installed package can be loaded from final location ** testing if installed package keeps a record of temporary installation path * DONE (qvalue)
qvalue.Rcheck/qvalue-Ex.timings
name | user | system | elapsed | |
empPvals | 0.122 | 0.004 | 0.126 | |
hedenfalk | 1.551 | 0.072 | 1.626 | |
hist.qvalue | 0.534 | 0.012 | 0.547 | |
lfdr | 0.439 | 0.016 | 0.456 | |
pi0est | 1.233 | 0.004 | 1.240 | |
plot.qvalue | 0.961 | 0.036 | 1.000 | |
qvalue | 1.165 | 0.028 | 1.196 | |
summary.qvalue | 0.027 | 0.004 | 0.030 | |
write.qvalue | 0.046 | 0.000 | 0.046 | |