Back to Multiple platform build/check report for BioC 3.18: simplified long |
|
This page was generated on 2024-03-04 11:37:40 -0500 (Mon, 04 Mar 2024).
Hostname | OS | Arch (*) | R version | Installed pkgs |
---|---|---|---|---|
nebbiolo2 | Linux (Ubuntu 22.04.3 LTS) | x86_64 | 4.3.2 Patched (2023-11-13 r85521) -- "Eye Holes" | 4692 |
palomino4 | Windows Server 2022 Datacenter | x64 | 4.3.2 (2023-10-31 ucrt) -- "Eye Holes" | 4445 |
lconway | macOS 12.7.1 Monterey | x86_64 | 4.3.2 Patched (2023-11-01 r85457) -- "Eye Holes" | 4466 |
Click on any hostname to see more info about the system (e.g. compilers) (*) as reported by 'uname -p', except on Windows and Mac OS X |
Package 1510/2266 | Hostname | OS / Arch | INSTALL | BUILD | CHECK | BUILD BIN | ||||||||
pathwayPCA 1.18.0 (landing page) Gabriel Odom
| nebbiolo2 | Linux (Ubuntu 22.04.3 LTS) / x86_64 | OK | OK | OK | ![]() | ||||||||
palomino4 | Windows Server 2022 Datacenter / x64 | OK | OK | OK | OK | ![]() | ||||||||
lconway | macOS 12.7.1 Monterey / x86_64 | OK | OK | OK | OK | ![]() | ||||||||
kjohnson1 | macOS 13.6.1 Ventura / arm64 | see weekly results here | ||||||||||||
To the developers/maintainers of the pathwayPCA package: - Allow up to 24 hours (and sometimes 48 hours) for your latest push to git@git.bioconductor.org:packages/pathwayPCA.git to reflect on this report. See Troubleshooting Build Report for more information. - Use the following Renviron settings to reproduce errors and warnings. - If 'R CMD check' started to fail recently on the Linux builder(s) over a missing dependency, add the missing dependency to 'Suggests:' in your DESCRIPTION file. See Renviron.bioc for more information. |
Package: pathwayPCA |
Version: 1.18.0 |
Command: /Library/Frameworks/R.framework/Resources/bin/R CMD check --install=check:pathwayPCA.install-out.txt --library=/Library/Frameworks/R.framework/Resources/library --no-vignettes --timings pathwayPCA_1.18.0.tar.gz |
StartedAt: 2024-03-03 22:28:46 -0500 (Sun, 03 Mar 2024) |
EndedAt: 2024-03-03 22:31:36 -0500 (Sun, 03 Mar 2024) |
EllapsedTime: 169.5 seconds |
RetCode: 0 |
Status: OK |
CheckDir: pathwayPCA.Rcheck |
Warnings: 0 |
############################################################################## ############################################################################## ### ### Running command: ### ### /Library/Frameworks/R.framework/Resources/bin/R CMD check --install=check:pathwayPCA.install-out.txt --library=/Library/Frameworks/R.framework/Resources/library --no-vignettes --timings pathwayPCA_1.18.0.tar.gz ### ############################################################################## ############################################################################## * using log directory ‘/Users/biocbuild/bbs-3.18-bioc/meat/pathwayPCA.Rcheck’ * using R version 4.3.2 Patched (2023-11-01 r85457) * using platform: x86_64-apple-darwin20 (64-bit) * R was compiled by Apple clang version 14.0.3 (clang-1403.0.22.14.1) GNU Fortran (GCC) 12.2.0 * running under: macOS Monterey 12.7.1 * using session charset: UTF-8 * using option ‘--no-vignettes’ * checking for file ‘pathwayPCA/DESCRIPTION’ ... OK * checking extension type ... Package * this is package ‘pathwayPCA’ version ‘1.18.0’ * package encoding: UTF-8 * checking package namespace information ... OK * checking package dependencies ... OK * checking if this is a source package ... OK * checking if there is a namespace ... OK * checking for hidden files and directories ... OK * checking for portable file names ... OK * checking for sufficient/correct file permissions ... OK * checking whether package ‘pathwayPCA’ can be installed ... OK * checking installed package size ... OK * checking package directory ... OK * checking ‘build’ directory ... OK * checking DESCRIPTION meta-information ... OK * checking top-level files ... OK * checking for left-over files ... OK * checking index information ... OK * checking package subdirectories ... OK * checking R files for non-ASCII characters ... OK * checking R files for syntax errors ... OK * checking whether the package can be loaded ... OK * checking whether the package can be loaded with stated dependencies ... OK * checking whether the package can be unloaded cleanly ... OK * checking whether the namespace can be loaded with stated dependencies ... OK * checking whether the namespace can be unloaded cleanly ... OK * checking dependencies in R code ... OK * checking S3 generic/method consistency ... OK * checking replacement functions ... OK * checking foreign function calls ... OK * checking R code for possible problems ... OK * checking Rd files ... OK * checking Rd metadata ... OK * checking Rd cross-references ... OK * checking for missing documentation entries ... OK * checking for code/documentation mismatches ... OK * checking Rd \usage sections ... OK * checking Rd contents ... OK * checking for unstated dependencies in examples ... OK * checking contents of ‘data’ directory ... OK * checking data for non-ASCII characters ... OK * checking data for ASCII and uncompressed saves ... OK * checking files in ‘vignettes’ ... OK * checking examples ... OK Examples with CPU (user + system) or elapsed time > 5s user system elapsed SE2Tidy 11.604 0.520 12.403 AESPCA_pVals 0.474 0.136 7.324 LoadOntoPCs 0.435 0.167 6.948 getPathPCLs 0.315 0.041 8.311 getPathpVals 0.314 0.037 8.323 SuperPCA_pVals 0.255 0.027 6.502 * checking for unstated dependencies in ‘tests’ ... OK * checking tests ... Running ‘testthat.R’ OK * checking for unstated dependencies in vignettes ... OK * checking package vignettes in ‘inst/doc’ ... OK * checking running R code from vignettes ... SKIPPED * checking re-building of vignette outputs ... SKIPPED * checking PDF version of manual ... OK * DONE Status: OK
pathwayPCA.Rcheck/00install.out
############################################################################## ############################################################################## ### ### Running command: ### ### /Library/Frameworks/R.framework/Resources/bin/R CMD INSTALL pathwayPCA ### ############################################################################## ############################################################################## * installing to library ‘/Library/Frameworks/R.framework/Versions/4.3-x86_64/Resources/library’ * installing *source* package ‘pathwayPCA’ ... ** using staged installation ** R ** data ** inst ** byte-compile and prepare package for lazy loading ** help *** installing help indices ** building package indices ** installing vignettes ** testing if installed package can be loaded from temporary location ** testing if installed package can be loaded from final location ** testing if installed package keeps a record of temporary installation path * DONE (pathwayPCA)
pathwayPCA.Rcheck/tests/testthat.Rout
R version 4.3.2 Patched (2023-11-01 r85457) -- "Eye Holes" Copyright (C) 2023 The R Foundation for Statistical Computing Platform: x86_64-apple-darwin20 (64-bit) R is free software and comes with ABSOLUTELY NO WARRANTY. You are welcome to redistribute it under certain conditions. Type 'license()' or 'licence()' for distribution details. R is a collaborative project with many contributors. Type 'contributors()' for more information and 'citation()' on how to cite R or R packages in publications. Type 'demo()' for some demos, 'help()' for on-line help, or 'help.start()' for an HTML browser interface to help. Type 'q()' to quit R. > library(testthat) > library(pathwayPCA) > > test_check("pathwayPCA") [ FAIL 0 | WARN 0 | SKIP 0 | PASS 47 ] > > proc.time() user system elapsed 15.683 1.014 41.532
pathwayPCA.Rcheck/pathwayPCA-Ex.timings
name | user | system | elapsed | |
AESPCA_pVals | 0.474 | 0.136 | 7.324 | |
CheckAssay | 0.000 | 0.001 | 0.001 | |
CheckPwyColl | 0.000 | 0.001 | 0.001 | |
CheckSampleIDs | 0.001 | 0.000 | 0.001 | |
Contains | 0.001 | 0.001 | 0.001 | |
ControlFDR | 0.000 | 0.001 | 0.001 | |
CreateOmics | 0.406 | 0.038 | 0.448 | |
CreateOmicsPathway | 0.218 | 0.009 | 0.228 | |
CreatePathwayCollection | 0.007 | 0.002 | 0.009 | |
ExtractAESPCs | 0.392 | 0.119 | 4.927 | |
GumbelMixpValues | 0.001 | 0.000 | 0.000 | |
IntersectOmicsPwyCollct | 0.000 | 0.000 | 0.001 | |
JoinPhenoAssay | 0 | 0 | 0 | |
LoadOntoPCs | 0.435 | 0.167 | 6.948 | |
OptimGumbelMixParams | 0.000 | 0.000 | 0.001 | |
PathwaytValues | 0.000 | 0.001 | 0.001 | |
PermTestCateg | 0.001 | 0.000 | 0.001 | |
PermTestReg | 0.000 | 0.001 | 0.001 | |
PermTestSurv | 0.000 | 0.001 | 0.001 | |
SE2Tidy | 11.604 | 0.520 | 12.403 | |
SubsetPathwayCollection | 0.003 | 0.004 | 0.008 | |
SubsetPathwayData | 0.337 | 0.157 | 0.514 | |
SuperPCA_pVals | 0.255 | 0.027 | 6.502 | |
TabulatepValues | 0.000 | 0.002 | 0.003 | |
TransposeAssay | 0.064 | 0.115 | 0.191 | |
WhichPathways | 0.081 | 0.006 | 0.089 | |
aespca | 0.000 | 0.000 | 0.001 | |
coxTrain_fun | 0.000 | 0.001 | 0.001 | |
getPathPCLs | 0.315 | 0.041 | 8.311 | |
getPathpVals | 0.314 | 0.037 | 8.323 | |
get_set_OmicsPathway | 0.961 | 0.921 | 2.000 | |
get_set_OmicsRegCateg | 0.259 | 0.014 | 0.275 | |
get_set_OmicsSurv | 0.354 | 0.018 | 0.376 | |
glmTrain_fun | 0.000 | 0.000 | 0.001 | |
lars.lsa | 0 | 0 | 0 | |
mysvd | 0 | 0 | 0 | |
normalize | 0 | 0 | 0 | |
olsTrain_fun | 0.000 | 0.000 | 0.001 | |
pathway_tControl | 0.001 | 0.001 | 0.000 | |
pathway_tScores | 0.000 | 0.001 | 0.001 | |
permuteSamps | 0 | 0 | 0 | |
print.pathwayCollection | 0.005 | 0.002 | 0.007 | |
read_gmt | 0.130 | 0.003 | 0.134 | |
show-OmicsPathway-method | 0.253 | 0.026 | 0.297 | |
superpc.st | 0.000 | 0.001 | 0.001 | |
superpc.train | 0.001 | 0.000 | 0.001 | |
write_gmt | 0.002 | 0.001 | 0.003 | |