| Back to Multiple platform build/check report for BioC 3.18: simplified long |
|
This page was generated on 2024-04-17 11:36:12 -0400 (Wed, 17 Apr 2024).
| Hostname | OS | Arch (*) | R version | Installed pkgs |
|---|---|---|---|---|
| nebbiolo2 | Linux (Ubuntu 22.04.3 LTS) | x86_64 | 4.3.3 (2024-02-29) -- "Angel Food Cake" | 4676 |
| palomino4 | Windows Server 2022 Datacenter | x64 | 4.3.3 (2024-02-29 ucrt) -- "Angel Food Cake" | 4414 |
| merida1 | macOS 12.7.1 Monterey | x86_64 | 4.3.3 (2024-02-29) -- "Angel Food Cake" | 4437 |
| Click on any hostname to see more info about the system (e.g. compilers) (*) as reported by 'uname -p', except on Windows and Mac OS X | ||||
| Package 1460/2266 | Hostname | OS / Arch | INSTALL | BUILD | CHECK | BUILD BIN | ||||||||
| ontoProc 1.24.0 (landing page) Vincent Carey
| nebbiolo2 | Linux (Ubuntu 22.04.3 LTS) / x86_64 | OK | OK | OK | |||||||||
| palomino4 | Windows Server 2022 Datacenter / x64 | OK | OK | OK | OK | |||||||||
| merida1 | macOS 12.7.1 Monterey / x86_64 | OK | OK | OK | OK | |||||||||
| kjohnson1 | macOS 13.6.1 Ventura / arm64 | see weekly results here | ||||||||||||
|
To the developers/maintainers of the ontoProc package: - Allow up to 24 hours (and sometimes 48 hours) for your latest push to git@git.bioconductor.org:packages/ontoProc.git to reflect on this report. See Troubleshooting Build Report for more information. - Use the following Renviron settings to reproduce errors and warnings. - If 'R CMD check' started to fail recently on the Linux builder(s) over a missing dependency, add the missing dependency to 'Suggests:' in your DESCRIPTION file. See Renviron.bioc for more information. |
| Package: ontoProc |
| Version: 1.24.0 |
| Command: /home/biocbuild/bbs-3.18-bioc/R/bin/R CMD check --install=check:ontoProc.install-out.txt --library=/home/biocbuild/bbs-3.18-bioc/R/site-library --timings ontoProc_1.24.0.tar.gz |
| StartedAt: 2024-04-16 01:46:33 -0400 (Tue, 16 Apr 2024) |
| EndedAt: 2024-04-16 02:13:27 -0400 (Tue, 16 Apr 2024) |
| EllapsedTime: 1613.7 seconds |
| RetCode: 0 |
| Status: OK |
| CheckDir: ontoProc.Rcheck |
| Warnings: 0 |
##############################################################################
##############################################################################
###
### Running command:
###
### /home/biocbuild/bbs-3.18-bioc/R/bin/R CMD check --install=check:ontoProc.install-out.txt --library=/home/biocbuild/bbs-3.18-bioc/R/site-library --timings ontoProc_1.24.0.tar.gz
###
##############################################################################
##############################################################################
* using log directory ‘/home/biocbuild/bbs-3.18-bioc/meat/ontoProc.Rcheck’
* using R version 4.3.3 (2024-02-29)
* using platform: x86_64-pc-linux-gnu (64-bit)
* R was compiled by
gcc (Ubuntu 11.4.0-1ubuntu1~22.04) 11.4.0
GNU Fortran (Ubuntu 11.4.0-1ubuntu1~22.04) 11.4.0
* running under: Ubuntu 22.04.4 LTS
* using session charset: UTF-8
* checking for file ‘ontoProc/DESCRIPTION’ ... OK
* this is package ‘ontoProc’ version ‘1.24.0’
* package encoding: UTF-8
* checking package namespace information ... OK
* checking package dependencies ... OK
* checking if this is a source package ... OK
* checking if there is a namespace ... OK
* checking for hidden files and directories ... OK
* checking for portable file names ... OK
* checking for sufficient/correct file permissions ... OK
* checking whether package ‘ontoProc’ can be installed ... OK
* checking installed package size ... NOTE
installed size is 7.1Mb
sub-directories of 1Mb or more:
app 1.9Mb
data 1.8Mb
ontoRda 2.8Mb
* checking package directory ... OK
* checking ‘build’ directory ... OK
* checking DESCRIPTION meta-information ... OK
* checking top-level files ... OK
* checking for left-over files ... OK
* checking index information ... OK
* checking package subdirectories ... OK
* checking R files for non-ASCII characters ... OK
* checking R files for syntax errors ... OK
* checking whether the package can be loaded ... OK
* checking whether the package can be loaded with stated dependencies ... OK
* checking whether the package can be unloaded cleanly ... OK
* checking whether the namespace can be loaded with stated dependencies ... OK
* checking whether the namespace can be unloaded cleanly ... OK
* checking loading without being on the library search path ... OK
* checking dependencies in R code ... NOTE
Namespace in Imports field not imported from: ‘BiocFileCache’
All declared Imports should be used.
* checking S3 generic/method consistency ... OK
* checking replacement functions ... OK
* checking foreign function calls ... OK
* checking R code for possible problems ... NOTE
CLfeat : prupdate: no visible binding for global variable ‘PROSYM’
CLfeat : prupdate: no visible binding for global variable ‘PRID’
CLfeat : prupdate: no visible binding for global variable ‘SYMBOL’
ctmarks : server: no visible binding for global variable ‘text’
ctmarks : server: no visible binding for global variable ‘packDesc2022’
ctmarks : server: no visible binding for global variable ‘packDesc2021’
ctmarks: no visible binding for global variable ‘cumu’
dropStop: no visible binding for global variable ‘stopWords’
getOnto: no visible binding for global variable ‘rdatadateadded’
getOnto: no visible binding for global variable ‘title’
getOnto: no visible binding for global variable ‘description’
ldfToTerm: no visible binding for global variable ‘PROSYM’
sym2CellOnto: no visible binding for global variable ‘PROSYM’
sym2CellOnto: no visible binding for global variable ‘SYMBOL’
Undefined global functions or variables:
PRID PROSYM SYMBOL cumu description packDesc2021 packDesc2022
rdatadateadded stopWords text title
Consider adding
importFrom("graphics", "text", "title")
to your NAMESPACE file.
* checking Rd files ... OK
* checking Rd metadata ... OK
* checking Rd cross-references ... OK
* checking for missing documentation entries ... OK
* checking for code/documentation mismatches ... OK
* checking Rd \usage sections ... OK
* checking Rd contents ... OK
* checking for unstated dependencies in examples ... OK
* checking contents of ‘data’ directory ... OK
* checking data for non-ASCII characters ... NOTE
Note: found 162 marked UTF-8 strings
* checking data for ASCII and uncompressed saves ... OK
* checking files in ‘vignettes’ ... OK
* checking examples ... OK
Examples with CPU (user + system) or elapsed time > 5s
user system elapsed
sym2CellOnto 60.544 2.104 69.931
CLfeats 42.064 1.592 46.145
common_classes 28.431 1.040 34.717
siblings_TAG 28.246 1.048 31.237
cleanCLOnames 22.509 0.507 24.176
nomenCheckup 21.471 1.298 24.731
fastGrep 20.594 0.416 22.160
getLeavesFromTerm 18.893 0.720 20.849
findCommonAncestors 17.392 1.472 20.141
onto_plot2 13.406 0.836 15.555
getOnto 12.765 0.846 15.351
selectFromMap 12.361 0.572 14.588
mapOneNaive 12.494 0.404 14.532
make_graphNEL_from_ontology_plot 11.398 0.560 13.875
TermSet-class 10.076 0.364 10.789
secLevGen 8.605 0.412 9.349
liberalMap 8.494 0.379 9.252
* checking for unstated dependencies in ‘tests’ ... OK
* checking tests ...
Running ‘test.R’
OK
* checking for unstated dependencies in vignettes ... OK
* checking package vignettes in ‘inst/doc’ ... OK
* checking running R code from vignettes ...
‘ontoProc.Rmd’ using ‘UTF-8’... OK
OK
* checking re-building of vignette outputs ... OK
* checking PDF version of manual ... OK
* DONE
Status: 4 NOTEs
See
‘/home/biocbuild/bbs-3.18-bioc/meat/ontoProc.Rcheck/00check.log’
for details.
ontoProc.Rcheck/00install.out
############################################################################## ############################################################################## ### ### Running command: ### ### /home/biocbuild/bbs-3.18-bioc/R/bin/R CMD INSTALL ontoProc ### ############################################################################## ############################################################################## * installing to library ‘/home/biocbuild/bbs-3.18-bioc/R/site-library’ * installing *source* package ‘ontoProc’ ... ** using staged installation ** R ** data ** inst ** byte-compile and prepare package for lazy loading ** help *** installing help indices ** building package indices ** installing vignettes ** testing if installed package can be loaded from temporary location ** testing if installed package can be loaded from final location ** testing if installed package keeps a record of temporary installation path * DONE (ontoProc)
ontoProc.Rcheck/tests/test.Rout
R version 4.3.3 (2024-02-29) -- "Angel Food Cake"
Copyright (C) 2024 The R Foundation for Statistical Computing
Platform: x86_64-pc-linux-gnu (64-bit)
R is free software and comes with ABSOLUTELY NO WARRANTY.
You are welcome to redistribute it under certain conditions.
Type 'license()' or 'licence()' for distribution details.
R is a collaborative project with many contributors.
Type 'contributors()' for more information and
'citation()' on how to cite R or R packages in publications.
Type 'demo()' for some demos, 'help()' for on-line help, or
'help.start()' for an HTML browser interface to help.
Type 'q()' to quit R.
>
> library(ontoProc)
Loading required package: ontologyIndex
> library(testthat)
>
> test_check("ontoProc")
[ FAIL 0 | WARN 0 | SKIP 0 | PASS 7 ]
>
>
> proc.time()
user system elapsed
104.633 3.041 126.458
ontoProc.Rcheck/ontoProc-Ex.timings
| name | user | system | elapsed | |
| CLfeats | 42.064 | 1.592 | 46.145 | |
| PROSYM | 0.443 | 0.008 | 0.451 | |
| TermSet-class | 10.076 | 0.364 | 10.789 | |
| allGOterms | 0.097 | 0.000 | 0.096 | |
| cellTypeToGO | 1.652 | 0.052 | 1.706 | |
| cleanCLOnames | 22.509 | 0.507 | 24.176 | |
| common_classes | 28.431 | 1.040 | 34.717 | |
| ctmarks | 0.001 | 0.000 | 0.000 | |
| cyclicSigset | 0.011 | 0.000 | 0.011 | |
| demoApp | 0 | 0 | 0 | |
| dropStop | 0.007 | 0.000 | 0.008 | |
| fastGrep | 20.594 | 0.416 | 22.160 | |
| findCommonAncestors | 17.392 | 1.472 | 20.141 | |
| getLeavesFromTerm | 18.893 | 0.720 | 20.849 | |
| getOnto | 12.765 | 0.846 | 15.351 | |
| humrna | 0.005 | 0.011 | 0.015 | |
| ldfToTerms | 4.013 | 0.084 | 4.129 | |
| liberalMap | 8.494 | 0.379 | 9.252 | |
| makeSelectInput | 0.001 | 0.001 | 0.000 | |
| make_graphNEL_from_ontology_plot | 11.398 | 0.560 | 13.875 | |
| mapOneNaive | 12.494 | 0.404 | 14.532 | |
| minicorpus | 0.003 | 0.000 | 0.002 | |
| nomenCheckup | 21.471 | 1.298 | 24.731 | |
| onto_plot2 | 13.406 | 0.836 | 15.555 | |
| onto_roots | 0.001 | 0.000 | 0.000 | |
| packDesc2019 | 0.001 | 0.004 | 0.005 | |
| packDesc2021 | 0.003 | 0.000 | 0.003 | |
| packDesc2022 | 0.003 | 0.000 | 0.003 | |
| packDesc2023 | 0.003 | 0.000 | 0.003 | |
| recognizedPredicates | 0 | 0 | 0 | |
| secLevGen | 8.605 | 0.412 | 9.349 | |
| selectFromMap | 12.361 | 0.572 | 14.588 | |
| seur3kTab | 0.003 | 0.004 | 0.022 | |
| siblings_TAG | 28.246 | 1.048 | 31.237 | |
| stopWords | 0.001 | 0.000 | 0.001 | |
| sym2CellOnto | 60.544 | 2.104 | 69.931 | |
| valid_ontonames | 0.001 | 0.000 | 0.000 | |