| Back to Multiple platform build/check report for BioC 3.18: simplified long |
|
This page was generated on 2023-10-24 11:41:15 -0400 (Tue, 24 Oct 2023).
| Hostname | OS | Arch (*) | R version | Installed pkgs |
|---|---|---|---|---|
| nebbiolo2 | Linux (Ubuntu 22.04.2 LTS) | x86_64 | 4.3.1 (2023-06-16) -- "Beagle Scouts" | 4724 |
| palomino4 | Windows Server 2022 Datacenter | x64 | 4.3.1 (2023-06-16 ucrt) -- "Beagle Scouts" | 4459 |
| lconway | macOS 12.6.5 Monterey | x86_64 | 4.3.1 Patched (2023-06-17 r84564) -- "Beagle Scouts" | 4473 |
| kunpeng2 | Linux (openEuler 22.03 LTS-SP1) | aarch64 | 4.3.1 (2023-06-16) -- "Beagle Scouts" | 4461 |
| Click on any hostname to see more info about the system (e.g. compilers) (*) as reported by 'uname -p', except on Windows and Mac OS X | ||||
| Package 1429/2264 | Hostname | OS / Arch | INSTALL | BUILD | CHECK | BUILD BIN | ||||||||
| nullranges 1.7.10 (landing page) Michael Love
| nebbiolo2 | Linux (Ubuntu 22.04.2 LTS) / x86_64 | OK | OK | OK | |||||||||
| palomino4 | Windows Server 2022 Datacenter / x64 | OK | OK | OK | OK | |||||||||
| lconway | macOS 12.6.5 Monterey / x86_64 | OK | OK | OK | OK | |||||||||
| kjohnson1 | macOS 13.3.1 Ventura / arm64 | see weekly results here | ||||||||||||
| kunpeng2 | Linux (openEuler 22.03 LTS-SP1) / aarch64 | OK | OK | OK | ||||||||||
|
To the developers/maintainers of the nullranges package: - Allow up to 24 hours (and sometimes 48 hours) for your latest push to git@git.bioconductor.org:packages/nullranges.git to reflect on this report. See Troubleshooting Build Report for more information. - Use the following Renviron settings to reproduce errors and warnings. - If 'R CMD check' started to fail recently on the Linux builder(s) over a missing dependency, add the missing dependency to 'Suggests:' in your DESCRIPTION file. See Renviron.bioc for more information. - See Martin Grigorov's blog post for how to debug Linux ARM64 related issues on a x86_64 host. |
| Package: nullranges |
| Version: 1.7.10 |
| Command: /home/biocbuild/R/R-4.3.1/bin/R CMD check --install=check:nullranges.install-out.txt --library=/home/biocbuild/R/R-4.3.1/site-library --timings nullranges_1.7.10.tar.gz |
| StartedAt: 2023-10-24 10:14:46 -0000 (Tue, 24 Oct 2023) |
| EndedAt: 2023-10-24 10:25:56 -0000 (Tue, 24 Oct 2023) |
| EllapsedTime: 670.2 seconds |
| RetCode: 0 |
| Status: OK |
| CheckDir: nullranges.Rcheck |
| Warnings: 0 |
##############################################################################
##############################################################################
###
### Running command:
###
### /home/biocbuild/R/R-4.3.1/bin/R CMD check --install=check:nullranges.install-out.txt --library=/home/biocbuild/R/R-4.3.1/site-library --timings nullranges_1.7.10.tar.gz
###
##############################################################################
##############################################################################
* using log directory ‘/home/biocbuild/bbs-3.18-bioc/meat/nullranges.Rcheck’
* using R version 4.3.1 (2023-06-16)
* using platform: aarch64-unknown-linux-gnu (64-bit)
* R was compiled by
gcc (GCC) 10.3.1
GNU Fortran (GCC) 10.3.1
* running under: openEuler 22.03 (LTS-SP1)
* using session charset: UTF-8
* checking for file ‘nullranges/DESCRIPTION’ ... OK
* this is package ‘nullranges’ version ‘1.7.10’
* package encoding: UTF-8
* checking package namespace information ... OK
* checking package dependencies ... OK
* checking if this is a source package ... OK
* checking if there is a namespace ... OK
* checking for hidden files and directories ... OK
* checking for portable file names ... OK
* checking for sufficient/correct file permissions ... OK
* checking whether package ‘nullranges’ can be installed ... OK
* checking installed package size ... OK
* checking package directory ... OK
* checking ‘build’ directory ... OK
* checking DESCRIPTION meta-information ... OK
* checking top-level files ... OK
* checking for left-over files ... OK
* checking index information ... OK
* checking package subdirectories ... OK
* checking R files for non-ASCII characters ... OK
* checking R files for syntax errors ... OK
* checking whether the package can be loaded ... OK
* checking whether the package can be loaded with stated dependencies ... OK
* checking whether the package can be unloaded cleanly ... OK
* checking whether the namespace can be loaded with stated dependencies ... OK
* checking whether the namespace can be unloaded cleanly ... OK
* checking loading without being on the library search path ... OK
* checking dependencies in R code ... OK
* checking S3 generic/method consistency ... OK
* checking replacement functions ... OK
* checking foreign function calls ... OK
* checking R code for possible problems ... OK
* checking Rd files ... OK
* checking Rd metadata ... OK
* checking Rd cross-references ... OK
* checking for missing documentation entries ... OK
* checking for code/documentation mismatches ... OK
* checking Rd \usage sections ... OK
* checking Rd contents ... OK
* checking for unstated dependencies in examples ... OK
* checking files in ‘vignettes’ ... OK
* checking examples ... OK
* checking for unstated dependencies in ‘tests’ ... OK
* checking tests ...
Running ‘testthat.R’
OK
* checking for unstated dependencies in vignettes ... OK
* checking package vignettes in ‘inst/doc’ ... OK
* checking running R code from vignettes ...
‘bootRanges.Rmd’ using ‘UTF-8’... OK
‘matchRanges.Rmd’ using ‘UTF-8’... OK
‘matching_ginteractions.Rmd’ using ‘UTF-8’... OK
‘matching_granges.Rmd’ using ‘UTF-8’... OK
‘matching_pool_set.Rmd’ using ‘UTF-8’... OK
‘nullranges.Rmd’ using ‘UTF-8’... OK
NONE
* checking re-building of vignette outputs ... OK
* checking PDF version of manual ... OK
* DONE
Status: OK
nullranges.Rcheck/00install.out
############################################################################## ############################################################################## ### ### Running command: ### ### /home/biocbuild/R/R-4.3.1/bin/R CMD INSTALL nullranges ### ############################################################################## ############################################################################## * installing to library ‘/home/biocbuild/R/R-4.3.1/site-library’ * installing *source* package ‘nullranges’ ... ** using staged installation ** R ** inst ** byte-compile and prepare package for lazy loading ** help *** installing help indices *** copying figures ** building package indices ** installing vignettes ** testing if installed package can be loaded from temporary location ** testing if installed package can be loaded from final location ** testing if installed package keeps a record of temporary installation path * DONE (nullranges)
nullranges.Rcheck/tests/testthat.Rout
R version 4.3.1 (2023-06-16) -- "Beagle Scouts"
Copyright (C) 2023 The R Foundation for Statistical Computing
Platform: aarch64-unknown-linux-gnu (64-bit)
R is free software and comes with ABSOLUTELY NO WARRANTY.
You are welcome to redistribute it under certain conditions.
Type 'license()' or 'licence()' for distribution details.
R is a collaborative project with many contributors.
Type 'contributors()' for more information and
'citation()' on how to cite R or R packages in publications.
Type 'demo()' for some demos, 'help()' for on-line help, or
'help.start()' for an HTML browser interface to help.
Type 'q()' to quit R.
> library(testthat)
> library(nullranges)
>
> test_check("nullranges")
[ FAIL 0 | WARN 0 | SKIP 0 | PASS 9 ]
>
> proc.time()
user system elapsed
21.850 1.466 23.336
nullranges.Rcheck/nullranges-Ex.timings
| name | user | system | elapsed | |
| MatchedDataFrame | 2.553 | 0.021 | 2.561 | |
| MatchedGInteractions | 0.815 | 0.016 | 0.824 | |
| MatchedGRanges | 0.716 | 0.004 | 0.714 | |
| bootRanges | 0.450 | 0.012 | 0.463 | |
| combnCov | 0.004 | 0.000 | 0.005 | |
| covariates | 0.195 | 0.004 | 0.196 | |
| focal | 0.196 | 0.000 | 0.193 | |
| indices | 1.145 | 0.032 | 1.177 | |
| makeExampleMatchedDataSet | 0.816 | 0.008 | 0.815 | |
| matchRanges | 1.724 | 0.009 | 1.683 | |
| matched | 0.208 | 0.012 | 0.217 | |
| matchedClass | 0.173 | 0.000 | 0.170 | |
| matchedData | 0.190 | 0.000 | 0.187 | |
| method | 0.186 | 0.000 | 0.183 | |
| oneRegionSegment | 0.426 | 0.036 | 1.065 | |
| overview | 0.232 | 0.000 | 0.228 | |
| plotCovariate | 4.474 | 0.120 | 4.593 | |
| plotPropensity | 1.909 | 0.080 | 1.984 | |
| plotSegment | 2.109 | 0.092 | 2.208 | |
| pool | 0.176 | 0.008 | 0.181 | |
| reduceSegment | 0.314 | 0.004 | 0.318 | |
| segmentDensity | 0.699 | 0.000 | 0.700 | |
| unmatched | 0.188 | 0.000 | 0.184 | |
| withReplacement | 0.235 | 0.000 | 0.231 | |