| Back to Multiple platform build/check report for BioC 3.18: simplified long |
|
This page was generated on 2023-11-02 11:41:01 -0400 (Thu, 02 Nov 2023).
| Hostname | OS | Arch (*) | R version | Installed pkgs |
|---|---|---|---|---|
| nebbiolo2 | Linux (Ubuntu 22.04.2 LTS) | x86_64 | 4.3.1 (2023-06-16) -- "Beagle Scouts" | 4729 |
| palomino4 | Windows Server 2022 Datacenter | x64 | 4.3.1 (2023-06-16 ucrt) -- "Beagle Scouts" | 4463 |
| lconway | macOS 12.6.5 Monterey | x86_64 | 4.3.1 Patched (2023-06-17 r84564) -- "Beagle Scouts" | 4478 |
| kunpeng2 | Linux (openEuler 22.03 LTS-SP1) | aarch64 | 4.3.1 (2023-06-16) -- "Beagle Scouts" | 4464 |
| Click on any hostname to see more info about the system (e.g. compilers) (*) as reported by 'uname -p', except on Windows and Mac OS X | ||||
| Package 1429/2266 | Hostname | OS / Arch | INSTALL | BUILD | CHECK | BUILD BIN | ||||||||
| nuCpos 1.20.0 (landing page) Hiroaki Kato
| nebbiolo2 | Linux (Ubuntu 22.04.2 LTS) / x86_64 | OK | OK | OK | |||||||||
| palomino4 | Windows Server 2022 Datacenter / x64 | OK | OK | OK | OK | |||||||||
| lconway | macOS 12.6.5 Monterey / x86_64 | OK | OK | OK | OK | |||||||||
| kjohnson1 | macOS 13.6.1 Ventura / arm64 | see weekly results here | ||||||||||||
| kunpeng2 | Linux (openEuler 22.03 LTS-SP1) / aarch64 | OK | OK | OK | ||||||||||
|
To the developers/maintainers of the nuCpos package: - Allow up to 24 hours (and sometimes 48 hours) for your latest push to git@git.bioconductor.org:packages/nuCpos.git to reflect on this report. See Troubleshooting Build Report for more information. - Use the following Renviron settings to reproduce errors and warnings. - If 'R CMD check' started to fail recently on the Linux builder(s) over a missing dependency, add the missing dependency to 'Suggests:' in your DESCRIPTION file. See Renviron.bioc for more information. - See Martin Grigorov's blog post for how to debug Linux ARM64 related issues on a x86_64 host. |
| Package: nuCpos |
| Version: 1.20.0 |
| Command: /home/biocbuild/R/R-4.3.1/bin/R CMD check --install=check:nuCpos.install-out.txt --library=/home/biocbuild/R/R-4.3.1/site-library --no-vignettes --timings nuCpos_1.20.0.tar.gz |
| StartedAt: 2023-11-02 12:44:43 -0000 (Thu, 02 Nov 2023) |
| EndedAt: 2023-11-02 12:45:19 -0000 (Thu, 02 Nov 2023) |
| EllapsedTime: 36.1 seconds |
| RetCode: 0 |
| Status: OK |
| CheckDir: nuCpos.Rcheck |
| Warnings: 0 |
##############################################################################
##############################################################################
###
### Running command:
###
### /home/biocbuild/R/R-4.3.1/bin/R CMD check --install=check:nuCpos.install-out.txt --library=/home/biocbuild/R/R-4.3.1/site-library --no-vignettes --timings nuCpos_1.20.0.tar.gz
###
##############################################################################
##############################################################################
* using log directory ‘/home/biocbuild/bbs-3.18-bioc/meat/nuCpos.Rcheck’
* using R version 4.3.1 (2023-06-16)
* using platform: aarch64-unknown-linux-gnu (64-bit)
* R was compiled by
gcc (GCC) 10.3.1
GNU Fortran (GCC) 10.3.1
* running under: openEuler 22.03 (LTS-SP1)
* using session charset: UTF-8
* using option ‘--no-vignettes’
* checking for file ‘nuCpos/DESCRIPTION’ ... OK
* this is package ‘nuCpos’ version ‘1.20.0’
* checking package namespace information ... OK
* checking package dependencies ... OK
* checking if this is a source package ... OK
* checking if there is a namespace ... OK
* checking for hidden files and directories ... OK
* checking for portable file names ... OK
* checking for sufficient/correct file permissions ... OK
* checking whether package ‘nuCpos’ can be installed ... OK
* checking installed package size ... OK
* checking package directory ... OK
* checking ‘build’ directory ... OK
* checking DESCRIPTION meta-information ... OK
* checking top-level files ... NOTE
File
LICENSE
is not mentioned in the DESCRIPTION file.
* checking for left-over files ... OK
* checking index information ... OK
* checking package subdirectories ... OK
* checking R files for non-ASCII characters ... OK
* checking R files for syntax errors ... OK
* checking whether the package can be loaded ... OK
* checking whether the package can be loaded with stated dependencies ... OK
* checking whether the package can be unloaded cleanly ... OK
* checking whether the namespace can be loaded with stated dependencies ... OK
* checking whether the namespace can be unloaded cleanly ... OK
* checking loading without being on the library search path ... OK
* checking dependencies in R code ... OK
* checking S3 generic/method consistency ... OK
* checking replacement functions ... OK
* checking foreign function calls ... OK
* checking R code for possible problems ... OK
* checking Rd files ... OK
* checking Rd metadata ... OK
* checking Rd cross-references ... OK
* checking for missing documentation entries ... OK
* checking for code/documentation mismatches ... OK
* checking Rd \usage sections ... OK
* checking Rd contents ... OK
* checking for unstated dependencies in examples ... OK
* checking R/sysdata.rda ... NOTE
Note: significantly better compression could be obtained
by using R CMD build --resave-data
old_size new_size compress
sysdata.rda 2.2Mb 998Kb xz
* checking files in ‘vignettes’ ... OK
* checking examples ... OK
* checking for unstated dependencies in ‘tests’ ... OK
* checking tests ...
Running ‘test_HBA.R’
Running ‘test_localHBA.R’
OK
* checking for unstated dependencies in vignettes ... OK
* checking package vignettes in ‘inst/doc’ ... OK
* checking running R code from vignettes ... SKIPPED
* checking re-building of vignette outputs ... SKIPPED
* checking PDF version of manual ... OK
* DONE
Status: 2 NOTEs
See
‘/home/biocbuild/bbs-3.18-bioc/meat/nuCpos.Rcheck/00check.log’
for details.
nuCpos.Rcheck/00install.out
############################################################################## ############################################################################## ### ### Running command: ### ### /home/biocbuild/R/R-4.3.1/bin/R CMD INSTALL nuCpos ### ############################################################################## ############################################################################## * installing to library ‘/home/biocbuild/R/R-4.3.1/site-library’ * installing *source* package ‘nuCpos’ ... ** using staged installation ** R ** inst ** byte-compile and prepare package for lazy loading ** help *** installing help indices ** building package indices ** installing vignettes ** testing if installed package can be loaded from temporary location ** testing if installed package can be loaded from final location ** testing if installed package keeps a record of temporary installation path * DONE (nuCpos)
nuCpos.Rcheck/tests/test_HBA.Rout
R version 4.3.1 (2023-06-16) -- "Beagle Scouts"
Copyright (C) 2023 The R Foundation for Statistical Computing
Platform: aarch64-unknown-linux-gnu (64-bit)
R is free software and comes with ABSOLUTELY NO WARRANTY.
You are welcome to redistribute it under certain conditions.
Type 'license()' or 'licence()' for distribution details.
R is a collaborative project with many contributors.
Type 'contributors()' for more information and
'citation()' on how to cite R or R packages in publications.
Type 'demo()' for some demos, 'help()' for on-line help, or
'help.start()' for an HTML browser interface to help.
Type 'q()' to quit R.
> test_HBA <- function(){
+ load(system.file("extdata","inseq.RData",package="nuCpos"))
+ load(system.file("extdata","INSEQ_DNAString.RData",package="nuCpos"))
+ inseq.N <- gsub(pattern = "A", replacement = "N", inseq)
+ mm.HBA <- -5.108546
+ sc.HBA <- -2.460025
+ sp.HBA <- -2.627370
+ expect_equal(unname(HBA(inseq, species = "mm", silent = TRUE)),
+ mm.HBA, tolerance = 1.0e-6)
+ expect_equal(unname(HBA(inseq, species = "sc", silent = TRUE)),
+ sc.HBA, tolerance = 1.0e-6)
+ expect_equal(unname(HBA(inseq, species = "sp", silent = TRUE)),
+ sp.HBA, tolerance = 1.0e-6)
+ expect_equal(unname(HBA(INSEQ, species = "mm", silent = TRUE)),
+ mm.HBA, tolerance = 1.0e-6)
+ expect_equal(unname(HBA(INSEQ, species = "sc", silent = TRUE)),
+ sc.HBA, tolerance = 1.0e-6)
+ expect_equal(unname(HBA(INSEQ, species = "sp", silent = TRUE)),
+ sp.HBA, tolerance = 1.0e-6)
+ expect_true(is.na(HBA("AAA", species = "mm", silent = TRUE)))
+ expect_true(is.na(HBA(123, species = "mm", silent = TRUE)))
+ expect_true(is.na(HBA(inseq.N, species = "mm", silent = TRUE)))
+ }
>
> proc.time()
user system elapsed
0.191 0.030 0.207
nuCpos.Rcheck/tests/test_localHBA.Rout
R version 4.3.1 (2023-06-16) -- "Beagle Scouts"
Copyright (C) 2023 The R Foundation for Statistical Computing
Platform: aarch64-unknown-linux-gnu (64-bit)
R is free software and comes with ABSOLUTELY NO WARRANTY.
You are welcome to redistribute it under certain conditions.
Type 'license()' or 'licence()' for distribution details.
R is a collaborative project with many contributors.
Type 'contributors()' for more information and
'citation()' on how to cite R or R packages in publications.
Type 'demo()' for some demos, 'help()' for on-line help, or
'help.start()' for an HTML browser interface to help.
Type 'q()' to quit R.
> test_localHBA <- function(){
+ load(system.file("extdata","inseq.RData",package="nuCpos"))
+ load(system.file("extdata","INSEQ_DNAString.RData",package="nuCpos"))
+ inseq.N <- gsub(pattern = "A", replacement = "N", inseq)
+ mm.lHBA <- c(-1.26144039, -1.60878614, 0.04168163,
+ 0.67028283, 0.64609413, -2.04965343, -2.87359702,
+ -0.23010702, -0.45807823, -0.46043330, -0.45175477,
+ 0.02487367, -0.30991794)
+ sc.lHBA <- c(-1.56140949, -1.62502354, 0.48885990,
+ 2.37615568, 2.90458625, -1.35195919, -3.13228907,
+ -0.32208031, 0.27650871, 0.01922002, 0.49787625,
+ -0.17151500, -1.27186158)
+ sp.lHBA <- c(-1.566757163, -2.249651890, 1.188983606,
+ 1.808008192, 2.304915648, -0.290338951, -1.741081053,
+ -0.093952092, 0.119058916, -1.335654721, -0.001721381,
+ 0.244317796, -0.968842314)
+ expect_equal(unname(localHBA(inseq, species = "mm", silent = TRUE)),
+ mm.lHBA, tolerance = 1.0e-6)
+ expect_equal(unname(localHBA(inseq, species = "sc", silent = TRUE)),
+ sc.lHBA, tolerance = 1.0e-6)
+ expect_equal(unname(localHBA(inseq, species = "sp", silent = TRUE)),
+ sp.lHBA, tolerance = 1.0e-6)
+ expect_equal(unname(localHBA(INSEQ, species = "mm", silent = TRUE)),
+ mm.lHBA, tolerance = 1.0e-6)
+ expect_equal(unname(localHBA(INSEQ, species = "sc", silent = TRUE)),
+ sc.lHBA, tolerance = 1.0e-6)
+ expect_equal(unname(localHBA(INSEQ, species = "sp", silent = TRUE)),
+ sp.lHBA, tolerance = 1.0e-6)
+ expect_true(is.na(localHBA("AAA", species = "mm", silent = TRUE)))
+ expect_true(is.na(localHBA(123, species = "mm", silent = TRUE)))
+ expect_true(is.na(localHBA(inseq.N, species = "mm", silent = TRUE)))
+ }
>
> proc.time()
user system elapsed
0.196 0.019 0.203
nuCpos.Rcheck/nuCpos-Ex.timings
| name | user | system | elapsed | |
| HBA | 3.516 | 0.072 | 3.597 | |
| localHBA | 0.02 | 0.00 | 0.02 | |
| nuCpos-package | 0.008 | 0.000 | 0.008 | |