| Back to Multiple platform build/check report for BioC 3.18: simplified long |
|
This page was generated on 2024-04-17 11:36:11 -0400 (Wed, 17 Apr 2024).
| Hostname | OS | Arch (*) | R version | Installed pkgs |
|---|---|---|---|---|
| nebbiolo2 | Linux (Ubuntu 22.04.3 LTS) | x86_64 | 4.3.3 (2024-02-29) -- "Angel Food Cake" | 4676 |
| palomino4 | Windows Server 2022 Datacenter | x64 | 4.3.3 (2024-02-29 ucrt) -- "Angel Food Cake" | 4414 |
| merida1 | macOS 12.7.1 Monterey | x86_64 | 4.3.3 (2024-02-29) -- "Angel Food Cake" | 4437 |
| Click on any hostname to see more info about the system (e.g. compilers) (*) as reported by 'uname -p', except on Windows and Mac OS X | ||||
| Package 1414/2266 | Hostname | OS / Arch | INSTALL | BUILD | CHECK | BUILD BIN | ||||||||
| nipalsMCIA 1.0.0 (landing page) Maximilian Mattessich
| nebbiolo2 | Linux (Ubuntu 22.04.3 LTS) / x86_64 | OK | OK | OK | |||||||||
| palomino4 | Windows Server 2022 Datacenter / x64 | OK | OK | OK | OK | |||||||||
| merida1 | macOS 12.7.1 Monterey / x86_64 | OK | OK | OK | OK | |||||||||
| kjohnson1 | macOS 13.6.1 Ventura / arm64 | see weekly results here | ||||||||||||
|
To the developers/maintainers of the nipalsMCIA package: - Allow up to 24 hours (and sometimes 48 hours) for your latest push to git@git.bioconductor.org:packages/nipalsMCIA.git to reflect on this report. See Troubleshooting Build Report for more information. - Use the following Renviron settings to reproduce errors and warnings. - If 'R CMD check' started to fail recently on the Linux builder(s) over a missing dependency, add the missing dependency to 'Suggests:' in your DESCRIPTION file. See Renviron.bioc for more information. |
| Package: nipalsMCIA |
| Version: 1.0.0 |
| Command: /home/biocbuild/bbs-3.18-bioc/R/bin/R CMD check --install=check:nipalsMCIA.install-out.txt --library=/home/biocbuild/bbs-3.18-bioc/R/site-library --timings nipalsMCIA_1.0.0.tar.gz |
| StartedAt: 2024-04-16 01:32:48 -0400 (Tue, 16 Apr 2024) |
| EndedAt: 2024-04-16 01:44:59 -0400 (Tue, 16 Apr 2024) |
| EllapsedTime: 730.6 seconds |
| RetCode: 0 |
| Status: OK |
| CheckDir: nipalsMCIA.Rcheck |
| Warnings: 0 |
##############################################################################
##############################################################################
###
### Running command:
###
### /home/biocbuild/bbs-3.18-bioc/R/bin/R CMD check --install=check:nipalsMCIA.install-out.txt --library=/home/biocbuild/bbs-3.18-bioc/R/site-library --timings nipalsMCIA_1.0.0.tar.gz
###
##############################################################################
##############################################################################
* using log directory ‘/home/biocbuild/bbs-3.18-bioc/meat/nipalsMCIA.Rcheck’
* using R version 4.3.3 (2024-02-29)
* using platform: x86_64-pc-linux-gnu (64-bit)
* R was compiled by
gcc (Ubuntu 11.4.0-1ubuntu1~22.04) 11.4.0
GNU Fortran (Ubuntu 11.4.0-1ubuntu1~22.04) 11.4.0
* running under: Ubuntu 22.04.4 LTS
* using session charset: UTF-8
* checking for file ‘nipalsMCIA/DESCRIPTION’ ... OK
* this is package ‘nipalsMCIA’ version ‘1.0.0’
* package encoding: UTF-8
* checking package namespace information ... OK
* checking package dependencies ... OK
* checking if this is a source package ... OK
* checking if there is a namespace ... OK
* checking for hidden files and directories ... OK
* checking for portable file names ... OK
* checking for sufficient/correct file permissions ... OK
* checking whether package ‘nipalsMCIA’ can be installed ... OK
* checking installed package size ... OK
* checking package directory ... OK
* checking ‘build’ directory ... OK
* checking DESCRIPTION meta-information ... OK
* checking top-level files ... OK
* checking for left-over files ... OK
* checking index information ... OK
* checking package subdirectories ... OK
* checking R files for non-ASCII characters ... OK
* checking R files for syntax errors ... OK
* checking whether the package can be loaded ... OK
* checking whether the package can be loaded with stated dependencies ... OK
* checking whether the package can be unloaded cleanly ... OK
* checking whether the namespace can be loaded with stated dependencies ... OK
* checking whether the namespace can be unloaded cleanly ... OK
* checking loading without being on the library search path ... OK
* checking dependencies in R code ... OK
* checking S3 generic/method consistency ... OK
* checking replacement functions ... OK
* checking foreign function calls ... OK
* checking R code for possible problems ... OK
* checking Rd files ... OK
* checking Rd metadata ... OK
* checking Rd cross-references ... OK
* checking for missing documentation entries ... OK
* checking for code/documentation mismatches ... OK
* checking Rd \usage sections ... OK
* checking Rd contents ... OK
* checking for unstated dependencies in examples ... OK
* checking contents of ‘data’ directory ... OK
* checking data for non-ASCII characters ... OK
* checking data for ASCII and uncompressed saves ... OK
* checking files in ‘vignettes’ ... OK
* checking examples ... OK
Examples with CPU (user + system) or elapsed time > 5s
user system elapsed
nipals_multiblock 6.703 0.180 6.883
block_weights_heatmap 6.593 0.212 6.805
get_colors 5.724 0.204 5.927
vis_load_ord 5.253 0.056 5.309
vis_load_plot 5.168 0.016 5.184
get_metadata_colors 4.932 0.116 5.048
* checking for unstated dependencies in ‘tests’ ... OK
* checking tests ...
Running ‘testthat.R’
OK
* checking for unstated dependencies in vignettes ... OK
* checking package vignettes in ‘inst/doc’ ... OK
* checking running R code from vignettes ...
‘Vignette1.Analysis-of-MCIA-Decomposition.Rmd’ using ‘UTF-8’... OK
‘Vignette2.Single-Cell-Analysis.Rmd’ using ‘UTF-8’... OK
‘Vignette3.Predicting-New-Scores.Rmd’ using ‘UTF-8’... OK
OK
* checking re-building of vignette outputs ... OK
* checking PDF version of manual ... OK
* DONE
Status: OK
nipalsMCIA.Rcheck/00install.out
############################################################################## ############################################################################## ### ### Running command: ### ### /home/biocbuild/bbs-3.18-bioc/R/bin/R CMD INSTALL nipalsMCIA ### ############################################################################## ############################################################################## * installing to library ‘/home/biocbuild/bbs-3.18-bioc/R/site-library’ * installing *source* package ‘nipalsMCIA’ ... ** using staged installation ** R ** data ** inst ** byte-compile and prepare package for lazy loading ** help *** installing help indices *** copying figures ** building package indices ** installing vignettes ** testing if installed package can be loaded from temporary location ** testing if installed package can be loaded from final location ** testing if installed package keeps a record of temporary installation path * DONE (nipalsMCIA)
nipalsMCIA.Rcheck/tests/testthat.Rout
R version 4.3.3 (2024-02-29) -- "Angel Food Cake"
Copyright (C) 2024 The R Foundation for Statistical Computing
Platform: x86_64-pc-linux-gnu (64-bit)
R is free software and comes with ABSOLUTELY NO WARRANTY.
You are welcome to redistribute it under certain conditions.
Type 'license()' or 'licence()' for distribution details.
R is a collaborative project with many contributors.
Type 'contributors()' for more information and
'citation()' on how to cite R or R packages in publications.
Type 'demo()' for some demos, 'help()' for on-line help, or
'help.start()' for an HTML browser interface to help.
Type 'q()' to quit R.
> # This file is part of the standard setup for testthat.
> # It is recommended that you do not modify it.
>
> library(nipalsMCIA)
> library(testthat)
>
> test_check("nipalsMCIA")
Performing column-level pre-processing...
Column pre-processing completed.
Performing block-level preprocessing...
Block pre-processing completed.
Computing order 1 scores
Computing order 2 scores
Performing column-level pre-processing...
Column pre-processing completed.
Performing block-level preprocessing...
Block pre-processing completed.
Computing order 1 scores
Computing order 2 scores
Computing order 3 scores
Performing column-level pre-processing...
Column pre-processing completed.
Performing block-level preprocessing...
Block pre-processing completed.
Computing order 1 scores
Computing order 2 scores
Running GSEA for Factor 1
|
| | 0%
|
|= | 2%
|
|== | 3%
|
|=== | 5%
|
|==== | 6%
|
|====== | 8%
|
|======= | 10%
|
|======== | 11%
|
|========= | 13%
|
|========== | 14%
|
|=========== | 16%
|
|============ | 17%
|
|============= | 19%
|
|============== | 21%
|
|================ | 22%
|
|================= | 24%
|
|================== | 25%
|
|=================== | 27%
|
|==================== | 29%
|
|===================== | 30%
|
|====================== | 32%
|
|======================= | 33%
|
|======================== | 35%
|
|========================== | 37%
|
|=========================== | 38%
|
|============================ | 40%
|
|============================= | 41%
|
|============================== | 43%
|
|=============================== | 44%
|
|================================ | 46%
|
|================================= | 48%
|
|================================== | 49%
|
|==================================== | 51%
|
|===================================== | 52%
|
|====================================== | 54%
|
|======================================= | 56%
|
|======================================== | 57%
|
|========================================= | 59%
|
|========================================== | 60%
|
|=========================================== | 62%
|
|============================================ | 63%
|
|============================================== | 65%
|
|=============================================== | 67%
|
|================================================ | 68%
|
|================================================= | 70%
|
|================================================== | 71%
|
|=================================================== | 73%
|
|==================================================== | 75%
|
|===================================================== | 76%
|
|====================================================== | 78%
|
|======================================================== | 79%
|
|========================================================= | 81%
|
|========================================================== | 83%
|
|=========================================================== | 84%
|
|============================================================ | 86%
|
|============================================================= | 87%
|
|============================================================== | 89%
|
|=============================================================== | 90%
|
|================================================================ | 92%
|
|================================================================== | 94%
|
|=================================================================== | 95%
|
|==================================================================== | 97%
|
|===================================================================== | 98%
|
|======================================================================| 100%
Performing column-level pre-processing...
Column pre-processing completed.
Performing block-level preprocessing...
Block pre-processing completed.
Computing order 1 scores
Computing order 2 scores
Computing order 3 scores
Computing order 4 scores
Performing pre-processing on data
Pre-processing completed
[ FAIL 0 | WARN 0 | SKIP 0 | PASS 52 ]
>
> proc.time()
user system elapsed
33.780 1.208 35.567
nipalsMCIA.Rcheck/nipalsMCIA-Ex.timings
| name | user | system | elapsed | |
| block_preproc | 0.001 | 0.000 | 0.001 | |
| block_weights_heatmap | 6.593 | 0.212 | 6.805 | |
| cc_preproc | 0 | 0 | 0 | |
| col_preproc | 0.001 | 0.000 | 0.000 | |
| deflate_block_bl | 0 | 0 | 0 | |
| deflate_block_gs | 0.001 | 0.000 | 0.000 | |
| extract_from_mae | 0.610 | 0.048 | 0.658 | |
| get_colors | 5.724 | 0.204 | 5.927 | |
| get_metadata_colors | 4.932 | 0.116 | 5.048 | |
| get_tv | 0.227 | 0.008 | 0.235 | |
| global_scores_eigenvalues_plot | 4.416 | 0.048 | 4.465 | |
| nipals_iter | 0.244 | 0.008 | 0.253 | |
| nipals_multiblock | 6.703 | 0.180 | 6.883 | |
| nmb_get_bl | 3.265 | 0.016 | 3.280 | |
| nmb_get_bs | 4.562 | 0.184 | 4.745 | |
| nmb_get_bs_weights | 3.347 | 0.020 | 3.366 | |
| nmb_get_eigs | 4.054 | 0.052 | 4.106 | |
| nmb_get_gl | 3.262 | 0.024 | 3.287 | |
| nmb_get_gs | 4.349 | 0.084 | 4.434 | |
| nmb_get_metadata | 4.101 | 0.040 | 4.141 | |
| ord_loadings | 4.595 | 0.020 | 4.614 | |
| predict_gs | 1.695 | 0.056 | 1.750 | |
| projection_plot | 4.407 | 0.008 | 4.415 | |
| simple_mae | 0.354 | 0.012 | 0.366 | |
| vis_load_ord | 5.253 | 0.056 | 5.309 | |
| vis_load_plot | 5.168 | 0.016 | 5.184 | |