Back to Multiple platform build/check report for BioC 3.18: simplified long |
|
This page was generated on 2023-11-02 11:40:59 -0400 (Thu, 02 Nov 2023).
Hostname | OS | Arch (*) | R version | Installed pkgs |
---|---|---|---|---|
nebbiolo2 | Linux (Ubuntu 22.04.2 LTS) | x86_64 | 4.3.1 (2023-06-16) -- "Beagle Scouts" | 4729 |
palomino4 | Windows Server 2022 Datacenter | x64 | 4.3.1 (2023-06-16 ucrt) -- "Beagle Scouts" | 4463 |
lconway | macOS 12.6.5 Monterey | x86_64 | 4.3.1 Patched (2023-06-17 r84564) -- "Beagle Scouts" | 4478 |
kunpeng2 | Linux (openEuler 22.03 LTS-SP1) | aarch64 | 4.3.1 (2023-06-16) -- "Beagle Scouts" | 4464 |
Click on any hostname to see more info about the system (e.g. compilers) (*) as reported by 'uname -p', except on Windows and Mac OS X |
Package 1375/2266 | Hostname | OS / Arch | INSTALL | BUILD | CHECK | BUILD BIN | ||||||||
musicatk 1.12.0 (landing page) Aaron Chevalier
| nebbiolo2 | Linux (Ubuntu 22.04.2 LTS) / x86_64 | OK | OK | OK | ![]() | ||||||||
palomino4 | Windows Server 2022 Datacenter / x64 | OK | OK | OK | OK | ![]() | ||||||||
lconway | macOS 12.6.5 Monterey / x86_64 | OK | OK | OK | OK | ![]() | ||||||||
kjohnson1 | macOS 13.6.1 Ventura / arm64 | see weekly results here | ||||||||||||
kunpeng2 | Linux (openEuler 22.03 LTS-SP1) / aarch64 | OK | OK | OK | ||||||||||
To the developers/maintainers of the musicatk package: - Allow up to 24 hours (and sometimes 48 hours) for your latest push to git@git.bioconductor.org:packages/musicatk.git to reflect on this report. See Troubleshooting Build Report for more information. - Use the following Renviron settings to reproduce errors and warnings. - If 'R CMD check' started to fail recently on the Linux builder(s) over a missing dependency, add the missing dependency to 'Suggests:' in your DESCRIPTION file. See Renviron.bioc for more information. - See Martin Grigorov's blog post for how to debug Linux ARM64 related issues on a x86_64 host. |
Package: musicatk |
Version: 1.12.0 |
Command: /home/biocbuild/R/R-4.3.1/bin/R CMD check --install=check:musicatk.install-out.txt --library=/home/biocbuild/R/R-4.3.1/site-library --no-vignettes --timings musicatk_1.12.0.tar.gz |
StartedAt: 2023-11-02 12:35:09 -0000 (Thu, 02 Nov 2023) |
EndedAt: 2023-11-02 12:43:38 -0000 (Thu, 02 Nov 2023) |
EllapsedTime: 508.6 seconds |
RetCode: 0 |
Status: OK |
CheckDir: musicatk.Rcheck |
Warnings: 0 |
############################################################################## ############################################################################## ### ### Running command: ### ### /home/biocbuild/R/R-4.3.1/bin/R CMD check --install=check:musicatk.install-out.txt --library=/home/biocbuild/R/R-4.3.1/site-library --no-vignettes --timings musicatk_1.12.0.tar.gz ### ############################################################################## ############################################################################## * using log directory ‘/home/biocbuild/bbs-3.18-bioc/meat/musicatk.Rcheck’ * using R version 4.3.1 (2023-06-16) * using platform: aarch64-unknown-linux-gnu (64-bit) * R was compiled by gcc (GCC) 10.3.1 GNU Fortran (GCC) 10.3.1 * running under: openEuler 22.03 (LTS-SP1) * using session charset: UTF-8 * using option ‘--no-vignettes’ * checking for file ‘musicatk/DESCRIPTION’ ... OK * checking extension type ... Package * this is package ‘musicatk’ version ‘1.12.0’ * package encoding: UTF-8 * checking package namespace information ... OK * checking package dependencies ... OK * checking if this is a source package ... OK * checking if there is a namespace ... OK * checking for hidden files and directories ... OK * checking for portable file names ... OK * checking for sufficient/correct file permissions ... OK * checking whether package ‘musicatk’ can be installed ... OK * checking installed package size ... OK * checking package directory ... OK * checking ‘build’ directory ... OK * checking DESCRIPTION meta-information ... OK * checking top-level files ... OK * checking for left-over files ... OK * checking index information ... OK * checking package subdirectories ... OK * checking R files for non-ASCII characters ... OK * checking R files for syntax errors ... OK * checking whether the package can be loaded ... OK * checking whether the package can be loaded with stated dependencies ... OK * checking whether the package can be unloaded cleanly ... OK * checking whether the namespace can be loaded with stated dependencies ... OK * checking whether the namespace can be unloaded cleanly ... OK * checking loading without being on the library search path ... OK * checking dependencies in R code ... OK * checking S3 generic/method consistency ... OK * checking replacement functions ... OK * checking foreign function calls ... OK * checking R code for possible problems ... OK * checking Rd files ... OK * checking Rd metadata ... OK * checking Rd cross-references ... OK * checking for missing documentation entries ... OK * checking for code/documentation mismatches ... OK * checking Rd \usage sections ... OK * checking Rd contents ... OK * checking for unstated dependencies in examples ... OK * checking contents of ‘data’ directory ... OK * checking data for non-ASCII characters ... OK * checking LazyData ... OK * checking data for ASCII and uncompressed saves ... OK * checking files in ‘vignettes’ ... OK * checking examples ... OK Examples with CPU (user + system) or elapsed time > 5s user system elapsed build_standard_table 11.426 0.599 12.507 plot_cluster 6.322 0.148 6.562 create_umap 6.053 0.172 6.264 extract_variants 5.981 0.080 6.080 plot_umap 5.496 0.028 5.536 * checking for unstated dependencies in ‘tests’ ... OK * checking tests ... Running ‘testthat.R’ OK * checking for unstated dependencies in vignettes ... OK * checking package vignettes in ‘inst/doc’ ... OK * checking running R code from vignettes ... SKIPPED * checking re-building of vignette outputs ... SKIPPED * checking PDF version of manual ... OK * DONE Status: OK
musicatk.Rcheck/00install.out
############################################################################## ############################################################################## ### ### Running command: ### ### /home/biocbuild/R/R-4.3.1/bin/R CMD INSTALL musicatk ### ############################################################################## ############################################################################## * installing to library ‘/home/biocbuild/R/R-4.3.1/site-library’ * installing *source* package ‘musicatk’ ... ** using staged installation ** R ** data *** moving datasets to lazyload DB ** inst ** byte-compile and prepare package for lazy loading ** help *** installing help indices ** building package indices ** installing vignettes ** testing if installed package can be loaded from temporary location ** testing if installed package can be loaded from final location ** testing if installed package keeps a record of temporary installation path * DONE (musicatk)
musicatk.Rcheck/tests/testthat.Rout
R version 4.3.1 (2023-06-16) -- "Beagle Scouts" Copyright (C) 2023 The R Foundation for Statistical Computing Platform: aarch64-unknown-linux-gnu (64-bit) R is free software and comes with ABSOLUTELY NO WARRANTY. You are welcome to redistribute it under certain conditions. Type 'license()' or 'licence()' for distribution details. R is a collaborative project with many contributors. Type 'contributors()' for more information and 'citation()' on how to cite R or R packages in publications. Type 'demo()' for some demos, 'help()' for on-line help, or 'help.start()' for an HTML browser interface to help. Type 'q()' to quit R. > library("testthat") > library("musicatk") Loading required package: NMF Loading required package: registry Loading required package: rngtools Loading required package: cluster NMF - BioConductor layer [OK] | Shared memory capabilities [NO: bigmemory] | Cores 2/2 To enable shared memory capabilities, try: install.extras(' NMF ') Attaching package: 'NMF' The following object is masked from 'package:testthat': compare > > test_check("musicatk") [ FAIL 0 | WARN 5 | SKIP 0 | PASS 42 ] [ FAIL 0 | WARN 5 | SKIP 0 | PASS 42 ] > > proc.time() user system elapsed 27.401 1.392 28.971
musicatk.Rcheck/musicatk-Ex.timings
name | user | system | elapsed | |
add_flank_to_variants | 4.011 | 0.316 | 4.472 | |
add_variant_type | 0.017 | 0.000 | 0.018 | |
annotate_replication_strand | 0.170 | 0.004 | 0.174 | |
annotate_transcript_strand | 2.784 | 0.127 | 2.943 | |
annotate_variant_length | 0.013 | 0.000 | 0.013 | |
annotate_variant_type | 0.002 | 0.000 | 0.003 | |
auto_predict_grid | 2.831 | 0.050 | 2.902 | |
build_custom_table | 1.313 | 0.012 | 1.331 | |
build_standard_table | 11.426 | 0.599 | 12.507 | |
built_tables | 0.000 | 0.002 | 0.002 | |
cluster_exposure | 0.017 | 0.001 | 0.025 | |
combine_count_tables | 3.294 | 0.188 | 3.489 | |
combine_predict_grid | 2.844 | 0.024 | 2.888 | |
compare_cosmic_v2 | 3.779 | 0.024 | 3.864 | |
compare_cosmic_v3 | 2.240 | 0.000 | 2.245 | |
compare_results | 2.596 | 0.020 | 2.622 | |
cosmic_v2_subtype_map | 0.000 | 0.002 | 0.002 | |
create_musica | 1.060 | 0.152 | 1.714 | |
create_umap | 6.053 | 0.172 | 6.264 | |
discover_signatures | 0.891 | 0.071 | 0.998 | |
drop_annotation | 0.002 | 0.000 | 0.002 | |
exposure_differential_analysis | 0.015 | 0.000 | 0.019 | |
exposures | 0.004 | 0.000 | 0.004 | |
extract_count_tables | 0.005 | 0.000 | 0.005 | |
extract_variants | 5.981 | 0.080 | 6.080 | |
extract_variants_from_maf | 0.146 | 0.004 | 0.148 | |
extract_variants_from_maf_file | 0.127 | 0.000 | 0.125 | |
extract_variants_from_matrix | 0.237 | 0.004 | 0.239 | |
extract_variants_from_vcf | 0.964 | 0.036 | 1.004 | |
extract_variants_from_vcf_file | 0.672 | 0.007 | 0.681 | |
generate_result_grid | 0.237 | 0.001 | 0.237 | |
get_musica | 0.009 | 0.000 | 0.008 | |
k_select | 1.190 | 0.019 | 1.215 | |
musicatk | 0 | 0 | 0 | |
name_signatures | 0.003 | 0.000 | 0.003 | |
pipe | 0.000 | 0.003 | 0.003 | |
plot_cluster | 6.322 | 0.148 | 6.562 | |
plot_differential_analysis | 0.262 | 0.004 | 0.266 | |
plot_exposures | 0.268 | 0.008 | 0.277 | |
plot_heatmap | 1.038 | 0.016 | 1.057 | |
plot_sample_counts | 0.766 | 0.000 | 0.769 | |
plot_sample_reconstruction_error | 1.082 | 0.032 | 1.118 | |
plot_signatures | 1.128 | 0.004 | 1.135 | |
plot_umap | 5.496 | 0.028 | 5.536 | |
predict_exposure | 1.750 | 0.040 | 1.795 | |
rc | 0.000 | 0.003 | 0.004 | |
samp_annot | 0.01 | 0.00 | 0.01 | |
sample_names | 0.003 | 0.000 | 0.003 | |
select_genome | 0 | 0 | 0 | |
signatures | 0.005 | 0.000 | 0.006 | |
subset_musica_by_annotation | 0.006 | 0.000 | 0.007 | |
subset_musica_by_counts | 0.005 | 0.004 | 0.008 | |
subset_variant_by_type | 0.006 | 0.000 | 0.006 | |
subset_variants_by_samples | 0.005 | 0.000 | 0.005 | |
table_selected | 0.003 | 0.000 | 0.002 | |
tables | 0.01 | 0.00 | 0.01 | |
umap | 0.004 | 0.000 | 0.004 | |
variants | 0.009 | 0.000 | 0.009 | |