| Back to Multiple platform build/check report for BioC 3.18: simplified long |
|
This page was generated on 2024-03-04 11:37:34 -0500 (Mon, 04 Mar 2024).
| Hostname | OS | Arch (*) | R version | Installed pkgs |
|---|---|---|---|---|
| nebbiolo2 | Linux (Ubuntu 22.04.3 LTS) | x86_64 | 4.3.2 Patched (2023-11-13 r85521) -- "Eye Holes" | 4692 |
| palomino4 | Windows Server 2022 Datacenter | x64 | 4.3.2 (2023-10-31 ucrt) -- "Eye Holes" | 4445 |
| lconway | macOS 12.7.1 Monterey | x86_64 | 4.3.2 Patched (2023-11-01 r85457) -- "Eye Holes" | 4466 |
| Click on any hostname to see more info about the system (e.g. compilers) (*) as reported by 'uname -p', except on Windows and Mac OS X | ||||
| Package 1282/2266 | Hostname | OS / Arch | INSTALL | BUILD | CHECK | BUILD BIN | ||||||||
| mitch 1.14.0 (landing page) Mark Ziemann
| nebbiolo2 | Linux (Ubuntu 22.04.3 LTS) / x86_64 | OK | OK | OK | |||||||||
| palomino4 | Windows Server 2022 Datacenter / x64 | OK | OK | OK | OK | |||||||||
| lconway | macOS 12.7.1 Monterey / x86_64 | OK | OK | OK | OK | |||||||||
| kjohnson1 | macOS 13.6.1 Ventura / arm64 | see weekly results here | ||||||||||||
|
To the developers/maintainers of the mitch package: - Allow up to 24 hours (and sometimes 48 hours) for your latest push to git@git.bioconductor.org:packages/mitch.git to reflect on this report. See Troubleshooting Build Report for more information. - Use the following Renviron settings to reproduce errors and warnings. - If 'R CMD check' started to fail recently on the Linux builder(s) over a missing dependency, add the missing dependency to 'Suggests:' in your DESCRIPTION file. See Renviron.bioc for more information. |
| Package: mitch |
| Version: 1.14.0 |
| Command: /Library/Frameworks/R.framework/Resources/bin/R CMD check --install=check:mitch.install-out.txt --library=/Library/Frameworks/R.framework/Resources/library --no-vignettes --timings mitch_1.14.0.tar.gz |
| StartedAt: 2024-03-03 21:52:47 -0500 (Sun, 03 Mar 2024) |
| EndedAt: 2024-03-03 21:57:11 -0500 (Sun, 03 Mar 2024) |
| EllapsedTime: 263.9 seconds |
| RetCode: 0 |
| Status: OK |
| CheckDir: mitch.Rcheck |
| Warnings: 0 |
##############################################################################
##############################################################################
###
### Running command:
###
### /Library/Frameworks/R.framework/Resources/bin/R CMD check --install=check:mitch.install-out.txt --library=/Library/Frameworks/R.framework/Resources/library --no-vignettes --timings mitch_1.14.0.tar.gz
###
##############################################################################
##############################################################################
* using log directory ‘/Users/biocbuild/bbs-3.18-bioc/meat/mitch.Rcheck’
* using R version 4.3.2 Patched (2023-11-01 r85457)
* using platform: x86_64-apple-darwin20 (64-bit)
* R was compiled by
Apple clang version 14.0.3 (clang-1403.0.22.14.1)
GNU Fortran (GCC) 12.2.0
* running under: macOS Monterey 12.7.1
* using session charset: UTF-8
* using option ‘--no-vignettes’
* checking for file ‘mitch/DESCRIPTION’ ... OK
* this is package ‘mitch’ version ‘1.14.0’
* package encoding: UTF-8
* checking package namespace information ... OK
* checking package dependencies ... OK
* checking if this is a source package ... OK
* checking if there is a namespace ... OK
* checking for hidden files and directories ... OK
* checking for portable file names ... OK
* checking for sufficient/correct file permissions ... OK
* checking whether package ‘mitch’ can be installed ... OK
* checking installed package size ... OK
* checking package directory ... OK
* checking ‘build’ directory ... OK
* checking DESCRIPTION meta-information ... OK
* checking top-level files ... OK
* checking for left-over files ... OK
* checking index information ... OK
* checking package subdirectories ... OK
* checking R files for non-ASCII characters ... OK
* checking R files for syntax errors ... OK
* checking whether the package can be loaded ... OK
* checking whether the package can be loaded with stated dependencies ... OK
* checking whether the package can be unloaded cleanly ... OK
* checking whether the namespace can be loaded with stated dependencies ... OK
* checking whether the namespace can be unloaded cleanly ... OK
* checking dependencies in R code ... OK
* checking S3 generic/method consistency ... OK
* checking replacement functions ... OK
* checking foreign function calls ... OK
* checking R code for possible problems ... OK
* checking Rd files ... OK
* checking Rd metadata ... OK
* checking Rd cross-references ... OK
* checking for missing documentation entries ... OK
* checking for code/documentation mismatches ... OK
* checking Rd \usage sections ... OK
* checking Rd contents ... OK
* checking for unstated dependencies in examples ... OK
* checking contents of ‘data’ directory ... OK
* checking data for non-ASCII characters ... OK
* checking data for ASCII and uncompressed saves ... OK
* checking files in ‘vignettes’ ... OK
* checking examples ... OK
Examples with CPU (user + system) or elapsed time > 5s
user system elapsed
mitch 57.015 1.590 59.093
mitch_report 32.122 0.854 33.326
mitch_plots 23.799 0.510 24.509
* checking for unstated dependencies in ‘tests’ ... OK
* checking tests ...
Running ‘test-mitch.R’
OK
* checking for unstated dependencies in vignettes ... OK
* checking package vignettes in ‘inst/doc’ ... OK
* checking running R code from vignettes ... SKIPPED
* checking re-building of vignette outputs ... SKIPPED
* checking PDF version of manual ... OK
* DONE
Status: OK
mitch.Rcheck/00install.out
############################################################################## ############################################################################## ### ### Running command: ### ### /Library/Frameworks/R.framework/Resources/bin/R CMD INSTALL mitch ### ############################################################################## ############################################################################## * installing to library ‘/Library/Frameworks/R.framework/Versions/4.3-x86_64/Resources/library’ * installing *source* package ‘mitch’ ... ** using staged installation ** R ** data ** inst ** byte-compile and prepare package for lazy loading ** help *** installing help indices ** building package indices ** installing vignettes ** testing if installed package can be loaded from temporary location ** testing if installed package can be loaded from final location ** testing if installed package keeps a record of temporary installation path * DONE (mitch)
mitch.Rcheck/tests/test-mitch.Rout
R version 4.3.2 Patched (2023-11-01 r85457) -- "Eye Holes"
Copyright (C) 2023 The R Foundation for Statistical Computing
Platform: x86_64-apple-darwin20 (64-bit)
R is free software and comes with ABSOLUTELY NO WARRANTY.
You are welcome to redistribute it under certain conditions.
Type 'license()' or 'licence()' for distribution details.
R is a collaborative project with many contributors.
Type 'contributors()' for more information and
'citation()' on how to cite R or R packages in publications.
Type 'demo()' for some demos, 'help()' for on-line help, or
'help.start()' for an HTML browser interface to help.
Type 'q()' to quit R.
> library("mitch")
> library("testthat")
>
> test_that("multiplication works", {
+ expect_equal(2 * 2, 4)
+ })
Test passed 😸
>
> # 1d
> data(rna,genesetsExample)
> y<-mitch_import(rna,DEtype="edgeR")
The input is a single dataframe; one contrast only. Converting
it to a list for you.
Note: Mean no. genes in input = 1000
Note: no. genes in output = 1000
Note: estimated proportion of input genes in output = 1
> res<-mitch_calc(y,genesetsExample,cores=2)
Note: When prioritising by significance (ie: small
p-values), large effect sizes might be missed.
> mitch_plots(res,outfile="1d.pdf")
null device
1
> if (file.exists("1d.html")) { unlink("1d.html") }
> mitch_report(res,"1d.html")
Dataset saved as " /tmp/Rtmpl8y3WE/1d.rds ".
processing file: mitch.Rmd
output file: /Users/biocbuild/bbs-3.18-bioc/meat/mitch.Rcheck/tests/mitch.knit.md
/usr/local/bin/pandoc +RTS -K512m -RTS /Users/biocbuild/bbs-3.18-bioc/meat/mitch.Rcheck/tests/mitch.knit.md --to html4 --from markdown+autolink_bare_uris+tex_math_single_backslash --output /tmp/Rtmpl8y3WE/mitch_report.html --lua-filter /Library/Frameworks/R.framework/Versions/4.3-x86_64/Resources/library/rmarkdown/rmarkdown/lua/pagebreak.lua --lua-filter /Library/Frameworks/R.framework/Versions/4.3-x86_64/Resources/library/rmarkdown/rmarkdown/lua/latex-div.lua --self-contained --variable bs3=TRUE --section-divs --template /Library/Frameworks/R.framework/Versions/4.3-x86_64/Resources/library/rmarkdown/rmd/h/default.html --no-highlight --variable highlightjs=1 --variable theme=bootstrap --mathjax --variable 'mathjax-url=https://mathjax.rstudio.com/latest/MathJax.js?config=TeX-AMS-MML_HTMLorMML' --include-in-header /tmp/Rtmpl8y3WE/rmarkdown-str138b4559846d8.html
Output created: /tmp/Rtmpl8y3WE/mitch_report.html
[1] TRUE
>
> test_that("1d works", {
+ expect_equal( length(which(res$enrichment_result$p.adjustANOVA<0.1)) ,1)
+ expect_true(file.info("1d.pdf")$size>10000)
+ expect_true(file.info("1d.html")$size>1000000)
+ })
Test passed 🥇
>
> unlink("1d.html")
> unlink("1d.pdf")
>
>
> # 1d part 2 to make sure that saving files at a different location works
> MYPATH=paste(getwd(),"/1d.html",sep="")
> if (file.exists("1d.html")) { unlink("1d.html") }
> mitch_report(res,MYPATH)
Dataset saved as " /tmp/Rtmpl8y3WE/1d.rds ".
processing file: mitch.Rmd
output file: /Users/biocbuild/bbs-3.18-bioc/meat/mitch.Rcheck/tests/mitch.knit.md
/usr/local/bin/pandoc +RTS -K512m -RTS /Users/biocbuild/bbs-3.18-bioc/meat/mitch.Rcheck/tests/mitch.knit.md --to html4 --from markdown+autolink_bare_uris+tex_math_single_backslash --output /tmp/Rtmpl8y3WE/mitch_report.html --lua-filter /Library/Frameworks/R.framework/Versions/4.3-x86_64/Resources/library/rmarkdown/rmarkdown/lua/pagebreak.lua --lua-filter /Library/Frameworks/R.framework/Versions/4.3-x86_64/Resources/library/rmarkdown/rmarkdown/lua/latex-div.lua --self-contained --variable bs3=TRUE --section-divs --template /Library/Frameworks/R.framework/Versions/4.3-x86_64/Resources/library/rmarkdown/rmd/h/default.html --no-highlight --variable highlightjs=1 --variable theme=bootstrap --mathjax --variable 'mathjax-url=https://mathjax.rstudio.com/latest/MathJax.js?config=TeX-AMS-MML_HTMLorMML' --include-in-header /tmp/Rtmpl8y3WE/rmarkdown-str138b41fd1eacb.html
Output created: /tmp/Rtmpl8y3WE/mitch_report.html
[1] TRUE
>
> test_that("1d works", {
+ expect_true(file.info("1d.html")$size>1000000)
+ })
Test passed 🎊
>
> unlink("1d.html")
>
>
>
> # 2d
> data(rna,k9a,genesetsExample)
> x<-list("rna"=rna,"k9a"=k9a)
> y<-mitch_import(x,DEtype="edgeR")
Note: Mean no. genes in input = 1000
Note: no. genes in output = 1000
Note: estimated proportion of input genes in output = 1
> res<-mitch_calc(y,genesetsExample,cores=2)
Note: When prioritising by significance (ie: small
p-values), large effect sizes might be missed.
> mitch_plots(res,outfile="2d.pdf")
null device
1
> if (file.exists("2d.html")) { unlink("2d.html") }
> mitch_report(res,"2d.html")
Dataset saved as " /tmp/Rtmpl8y3WE/2d.rds ".
processing file: mitch.Rmd
output file: /Users/biocbuild/bbs-3.18-bioc/meat/mitch.Rcheck/tests/mitch.knit.md
/usr/local/bin/pandoc +RTS -K512m -RTS /Users/biocbuild/bbs-3.18-bioc/meat/mitch.Rcheck/tests/mitch.knit.md --to html4 --from markdown+autolink_bare_uris+tex_math_single_backslash --output /tmp/Rtmpl8y3WE/mitch_report.html --lua-filter /Library/Frameworks/R.framework/Versions/4.3-x86_64/Resources/library/rmarkdown/rmarkdown/lua/pagebreak.lua --lua-filter /Library/Frameworks/R.framework/Versions/4.3-x86_64/Resources/library/rmarkdown/rmarkdown/lua/latex-div.lua --self-contained --variable bs3=TRUE --section-divs --template /Library/Frameworks/R.framework/Versions/4.3-x86_64/Resources/library/rmarkdown/rmd/h/default.html --no-highlight --variable highlightjs=1 --variable theme=bootstrap --mathjax --variable 'mathjax-url=https://mathjax.rstudio.com/latest/MathJax.js?config=TeX-AMS-MML_HTMLorMML' --include-in-header /tmp/Rtmpl8y3WE/rmarkdown-str138b478a40ba.html
Output created: /tmp/Rtmpl8y3WE/mitch_report.html
[1] TRUE
>
> test_that("2d works", {
+ expect_equal( length(which(res$enrichment_result$p.adjustMANOVA<0.1)) ,1)
+ expect_true(file.info("2d.pdf")$size>100000)
+ expect_true(file.info("2d.html")$size>1000000)
+ })
Test passed 😀
>
> unlink("2d.html")
> unlink("2d.pdf")
>
> # 3d
> data(rna,k9a,k36a,genesetsExample)
> x<-list("rna"=rna,"k9a"=k9a,"k36a"=k36a)
> y<-mitch_import(x,DEtype="edgeR")
Note: Mean no. genes in input = 1000
Note: no. genes in output = 1000
Note: estimated proportion of input genes in output = 1
> res<-mitch_calc(y,genesetsExample,cores=2)
Note: When prioritising by significance (ie: small
p-values), large effect sizes might be missed.
> mitch_plots(res,outfile="3d.pdf")
null device
1
There were 16 warnings (use warnings() to see them)
> if (file.exists("3d.html")) { unlink("3d.html") }
> mitch_report(res,"3d.html")
Dataset saved as " /tmp/Rtmpl8y3WE/3d.rds ".
processing file: mitch.Rmd
output file: /Users/biocbuild/bbs-3.18-bioc/meat/mitch.Rcheck/tests/mitch.knit.md
/usr/local/bin/pandoc +RTS -K512m -RTS /Users/biocbuild/bbs-3.18-bioc/meat/mitch.Rcheck/tests/mitch.knit.md --to html4 --from markdown+autolink_bare_uris+tex_math_single_backslash --output /tmp/Rtmpl8y3WE/mitch_report.html --lua-filter /Library/Frameworks/R.framework/Versions/4.3-x86_64/Resources/library/rmarkdown/rmarkdown/lua/pagebreak.lua --lua-filter /Library/Frameworks/R.framework/Versions/4.3-x86_64/Resources/library/rmarkdown/rmarkdown/lua/latex-div.lua --self-contained --variable bs3=TRUE --section-divs --template /Library/Frameworks/R.framework/Versions/4.3-x86_64/Resources/library/rmarkdown/rmd/h/default.html --no-highlight --variable highlightjs=1 --variable theme=bootstrap --mathjax --variable 'mathjax-url=https://mathjax.rstudio.com/latest/MathJax.js?config=TeX-AMS-MML_HTMLorMML' --include-in-header /tmp/Rtmpl8y3WE/rmarkdown-str138b44302fee3.html
Output created: /tmp/Rtmpl8y3WE/mitch_report.html
[1] TRUE
>
> test_that("3d works", {
+ expect_equal( length(which(res$enrichment_result$p.adjustMANOVA<0.1)) ,1)
+ expect_true(file.info("3d.pdf")$size>100000)
+ expect_true(file.info("3d.html")$size>1000000)
+ })
Test passed 😀
>
> unlink("3d.html")
> unlink("3d.pdf")
>
>
>
> proc.time()
user system elapsed
80.162 3.670 84.983
mitch.Rcheck/mitch-Ex.timings
| name | user | system | elapsed | |
| genesetsExample | 0.009 | 0.002 | 0.011 | |
| gmt_import | 0.015 | 0.001 | 0.018 | |
| k36a | 0.005 | 0.002 | 0.009 | |
| k9a | 0.005 | 0.001 | 0.006 | |
| mitch | 57.015 | 1.590 | 59.093 | |
| mitch_calc | 0.403 | 0.402 | 0.502 | |
| mitch_import | 0.023 | 0.004 | 0.026 | |
| mitch_plots | 23.799 | 0.510 | 24.509 | |
| mitch_report | 32.122 | 0.854 | 33.326 | |
| myImportedData | 0.005 | 0.002 | 0.006 | |
| myList | 0.011 | 0.002 | 0.012 | |
| resExample | 0.012 | 0.002 | 0.013 | |
| rna | 0.005 | 0.002 | 0.007 | |