| Back to Multiple platform build/check report for BioC 3.18: simplified long |
|
This page was generated on 2024-01-24 11:36:04 -0500 (Wed, 24 Jan 2024).
| Hostname | OS | Arch (*) | R version | Installed pkgs |
|---|---|---|---|---|
| nebbiolo2 | Linux (Ubuntu 22.04.2 LTS) | x86_64 | 4.3.2 Patched (2023-11-13 r85521) -- "Eye Holes" | 4690 |
| palomino4 | Windows Server 2022 Datacenter | x64 | 4.3.2 (2023-10-31 ucrt) -- "Eye Holes" | 4443 |
| lconway | macOS 12.7.1 Monterey | x86_64 | 4.3.2 Patched (2023-11-01 r85457) -- "Eye Holes" | 4462 |
| Click on any hostname to see more info about the system (e.g. compilers) (*) as reported by 'uname -p', except on Windows and Mac OS X | ||||
| Package 1256/2266 | Hostname | OS / Arch | INSTALL | BUILD | CHECK | BUILD BIN | ||||||||
| midasHLA 1.10.0 (landing page) Maciej Migdał
| nebbiolo2 | Linux (Ubuntu 22.04.2 LTS) / x86_64 | OK | OK | OK | |||||||||
| palomino4 | Windows Server 2022 Datacenter / x64 | OK | OK | OK | OK | |||||||||
| lconway | macOS 12.7.1 Monterey / x86_64 | OK | OK | OK | OK | |||||||||
| kjohnson1 | macOS 13.6.1 Ventura / arm64 | see weekly results here | ||||||||||||
|
To the developers/maintainers of the midasHLA package: - Allow up to 24 hours (and sometimes 48 hours) for your latest push to git@git.bioconductor.org:packages/midasHLA.git to reflect on this report. See Troubleshooting Build Report for more information. - Use the following Renviron settings to reproduce errors and warnings. - If 'R CMD check' started to fail recently on the Linux builder(s) over a missing dependency, add the missing dependency to 'Suggests:' in your DESCRIPTION file. See Renviron.bioc for more information. |
| Package: midasHLA |
| Version: 1.10.0 |
| Command: /home/biocbuild/bbs-3.18-bioc/R/bin/R CMD check --install=check:midasHLA.install-out.txt --library=/home/biocbuild/bbs-3.18-bioc/R/site-library --timings midasHLA_1.10.0.tar.gz |
| StartedAt: 2024-01-23 23:25:35 -0500 (Tue, 23 Jan 2024) |
| EndedAt: 2024-01-23 23:32:44 -0500 (Tue, 23 Jan 2024) |
| EllapsedTime: 429.1 seconds |
| RetCode: 0 |
| Status: OK |
| CheckDir: midasHLA.Rcheck |
| Warnings: 0 |
##############################################################################
##############################################################################
###
### Running command:
###
### /home/biocbuild/bbs-3.18-bioc/R/bin/R CMD check --install=check:midasHLA.install-out.txt --library=/home/biocbuild/bbs-3.18-bioc/R/site-library --timings midasHLA_1.10.0.tar.gz
###
##############################################################################
##############################################################################
* using log directory ‘/home/biocbuild/bbs-3.18-bioc/meat/midasHLA.Rcheck’
* using R version 4.3.2 Patched (2023-11-13 r85521)
* using platform: x86_64-pc-linux-gnu (64-bit)
* R was compiled by
gcc (Ubuntu 11.4.0-1ubuntu1~22.04) 11.4.0
GNU Fortran (Ubuntu 11.4.0-1ubuntu1~22.04) 11.4.0
* running under: Ubuntu 22.04.3 LTS
* using session charset: UTF-8
* checking for file ‘midasHLA/DESCRIPTION’ ... OK
* this is package ‘midasHLA’ version ‘1.10.0’
* package encoding: UTF-8
* checking package namespace information ... OK
* checking package dependencies ... OK
* checking if this is a source package ... OK
* checking if there is a namespace ... OK
* checking for hidden files and directories ... NOTE
Found the following hidden files and directories:
.BBSoptions
These were most likely included in error. See section ‘Package
structure’ in the ‘Writing R Extensions’ manual.
* checking for portable file names ... OK
* checking for sufficient/correct file permissions ... OK
* checking whether package ‘midasHLA’ can be installed ... OK
* checking installed package size ... OK
* checking package directory ... OK
* checking ‘build’ directory ... OK
* checking DESCRIPTION meta-information ... OK
* checking top-level files ... OK
* checking for left-over files ... OK
* checking index information ... OK
* checking package subdirectories ... OK
* checking R files for non-ASCII characters ... OK
* checking R files for syntax errors ... OK
* checking whether the package can be loaded ... OK
* checking whether the package can be loaded with stated dependencies ... OK
* checking whether the package can be unloaded cleanly ... OK
* checking whether the namespace can be loaded with stated dependencies ... OK
* checking whether the namespace can be unloaded cleanly ... OK
* checking loading without being on the library search path ... OK
* checking dependencies in R code ... OK
* checking S3 generic/method consistency ... OK
* checking replacement functions ... OK
* checking foreign function calls ... OK
* checking R code for possible problems ... OK
* checking Rd files ... OK
* checking Rd metadata ... OK
* checking Rd cross-references ... OK
* checking for missing documentation entries ... OK
* checking for code/documentation mismatches ... OK
* checking Rd \usage sections ... OK
* checking Rd contents ... OK
* checking for unstated dependencies in examples ... OK
* checking contents of ‘data’ directory ... OK
* checking data for non-ASCII characters ... NOTE
Note: found 1180 marked UTF-8 strings
* checking LazyData ... OK
* checking data for ASCII and uncompressed saves ... OK
* checking files in ‘vignettes’ ... OK
* checking examples ... OK
Examples with CPU (user + system) or elapsed time > 5s
user system elapsed
runMiDAS 11.910 0.140 12.051
omnibusTest 7.001 0.056 7.057
getAAFrequencies 5.879 0.116 5.997
kableResults 5.639 0.020 5.660
* checking for unstated dependencies in ‘tests’ ... OK
* checking tests ...
Running ‘testthat.R’
OK
* checking for unstated dependencies in vignettes ... OK
* checking package vignettes in ‘inst/doc’ ... OK
* checking running R code from vignettes ...
‘MiDAS_tutorial.Rmd’ using ‘UTF-8’... OK
‘MiDAS_vignette.Rmd’ using ‘UTF-8’... OK
NONE
* checking re-building of vignette outputs ... OK
* checking PDF version of manual ... OK
* DONE
Status: 2 NOTEs
See
‘/home/biocbuild/bbs-3.18-bioc/meat/midasHLA.Rcheck/00check.log’
for details.
midasHLA.Rcheck/00install.out
############################################################################## ############################################################################## ### ### Running command: ### ### /home/biocbuild/bbs-3.18-bioc/R/bin/R CMD INSTALL midasHLA ### ############################################################################## ############################################################################## * installing to library ‘/home/biocbuild/bbs-3.18-bioc/R/site-library’ * installing *source* package ‘midasHLA’ ... ** using staged installation ** R ** data *** moving datasets to lazyload DB ** inst ** byte-compile and prepare package for lazy loading ** help *** installing help indices ** building package indices ** installing vignettes ** testing if installed package can be loaded from temporary location ** testing if installed package can be loaded from final location ** testing if installed package keeps a record of temporary installation path * DONE (midasHLA)
midasHLA.Rcheck/tests/testthat.Rout
R version 4.3.2 Patched (2023-11-13 r85521) -- "Eye Holes"
Copyright (C) 2023 The R Foundation for Statistical Computing
Platform: x86_64-pc-linux-gnu (64-bit)
R is free software and comes with ABSOLUTELY NO WARRANTY.
You are welcome to redistribute it under certain conditions.
Type 'license()' or 'licence()' for distribution details.
R is a collaborative project with many contributors.
Type 'contributors()' for more information and
'citation()' on how to cite R or R packages in publications.
Type 'demo()' for some demos, 'help()' for on-line help, or
'help.start()' for an HTML browser interface to help.
Type 'q()' to quit R.
> library(testthat)
> library(midasHLA)
Loading required package: MultiAssayExperiment
Loading required package: SummarizedExperiment
Loading required package: MatrixGenerics
Loading required package: matrixStats
Attaching package: 'MatrixGenerics'
The following objects are masked from 'package:matrixStats':
colAlls, colAnyNAs, colAnys, colAvgsPerRowSet, colCollapse,
colCounts, colCummaxs, colCummins, colCumprods, colCumsums,
colDiffs, colIQRDiffs, colIQRs, colLogSumExps, colMadDiffs,
colMads, colMaxs, colMeans2, colMedians, colMins, colOrderStats,
colProds, colQuantiles, colRanges, colRanks, colSdDiffs, colSds,
colSums2, colTabulates, colVarDiffs, colVars, colWeightedMads,
colWeightedMeans, colWeightedMedians, colWeightedSds,
colWeightedVars, rowAlls, rowAnyNAs, rowAnys, rowAvgsPerColSet,
rowCollapse, rowCounts, rowCummaxs, rowCummins, rowCumprods,
rowCumsums, rowDiffs, rowIQRDiffs, rowIQRs, rowLogSumExps,
rowMadDiffs, rowMads, rowMaxs, rowMeans2, rowMedians, rowMins,
rowOrderStats, rowProds, rowQuantiles, rowRanges, rowRanks,
rowSdDiffs, rowSds, rowSums2, rowTabulates, rowVarDiffs, rowVars,
rowWeightedMads, rowWeightedMeans, rowWeightedMedians,
rowWeightedSds, rowWeightedVars
Loading required package: GenomicRanges
Loading required package: stats4
Loading required package: BiocGenerics
Attaching package: 'BiocGenerics'
The following objects are masked from 'package:stats':
IQR, mad, sd, var, xtabs
The following objects are masked from 'package:base':
Filter, Find, Map, Position, Reduce, anyDuplicated, aperm, append,
as.data.frame, basename, cbind, colnames, dirname, do.call,
duplicated, eval, evalq, get, grep, grepl, intersect, is.unsorted,
lapply, mapply, match, mget, order, paste, pmax, pmax.int, pmin,
pmin.int, rank, rbind, rownames, sapply, setdiff, sort, table,
tapply, union, unique, unsplit, which.max, which.min
Loading required package: S4Vectors
Attaching package: 'S4Vectors'
The following object is masked from 'package:utils':
findMatches
The following objects are masked from 'package:base':
I, expand.grid, unname
Loading required package: IRanges
Loading required package: GenomeInfoDb
Loading required package: Biobase
Welcome to Bioconductor
Vignettes contain introductory material; view with
'browseVignettes()'. To cite Bioconductor, see
'citation("Biobase")', and for packages 'citation("pkgname")'.
Attaching package: 'Biobase'
The following object is masked from 'package:MatrixGenerics':
rowMedians
The following objects are masked from 'package:matrixStats':
anyMissing, rowMedians
>
> test_check("midasHLA")
[ FAIL 0 | WARN 20 | SKIP 0 | PASS 309 ]
[ FAIL 0 | WARN 20 | SKIP 0 | PASS 309 ]
>
> proc.time()
user system elapsed
56.982 1.956 58.928
midasHLA.Rcheck/midasHLA-Ex.timings
| name | user | system | elapsed | |
| HWETest | 1.999 | 0.012 | 2.012 | |
| analyzeAssociations | 0.550 | 0.004 | 0.554 | |
| analyzeConditionalAssociations | 0.510 | 0.000 | 0.509 | |
| checkAlleleFormat | 0 | 0 | 0 | |
| checkKirGenesFormat | 0 | 0 | 0 | |
| convertAlleleToVariable | 0.005 | 0.000 | 0.005 | |
| countsToVariables | 0.019 | 0.004 | 0.024 | |
| filterByFrequency | 0.197 | 0.004 | 0.201 | |
| filterByOmnibusGroups | 0.07 | 0.00 | 0.07 | |
| filterByVariables | 0.212 | 0.000 | 0.212 | |
| formatResults | 0 | 0 | 0 | |
| getAAFrequencies | 5.879 | 0.116 | 5.997 | |
| getAlleleResolution | 0.000 | 0.000 | 0.001 | |
| getAllelesForAA | 1.419 | 0.088 | 1.507 | |
| getExperiments | 0 | 0 | 0 | |
| getFrequencies | 0.181 | 0.008 | 0.190 | |
| getHlaCalls | 0.029 | 0.036 | 0.065 | |
| getHlaFrequencies | 0.125 | 0.000 | 0.126 | |
| getHlaKirInteractions | 1.860 | 0.060 | 1.921 | |
| getKIRFrequencies | 0.005 | 0.000 | 0.006 | |
| getKirCalls | 0.032 | 0.008 | 0.040 | |
| getOmnibusGroups | 0.014 | 0.000 | 0.015 | |
| getPlaceholder | 0.001 | 0.000 | 0.000 | |
| getVariableAAPos | 0.017 | 0.000 | 0.017 | |
| hlaCallsGranthamDistance | 1.109 | 0.056 | 1.165 | |
| hlaToAAVariation | 2.448 | 0.148 | 2.596 | |
| hlaToVariable | 0.208 | 0.027 | 0.235 | |
| kableResults | 5.639 | 0.020 | 5.660 | |
| omnibusTest | 7.001 | 0.056 | 7.057 | |
| prepareMiDAS | 0.261 | 0.000 | 0.262 | |
| readHlaAlignments | 0.521 | 0.000 | 0.521 | |
| readHlaCalls | 0.14 | 0.00 | 0.14 | |
| readKirCalls | 0.023 | 0.024 | 0.047 | |
| reduceAlleleResolution | 0.001 | 0.000 | 0.001 | |
| reduceHlaCalls | 0.151 | 0.024 | 0.175 | |
| runMiDAS | 11.910 | 0.140 | 12.051 | |
| summariseAAPosition | 0.573 | 0.004 | 0.577 | |