| Back to Multiple platform build/check report for BioC 3.18: simplified long |
|
This page was generated on 2023-11-02 11:40:56 -0400 (Thu, 02 Nov 2023).
| Hostname | OS | Arch (*) | R version | Installed pkgs |
|---|---|---|---|---|
| nebbiolo2 | Linux (Ubuntu 22.04.2 LTS) | x86_64 | 4.3.1 (2023-06-16) -- "Beagle Scouts" | 4729 |
| palomino4 | Windows Server 2022 Datacenter | x64 | 4.3.1 (2023-06-16 ucrt) -- "Beagle Scouts" | 4463 |
| lconway | macOS 12.6.5 Monterey | x86_64 | 4.3.1 Patched (2023-06-17 r84564) -- "Beagle Scouts" | 4478 |
| kunpeng2 | Linux (openEuler 22.03 LTS-SP1) | aarch64 | 4.3.1 (2023-06-16) -- "Beagle Scouts" | 4464 |
| Click on any hostname to see more info about the system (e.g. compilers) (*) as reported by 'uname -p', except on Windows and Mac OS X | ||||
| Package 1249/2266 | Hostname | OS / Arch | INSTALL | BUILD | CHECK | BUILD BIN | ||||||||
| microbiomeExplorer 1.12.0 (landing page) Janina Reeder
| nebbiolo2 | Linux (Ubuntu 22.04.2 LTS) / x86_64 | OK | OK | OK | |||||||||
| palomino4 | Windows Server 2022 Datacenter / x64 | OK | OK | OK | OK | |||||||||
| lconway | macOS 12.6.5 Monterey / x86_64 | OK | OK | OK | OK | |||||||||
| kjohnson1 | macOS 13.6.1 Ventura / arm64 | see weekly results here | ||||||||||||
| kunpeng2 | Linux (openEuler 22.03 LTS-SP1) / aarch64 | OK | OK | OK | ||||||||||
|
To the developers/maintainers of the microbiomeExplorer package: - Allow up to 24 hours (and sometimes 48 hours) for your latest push to git@git.bioconductor.org:packages/microbiomeExplorer.git to reflect on this report. See Troubleshooting Build Report for more information. - Use the following Renviron settings to reproduce errors and warnings. - If 'R CMD check' started to fail recently on the Linux builder(s) over a missing dependency, add the missing dependency to 'Suggests:' in your DESCRIPTION file. See Renviron.bioc for more information. - See Martin Grigorov's blog post for how to debug Linux ARM64 related issues on a x86_64 host. |
| Package: microbiomeExplorer |
| Version: 1.12.0 |
| Command: /home/biocbuild/R/R-4.3.1/bin/R CMD check --install=check:microbiomeExplorer.install-out.txt --library=/home/biocbuild/R/R-4.3.1/site-library --no-vignettes --timings microbiomeExplorer_1.12.0.tar.gz |
| StartedAt: 2023-11-02 12:08:03 -0000 (Thu, 02 Nov 2023) |
| EndedAt: 2023-11-02 12:10:25 -0000 (Thu, 02 Nov 2023) |
| EllapsedTime: 142.6 seconds |
| RetCode: 0 |
| Status: OK |
| CheckDir: microbiomeExplorer.Rcheck |
| Warnings: 0 |
##############################################################################
##############################################################################
###
### Running command:
###
### /home/biocbuild/R/R-4.3.1/bin/R CMD check --install=check:microbiomeExplorer.install-out.txt --library=/home/biocbuild/R/R-4.3.1/site-library --no-vignettes --timings microbiomeExplorer_1.12.0.tar.gz
###
##############################################################################
##############################################################################
* using log directory ‘/home/biocbuild/bbs-3.18-bioc/meat/microbiomeExplorer.Rcheck’
* using R version 4.3.1 (2023-06-16)
* using platform: aarch64-unknown-linux-gnu (64-bit)
* R was compiled by
gcc (GCC) 10.3.1
GNU Fortran (GCC) 10.3.1
* running under: openEuler 22.03 (LTS-SP1)
* using session charset: UTF-8
* using option ‘--no-vignettes’
* checking for file ‘microbiomeExplorer/DESCRIPTION’ ... OK
* checking extension type ... Package
* this is package ‘microbiomeExplorer’ version ‘1.12.0’
* package encoding: UTF-8
* checking package namespace information ... OK
* checking package dependencies ... OK
* checking if this is a source package ... OK
* checking if there is a namespace ... OK
* checking for hidden files and directories ... OK
* checking for portable file names ... OK
* checking for sufficient/correct file permissions ... OK
* checking whether package ‘microbiomeExplorer’ can be installed ... OK
* checking installed package size ... NOTE
installed size is 7.6Mb
sub-directories of 1Mb or more:
extdata 4.2Mb
shiny 2.9Mb
* checking package directory ... OK
* checking ‘build’ directory ... OK
* checking DESCRIPTION meta-information ... OK
* checking top-level files ... OK
* checking for left-over files ... OK
* checking index information ... OK
* checking package subdirectories ... OK
* checking R files for non-ASCII characters ... OK
* checking R files for syntax errors ... OK
* checking whether the package can be loaded ... OK
* checking whether the package can be loaded with stated dependencies ... OK
* checking whether the package can be unloaded cleanly ... OK
* checking whether the namespace can be loaded with stated dependencies ... OK
* checking whether the namespace can be unloaded cleanly ... OK
* checking loading without being on the library search path ... OK
* checking startup messages can be suppressed ... OK
* checking dependencies in R code ... OK
* checking S3 generic/method consistency ... OK
* checking replacement functions ... OK
* checking foreign function calls ... OK
* checking R code for possible problems ... OK
* checking Rd files ... OK
* checking Rd metadata ... OK
* checking Rd cross-references ... OK
* checking for missing documentation entries ... OK
* checking for code/documentation mismatches ... OK
* checking Rd \usage sections ... OK
* checking Rd contents ... OK
* checking for unstated dependencies in examples ... OK
* checking files in ‘vignettes’ ... OK
* checking examples ... OK
* checking for unstated dependencies in ‘tests’ ... OK
* checking tests ...
Running ‘testthat.R’
OK
* checking for unstated dependencies in vignettes ... OK
* checking package vignettes in ‘inst/doc’ ... OK
* checking running R code from vignettes ... SKIPPED
* checking re-building of vignette outputs ... SKIPPED
* checking PDF version of manual ... OK
* DONE
Status: 1 NOTE
See
‘/home/biocbuild/bbs-3.18-bioc/meat/microbiomeExplorer.Rcheck/00check.log’
for details.
microbiomeExplorer.Rcheck/00install.out
############################################################################## ############################################################################## ### ### Running command: ### ### /home/biocbuild/R/R-4.3.1/bin/R CMD INSTALL microbiomeExplorer ### ############################################################################## ############################################################################## * installing to library ‘/home/biocbuild/R/R-4.3.1/site-library’ * installing *source* package ‘microbiomeExplorer’ ... ** using staged installation ** R ** inst ** byte-compile and prepare package for lazy loading ** help *** installing help indices ** building package indices ** installing vignettes ** testing if installed package can be loaded from temporary location ** testing if installed package can be loaded from final location ** testing if installed package keeps a record of temporary installation path * DONE (microbiomeExplorer)
microbiomeExplorer.Rcheck/tests/testthat.Rout
R version 4.3.1 (2023-06-16) -- "Beagle Scouts"
Copyright (C) 2023 The R Foundation for Statistical Computing
Platform: aarch64-unknown-linux-gnu (64-bit)
R is free software and comes with ABSOLUTELY NO WARRANTY.
You are welcome to redistribute it under certain conditions.
Type 'license()' or 'licence()' for distribution details.
R is a collaborative project with many contributors.
Type 'contributors()' for more information and
'citation()' on how to cite R or R packages in publications.
Type 'demo()' for some demos, 'help()' for on-line help, or
'help.start()' for an HTML browser interface to help.
Type 'q()' to quit R.
> library(testthat)
> library(microbiomeExplorer)
Loading required package: shiny
Loading required package: magrittr
Attaching package: 'magrittr'
The following objects are masked from 'package:testthat':
equals, is_less_than, not
Loading required package: metagenomeSeq
Loading required package: Biobase
Loading required package: BiocGenerics
Attaching package: 'BiocGenerics'
The following objects are masked from 'package:stats':
IQR, mad, sd, var, xtabs
The following objects are masked from 'package:base':
Filter, Find, Map, Position, Reduce, anyDuplicated, aperm, append,
as.data.frame, basename, cbind, colnames, dirname, do.call,
duplicated, eval, evalq, get, grep, grepl, intersect, is.unsorted,
lapply, mapply, match, mget, order, paste, pmax, pmax.int, pmin,
pmin.int, rank, rbind, rownames, sapply, setdiff, sort, table,
tapply, union, unique, unsplit, which.max, which.min
Welcome to Bioconductor
Vignettes contain introductory material; view with
'browseVignettes()'. To cite Bioconductor, see
'citation("Biobase")', and for packages 'citation("pkgname")'.
Loading required package: limma
Attaching package: 'limma'
The following object is masked from 'package:BiocGenerics':
plotMA
Loading required package: glmnet
Loading required package: Matrix
Loaded glmnet 4.1-8
Loading required package: RColorBrewer
>
> test_check("microbiomeExplorer")
[ FAIL 0 | WARN 2 | SKIP 1 | PASS 61 ]
══ Skipped tests (1) ═══════════════════════════════════════════════════════════
• On CRAN (1): 'test-differential_functions.R:47:3'
[ FAIL 0 | WARN 2 | SKIP 1 | PASS 61 ]
>
> proc.time()
user system elapsed
11.675 0.487 12.293
microbiomeExplorer.Rcheck/microbiomeExplorer-Ex.timings
| name | user | system | elapsed | |
| aggFeatures | 0.644 | 0.028 | 0.673 | |
| aggregationTabUI | 0.048 | 0.000 | 0.061 | |
| calculatePCAs | 0.402 | 0.028 | 0.431 | |
| computeDistMat | 0.301 | 0.044 | 0.346 | |
| corrAnalysisUI | 0.968 | 0.053 | 1.085 | |
| corrFeature | 1.174 | 0.068 | 1.302 | |
| corrPhenotype | 0.520 | 0.028 | 0.550 | |
| dataInputUI | 0.081 | 0.000 | 0.080 | |
| diffAnalysisUI | 0.064 | 0.000 | 0.064 | |
| featureAnalysisUI | 0.064 | 0.000 | 0.063 | |
| featureTableUI | 0.03 | 0.00 | 0.03 | |
| filterByPheno | 0.228 | 0.024 | 0.254 | |
| filterMEData | 1.871 | 0.032 | 1.913 | |
| interAnalysisUI | 0.189 | 0.578 | 1.427 | |
| intraAnalysisUI | 0.170 | 0.000 | 0.171 | |
| longAnalysisUI | 0.077 | 0.004 | 0.082 | |
| makeQCPlot | 0.309 | 0.047 | 0.391 | |
| normalizeData | 1.082 | 0.012 | 1.096 | |
| phenotypeTableUI | 0.04 | 0.00 | 0.04 | |
| plotAbundance | 0.719 | 0.108 | 0.836 | |
| plotAlpha | 0.404 | 0.080 | 0.492 | |
| plotAvgAbundance | 0.570 | 0.068 | 0.639 | |
| plotBeta | 0.677 | 0.044 | 0.730 | |
| plotHeatmap | 2.210 | 0.053 | 2.301 | |
| plotLongFeature | 0.493 | 0.032 | 0.530 | |
| plotSingleFeature | 0.437 | 0.020 | 0.457 | |
| plotlyHistogram | 0.254 | 0.016 | 0.271 | |
| plotlySampleBarplot | 0.216 | 0.016 | 0.232 | |
| replaceWithUnknown | 0.186 | 0.056 | 0.249 | |
| reportListUI | 0.047 | 0.000 | 0.047 | |
| rollDownFeatures | 0.123 | 0.012 | 0.135 | |
| runDiffTest | 0.725 | 0.012 | 0.739 | |