| Back to Multiple platform build/check report for BioC 3.18: simplified long |
|
This page was generated on 2023-11-02 11:40:55 -0400 (Thu, 02 Nov 2023).
| Hostname | OS | Arch (*) | R version | Installed pkgs |
|---|---|---|---|---|
| nebbiolo2 | Linux (Ubuntu 22.04.2 LTS) | x86_64 | 4.3.1 (2023-06-16) -- "Beagle Scouts" | 4729 |
| palomino4 | Windows Server 2022 Datacenter | x64 | 4.3.1 (2023-06-16 ucrt) -- "Beagle Scouts" | 4463 |
| lconway | macOS 12.6.5 Monterey | x86_64 | 4.3.1 Patched (2023-06-17 r84564) -- "Beagle Scouts" | 4478 |
| kunpeng2 | Linux (openEuler 22.03 LTS-SP1) | aarch64 | 4.3.1 (2023-06-16) -- "Beagle Scouts" | 4464 |
| Click on any hostname to see more info about the system (e.g. compilers) (*) as reported by 'uname -p', except on Windows and Mac OS X | ||||
| Package 1228/2266 | Hostname | OS / Arch | INSTALL | BUILD | CHECK | BUILD BIN | ||||||||
| methylKit 1.28.0 (landing page) Altuna Akalin
| nebbiolo2 | Linux (Ubuntu 22.04.2 LTS) / x86_64 | OK | OK | WARNINGS | |||||||||
| palomino4 | Windows Server 2022 Datacenter / x64 | OK | OK | OK | OK | |||||||||
| lconway | macOS 12.6.5 Monterey / x86_64 | OK | OK | WARNINGS | OK | |||||||||
| kjohnson1 | macOS 13.6.1 Ventura / arm64 | see weekly results here | ||||||||||||
| kunpeng2 | Linux (openEuler 22.03 LTS-SP1) / aarch64 | OK | OK | ERROR | ||||||||||
|
To the developers/maintainers of the methylKit package: - Allow up to 24 hours (and sometimes 48 hours) for your latest push to git@git.bioconductor.org:packages/methylKit.git to reflect on this report. See Troubleshooting Build Report for more information. - Use the following Renviron settings to reproduce errors and warnings. - If 'R CMD check' started to fail recently on the Linux builder(s) over a missing dependency, add the missing dependency to 'Suggests:' in your DESCRIPTION file. See Renviron.bioc for more information. - See Martin Grigorov's blog post for how to debug Linux ARM64 related issues on a x86_64 host. |
| Package: methylKit |
| Version: 1.28.0 |
| Command: /home/biocbuild/R/R-4.3.1/bin/R CMD INSTALL methylKit |
| StartedAt: 2023-11-01 20:21:32 -0000 (Wed, 01 Nov 2023) |
| EndedAt: 2023-11-01 20:23:02 -0000 (Wed, 01 Nov 2023) |
| EllapsedTime: 90.1 seconds |
| RetCode: 0 |
| Status: OK |
##############################################################################
##############################################################################
###
### Running command:
###
### /home/biocbuild/R/R-4.3.1/bin/R CMD INSTALL methylKit
###
##############################################################################
##############################################################################
* installing to library ‘/home/biocbuild/R/R-4.3.1/site-library’
* installing *source* package ‘methylKit’ ...
** using staged installation
** libs
using C++ compiler: ‘g++ (GCC) 10.3.1’
using C++11
g++ -std=gnu++11 -I"/home/biocbuild/R/R-4.3.1/include" -DNDEBUG -D_FILE_OFFSET_BITS=64 -I'/home/biocbuild/R/R-4.3.1/site-library/Rcpp/include' -I'/home/biocbuild/R/R-4.3.1/site-library/Rhtslib/include' -I'/home/biocbuild/R/R-4.3.1/site-library/zlibbioc/include' -I/usr/local/include -fPIC -g -O2 -Wall -c RcppExports.cpp -o RcppExports.o
g++ -std=gnu++11 -I"/home/biocbuild/R/R-4.3.1/include" -DNDEBUG -D_FILE_OFFSET_BITS=64 -I'/home/biocbuild/R/R-4.3.1/site-library/Rcpp/include' -I'/home/biocbuild/R/R-4.3.1/site-library/Rhtslib/include' -I'/home/biocbuild/R/R-4.3.1/site-library/zlibbioc/include' -I/usr/local/include -fPIC -g -O2 -Wall -c methCall.cpp -o methCall.o
methCall.cpp: In function ‘int process_bam(std::string&, std::string&, std::string&, std::string&, int&, int&, int&, int, size_t&)’:
methCall.cpp:908:17: warning: comparison of integer expressions of different signedness: ‘int’ and ‘uint32_t’ {aka ‘unsigned int’} [-Wsign-compare]
908 | for (i = 0; i < len_cigar; i++)
| ~~^~~~~~~~~~~
methCall.cpp: In function ‘int process_sam(std::istream*, std::string&, std::string&, std::string&, int&, int&, int&, int, int, size_t&)’:
methCall.cpp:687:39: warning: ‘CHGout’ may be used uninitialized in this function [-Wmaybe-uninitialized]
687 | if(CHGstatus){ processCHmethHash(CHGmethHash,CHGout,mincov);}
| ~~~~~~~~~~~~~~~~~^~~~~~~~~~~~~~~~~~~~~~~~~~~
methCall.cpp:686:39: warning: ‘CHHout’ may be used uninitialized in this function [-Wmaybe-uninitialized]
686 | if(CHHstatus){ processCHmethHash(CHHmethHash,CHHout,mincov); }
| ~~~~~~~~~~~~~~~~~^~~~~~~~~~~~~~~~~~~~~~~~~~~
methCall.cpp:685:39: warning: ‘out’ may be used uninitialized in this function [-Wmaybe-uninitialized]
685 | if(CpGstatus){ processCGmethHash(CGmethHash,out,mincov);}
| ~~~~~~~~~~~~~~~~~^~~~~~~~~~~~~~~~~~~~~~~
methCall.cpp: In function ‘int process_bam(std::string&, std::string&, std::string&, std::string&, int&, int&, int&, int, size_t&)’:
methCall.cpp:1038:76: warning: ‘CHGout’ may be used uninitialized in this function [-Wmaybe-uninitialized]
1038 | if(CHGstatus) { processCHmethHash(CHGmethHash,CHGout,mincov); std::fclose(CHGout); }
| ~~~~~~~~~~~^~~~~~~~
methCall.cpp:1037:76: warning: ‘CHHout’ may be used uninitialized in this function [-Wmaybe-uninitialized]
1037 | if(CHHstatus) { processCHmethHash(CHHmethHash,CHHout,mincov); std::fclose(CHHout); }
| ~~~~~~~~~~~^~~~~~~~
methCall.cpp:1036:76: warning: ‘out’ may be used uninitialized in this function [-Wmaybe-uninitialized]
1036 | if(CpGstatus) { processCGmethHash(CGmethHash,out,mincov); std::fclose(out); }
| ~~~~~~~~~~~^~~~~
methCall.cpp: In function ‘int process_single_bismark(std::istream*, std::string&, std::string&, std::string&, int&, int&, int&, size_t&)’:
methCall.cpp:1238:39: warning: ‘CHGout’ may be used uninitialized in this function [-Wmaybe-uninitialized]
1238 | if(CHGstatus){ processCHmethHash(CHGmethHash,CHGout,mincov);}
| ~~~~~~~~~~~~~~~~~^~~~~~~~~~~~~~~~~~~~~~~~~~~
methCall.cpp:1237:39: warning: ‘CHHout’ may be used uninitialized in this function [-Wmaybe-uninitialized]
1237 | if(CHHstatus){ processCHmethHash(CHHmethHash,CHHout,mincov); }
| ~~~~~~~~~~~~~~~~~^~~~~~~~~~~~~~~~~~~~~~~~~~~
methCall.cpp:1236:39: warning: ‘out’ may be used uninitialized in this function [-Wmaybe-uninitialized]
1236 | if(CpGstatus){ processCGmethHash(CGmethHash,out,mincov);}
| ~~~~~~~~~~~~~~~~~^~~~~~~~~~~~~~~~~~~~~~~
g++ -std=gnu++11 -shared -L/home/biocbuild/R/R-4.3.1/lib -L/usr/local/lib -o methylKit.so RcppExports.o methCall.o /home/biocbuild/R/R-4.3.1/site-library/Rhtslib/usrlib/libhts.a -lcurl -L/home/biocbuild/R/R-4.3.1/lib -lR
installing to /home/biocbuild/R/R-4.3.1/site-library/00LOCK-methylKit/00new/methylKit/libs
** R
** data
** inst
** byte-compile and prepare package for lazy loading
** help
*** installing help indices
** building package indices
** installing vignettes
** testing if installed package can be loaded from temporary location
** checking absolute paths in shared objects and dynamic libraries
** testing if installed package can be loaded from final location
** testing if installed package keeps a record of temporary installation path
* DONE (methylKit)