Back to Multiple platform build/check report for BioC 3.18: simplified long |
|
This page was generated on 2023-11-02 11:40:54 -0400 (Thu, 02 Nov 2023).
Hostname | OS | Arch (*) | R version | Installed pkgs |
---|---|---|---|---|
nebbiolo2 | Linux (Ubuntu 22.04.2 LTS) | x86_64 | 4.3.1 (2023-06-16) -- "Beagle Scouts" | 4729 |
palomino4 | Windows Server 2022 Datacenter | x64 | 4.3.1 (2023-06-16 ucrt) -- "Beagle Scouts" | 4463 |
lconway | macOS 12.6.5 Monterey | x86_64 | 4.3.1 Patched (2023-06-17 r84564) -- "Beagle Scouts" | 4478 |
kunpeng2 | Linux (openEuler 22.03 LTS-SP1) | aarch64 | 4.3.1 (2023-06-16) -- "Beagle Scouts" | 4464 |
Click on any hostname to see more info about the system (e.g. compilers) (*) as reported by 'uname -p', except on Windows and Mac OS X |
Package 1196/2266 | Hostname | OS / Arch | INSTALL | BUILD | CHECK | BUILD BIN | ||||||||
metabinR 1.4.0 (landing page) Anestis Gkanogiannis
| nebbiolo2 | Linux (Ubuntu 22.04.2 LTS) / x86_64 | OK | OK | OK | |||||||||
palomino4 | Windows Server 2022 Datacenter / x64 | OK | OK | OK | OK | |||||||||
lconway | macOS 12.6.5 Monterey / x86_64 | OK | OK | OK | OK | |||||||||
kjohnson1 | macOS 13.6.1 Ventura / arm64 | see weekly results here | ||||||||||||
kunpeng2 | Linux (openEuler 22.03 LTS-SP1) / aarch64 | OK | OK | OK | ||||||||||
To the developers/maintainers of the metabinR package: - Allow up to 24 hours (and sometimes 48 hours) for your latest push to git@git.bioconductor.org:packages/metabinR.git to reflect on this report. See Troubleshooting Build Report for more information. - Use the following Renviron settings to reproduce errors and warnings. - If 'R CMD check' started to fail recently on the Linux builder(s) over a missing dependency, add the missing dependency to 'Suggests:' in your DESCRIPTION file. See Renviron.bioc for more information. - See Martin Grigorov's blog post for how to debug Linux ARM64 related issues on a x86_64 host. |
Package: metabinR |
Version: 1.4.0 |
Command: /home/biocbuild/R/R-4.3.1/bin/R CMD check --install=check:metabinR.install-out.txt --library=/home/biocbuild/R/R-4.3.1/site-library --no-vignettes --timings metabinR_1.4.0.tar.gz |
StartedAt: 2023-11-02 11:57:22 -0000 (Thu, 02 Nov 2023) |
EndedAt: 2023-11-02 11:58:22 -0000 (Thu, 02 Nov 2023) |
EllapsedTime: 60.2 seconds |
RetCode: 0 |
Status: OK |
CheckDir: metabinR.Rcheck |
Warnings: 0 |
############################################################################## ############################################################################## ### ### Running command: ### ### /home/biocbuild/R/R-4.3.1/bin/R CMD check --install=check:metabinR.install-out.txt --library=/home/biocbuild/R/R-4.3.1/site-library --no-vignettes --timings metabinR_1.4.0.tar.gz ### ############################################################################## ############################################################################## * using log directory ‘/home/biocbuild/bbs-3.18-bioc/meat/metabinR.Rcheck’ * using R version 4.3.1 (2023-06-16) * using platform: aarch64-unknown-linux-gnu (64-bit) * R was compiled by gcc (GCC) 10.3.1 GNU Fortran (GCC) 10.3.1 * running under: openEuler 22.03 (LTS-SP1) * using session charset: UTF-8 * using option ‘--no-vignettes’ * checking for file ‘metabinR/DESCRIPTION’ ... OK * checking extension type ... Package * this is package ‘metabinR’ version ‘1.4.0’ * package encoding: UTF-8 * checking package namespace information ... OK * checking package dependencies ... OK * checking if this is a source package ... OK * checking if there is a namespace ... OK * checking for hidden files and directories ... OK * checking for portable file names ... OK * checking for sufficient/correct file permissions ... OK * checking whether package ‘metabinR’ can be installed ... OK * checking installed package size ... OK * checking package directory ... OK * checking ‘build’ directory ... OK * checking DESCRIPTION meta-information ... OK * checking top-level files ... OK * checking for left-over files ... OK * checking index information ... OK * checking package subdirectories ... OK * checking R files for non-ASCII characters ... OK * checking R files for syntax errors ... OK * checking whether the package can be loaded ... OK * checking whether the package can be loaded with stated dependencies ... OK * checking whether the package can be unloaded cleanly ... OK * checking whether the namespace can be loaded with stated dependencies ... OK * checking whether the namespace can be unloaded cleanly ... OK * checking loading without being on the library search path ... OK * checking startup messages can be suppressed ... OK * checking dependencies in R code ... OK * checking S3 generic/method consistency ... OK * checking replacement functions ... OK * checking foreign function calls ... OK * checking R code for possible problems ... OK * checking Rd files ... OK * checking Rd metadata ... OK * checking Rd cross-references ... OK * checking for missing documentation entries ... OK * checking for code/documentation mismatches ... OK * checking Rd \usage sections ... OK * checking Rd contents ... OK * checking for unstated dependencies in examples ... OK * checking files in ‘vignettes’ ... OK * checking examples ... OK Examples with CPU (user + system) or elapsed time > 5s user system elapsed abundance_based_binning 8.5 0.753 6.364 * checking for unstated dependencies in ‘tests’ ... OK * checking tests ... Running ‘spelling.R’ Running ‘testthat.R’ OK * checking for unstated dependencies in vignettes ... OK * checking package vignettes in ‘inst/doc’ ... OK * checking running R code from vignettes ... SKIPPED * checking re-building of vignette outputs ... SKIPPED * checking PDF version of manual ... OK * DONE Status: OK
metabinR.Rcheck/00install.out
############################################################################## ############################################################################## ### ### Running command: ### ### /home/biocbuild/R/R-4.3.1/bin/R CMD INSTALL metabinR ### ############################################################################## ############################################################################## * installing to library ‘/home/biocbuild/R/R-4.3.1/site-library’ * installing *source* package ‘metabinR’ ... ** using staged installation ** R ** inst ** byte-compile and prepare package for lazy loading ** help *** installing help indices ** building package indices ** installing vignettes ** testing if installed package can be loaded from temporary location ** testing if installed package can be loaded from final location ** testing if installed package keeps a record of temporary installation path * DONE (metabinR)
metabinR.Rcheck/tests/spelling.Rout
R version 4.3.1 (2023-06-16) -- "Beagle Scouts" Copyright (C) 2023 The R Foundation for Statistical Computing Platform: aarch64-unknown-linux-gnu (64-bit) R is free software and comes with ABSOLUTELY NO WARRANTY. You are welcome to redistribute it under certain conditions. Type 'license()' or 'licence()' for distribution details. R is a collaborative project with many contributors. Type 'contributors()' for more information and 'citation()' on how to cite R or R packages in publications. Type 'demo()' for some demos, 'help()' for on-line help, or 'help.start()' for an HTML browser interface to help. Type 'q()' to quit R. > if(requireNamespace('spelling', quietly = TRUE)) + spelling::spell_check_test(vignettes = TRUE, error = FALSE, + skip_on_cran = TRUE) NULL > > proc.time() user system elapsed 0.176 0.045 0.211
metabinR.Rcheck/tests/testthat.Rout
R version 4.3.1 (2023-06-16) -- "Beagle Scouts" Copyright (C) 2023 The R Foundation for Statistical Computing Platform: aarch64-unknown-linux-gnu (64-bit) R is free software and comes with ABSOLUTELY NO WARRANTY. You are welcome to redistribute it under certain conditions. Type 'license()' or 'licence()' for distribution details. R is a collaborative project with many contributors. Type 'contributors()' for more information and 'citation()' on how to cite R or R packages in publications. Type 'demo()' for some demos, 'help()' for on-line help, or 'help.start()' for an HTML browser interface to help. Type 'q()' to quit R. > library(testthat) > library(metabinR) > > test_check("metabinR") version MTxAB =Wed Nov 01 20:07:48 UTC 2023 cpus=32 using=1 2023/11/02 11:57:58 Using Dictionary ORIGINAL 2023/11/02 11:57:58 START of AB Counting 2023/11/02 11:57:58 FastaManager: START READ 2023/11/02 11:57:58 SequenceProcessor: 0 AB_KMERCOUNT START CHUNK_SIZE=67108864 2023/11/02 11:57:58 FastaManager: lines read 53328 2023/11/02 11:57:58 FastaManager: END READ 2023/11/02 11:57:58 FastaManager: FASTA 2023/11/02 11:58:00 SequenceProcessor: 0 AB_KMERCOUNT EXIT 2023/11/02 11:58:00 END of AB Counting 2023/11/02 11:58:00 Loaded sequences: 26664 2023/11/02 11:58:00 Total kmers(before remove): 65536 ##### Heap utilization statistics [GB] ##### Max Memory=0.5 Current Total Memory=0.5 Current Used Memory=0.29 Current Free Memory=0.21 ############################################ 2023/11/02 11:58:00 Unique: 0 Distinct: 65536 Total: 7625904 MaxCount: 1574 2023/11/02 11:58:00 START of EMsync Run=1 Run=2 Run=3 Run=4 Run=5 Run=6 Run=7 Run=8 Run=9 Run=10 Run=11 Run=12 Run=13 Run=14 Run=15 Run=16 Run=17 Run=18 Run=19 Run=20 Run=21 Run=22 Run=23 Run=24 Run=25 2023/11/02 11:58:00 Runs=25 2023/11/02 11:58:00 END of EMsync 2023/11/02 11:58:00 START of Creating AB Cluster Vectors Cluster 1 Abundance=241.01134335779187 Length=16168.173737759447 LowLimit=163 HighLimit=318 Cluster 2 Abundance=75.538888587297 Length=49367.82626224055 LowLimit=32 HighLimit=118 2023/11/02 11:58:00 Trove size/4=18022 2023/11/02 11:58:00 Trove size/4=18022 2023/11/02 11:58:00 Cluster 1 size in kmers=65536 norm=126.50589485137961 2023/11/02 11:58:00 Cluster 2 size in kmers=65536 norm=221.81983091435748 2023/11/02 11:58:00 END of Creating AB Cluster Vectors cpus=32 using=1 2023/11/02 11:58:00 START of AB Binning 2023/11/02 11:58:00 FastaManager: START READ 2023/11/02 11:58:00 SequenceProcessor: 0 AB_BINNING START 2023/11/02 11:58:00 FastaManager: lines read 53328 2023/11/02 11:58:00 FastaManager: END READ 2023/11/02 11:58:00 FastaManager: FASTA 2023/11/02 11:58:02 SequenceProcessor: 0 AB_BINNING EXIT 2023/11/02 11:58:02 END of AB Binning Clustered reads: AB Cluster 1: 19871 AB Cluster 2: 6793 ##### Heap utilization statistics [GB] ##### Max Memory=0.5 Current Total Memory=0.5 Current Used Memory=0.273 Current Free Memory=0.227 ############################################ version MTxCB =Wed Nov 01 20:07:48 UTC 2023 cpus=32 using=1 2023/11/02 11:58:03 START of CB Counting 2023/11/02 11:58:03 FastaManager: START READ 2023/11/02 11:58:03 SequenceProcessor: 0 CB_SEQUENCEVECTORBUILD START 2023/11/02 11:58:03 FastaManager: lines read 53328 2023/11/02 11:58:03 FastaManager: END READ 2023/11/02 11:58:03 FastaManager: FASTA 2023/11/02 11:58:03 SequenceProcessor: 0 CB_SEQUENCEVECTORBUILD EXIT 2023/11/02 11:58:03 END of CB Counting 2023/11/02 11:58:03 Loaded sequences: 26664 ##### Heap utilization statistics [GB] ##### Max Memory=0.5 Current Total Memory=0.5 Current Used Memory=0.292 Current Free Memory=0.208 ############################################ cpus=32 using=1 2023/11/02 11:58:03 START of Creating CB Clusters Size=26664 K-Means clustering started ... centers initialized ... concurrent processing mode with 1 subtask threads ... iteration 1 moves = 7448 ... iteration 2 moves = 3243 ... iteration 3 moves = 936 ... iteration 4 moves = 370 ... iteration 5 moves = 330 ... iteration 6 moves = 271 ... iteration 7 moves = 264 ... iteration 8 moves = 233 ... iteration 9 moves = 183 ... iteration 10 moves = 110 ... iteration 11 moves = 60 ... iteration 12 moves = 62 ... iteration 13 moves = 39 ... iteration 14 moves = 8 ... iteration 15 moves = 10 ... iteration 16 moves = 11 ... iteration 17 moves = 4 ... iteration 18 moves = 0 ...end. 6.833 seconds. 2023/11/02 11:58:10 : kMeans cleanup. 2023/11/02 11:58:10 END of Creating CB Clusters. cpus=32 using=1 2023/11/02 11:58:10 START of CB Binning 2023/11/02 11:58:10 FastaManager: START READ 2023/11/02 11:58:10 SequenceProcessor: 0 CB_BINNING START 2023/11/02 11:58:10 FastaManager: lines read 53328 2023/11/02 11:58:10 FastaManager: END READ 2023/11/02 11:58:10 FastaManager: FASTA 2023/11/02 11:58:11 SequenceProcessor: 0 CB_BINNING EXIT Clustered reads: CB Cluster 1: 9323 CB Cluster 2: 17341 ##### Heap utilization statistics [GB] ##### Max Memory=0.5 Current Total Memory=0.5 Current Used Memory=0.261 Current Free Memory=0.239 ############################################ version MTxABxCB =Wed Nov 01 20:07:48 UTC 2023 cpus=32 using=1 2023/11/02 11:58:11 Using Dictionary ORIGINAL 2023/11/02 11:58:11 START of AB Counting 2023/11/02 11:58:11 FastaManager: START READ 2023/11/02 11:58:11 SequenceProcessor: 0 AB_KMERCOUNT START 2023/11/02 11:58:11 FastaManager: lines read 53328 2023/11/02 11:58:11 FastaManager: END READ 2023/11/02 11:58:11 FastaManager: FASTA 2023/11/02 11:58:13 SequenceProcessor: 0 AB_KMERCOUNT EXIT 2023/11/02 11:58:13 END of AB Counting 2023/11/02 11:58:13 Loaded sequences: 26664 2023/11/02 11:58:13 Distinct kmers(before remove): 65536 ##### Heap utilization statistics [GB] ##### Max Memory=0.5 Current Total Memory=0.417 Current Used Memory=0.262 Current Free Memory=0.155 ############################################ 2023/11/02 11:58:13 Unique: 0 Distinct: 65536 Total: 7625904 MaxCount: 1574 2023/11/02 11:58:13 START of EMsync Run=1 Run=2 Run=3 Run=4 Run=5 Run=6 Run=7 Run=8 Run=9 Run=10 Run=11 Run=12 Run=13 Run=14 Run=15 Run=16 Run=17 Run=18 Run=19 Run=20 Run=21 Run=22 Run=23 Run=24 Run=25 2023/11/02 11:58:13 Runs=25 2023/11/02 11:58:13 END of EMsync 2023/11/02 11:58:13 Filter before=2 2023/11/02 11:58:13 Filter after=2 2023/11/02 11:58:13 START of Creating AB Cluster Vectors Cluster 1 Abundance=75.538888587297 Length=49367.82626224055 LowLimit=32 HighLimit=118 Cluster 2 Abundance=241.01134335779187 Length=16168.173737759447 LowLimit=163 HighLimit=318 2023/11/02 11:58:13 Trove size/4=18022 2023/11/02 11:58:13 Trove size/4=18022 2023/11/02 11:58:13 Cluster 1 size in kmers=65536 norm=221.81983091435748 2023/11/02 11:58:13 Cluster 2 size in kmers=65536 norm=126.50589485137961 2023/11/02 11:58:13 END of Creating AB Cluster Vectors cpus=32 using=1 2023/11/02 11:58:13 START of AB Binning 2023/11/02 11:58:13 FastaManager: START READ 2023/11/02 11:58:13 SequenceProcessor: 0 AB_BINNING START 2023/11/02 11:58:13 FastaManager: lines read 53328 2023/11/02 11:58:13 FastaManager: END READ 2023/11/02 11:58:13 FastaManager: FASTA 2023/11/02 11:58:15 SequenceProcessor: 0 AB_BINNING EXIT 2023/11/02 11:58:15 END of AB Binning cpus=32 using=1 2023/11/02 11:58:15 START of CB Counting 2023/11/02 11:58:15 FastaManager: START READ 2023/11/02 11:58:15 SequenceProcessor: 0 CB_SEQUENCEVECTORBUILD START 2023/11/02 11:58:15 FastaManager: lines read 53328 2023/11/02 11:58:15 FastaManager: END READ 2023/11/02 11:58:15 FastaManager: FASTA 2023/11/02 11:58:15 SequenceProcessor: 0 CB_SEQUENCEVECTORBUILD EXIT 2023/11/02 11:58:15 END of CB Counting 2023/11/02 11:58:15 Loaded sequences: 26664 ##### Heap utilization statistics [GB] ##### Max Memory=0.5 Current Total Memory=0.451 Current Used Memory=0.273 Current Free Memory=0.178 ############################################ 2023/11/02 11:58:15 AB Cluster=1 Size=6793 2023/11/02 11:58:15 AB Cluster=2 Size=19871 cpus=32 using=1 ABid size abundance EMLength newLength EMspecies newspecies ----- ---- --------- -------- --------- --------- ---------- 1 6,793 75.53889 49,367 13,489 1 1 2023/11/02 11:58:15 START of Creating CB Clusters for AB Cluster=1 Size=6793 K-Means clustering started ... centers initialized ... concurrent processing mode with 1 subtask threads ... iteration 1 moves = 0 ...end. 0.784 seconds. 2023/11/02 11:58:16 : kMeans cleanup. 2023/11/02 11:58:16 END of Creating CB Clusters for AB Cluster=1 cpus=32 using=1 ABid size abundance EMLength newLength EMspecies newspecies ----- ---- --------- -------- --------- --------- ---------- 2 19,871 241.01134 16,168 12,367 1 1 2023/11/02 11:58:16 START of Creating CB Clusters for AB Cluster=2 Size=19871 K-Means clustering started ... centers initialized ... concurrent processing mode with 1 subtask threads ... iteration 1 moves = 0 ...end. 2.277 seconds. 2023/11/02 11:58:19 : kMeans cleanup. 2023/11/02 11:58:19 END of Creating CB Clusters for AB Cluster=2 ##### Heap utilization statistics [GB] ##### Max Memory=0.5 Current Total Memory=0.451 Current Used Memory=0.351 Current Free Memory=0.1 ############################################ cpus=32 using=1 2023/11/02 11:58:19 START of CB Binning 2023/11/02 11:58:19 FastaManager: START READ 2023/11/02 11:58:19 SequenceProcessor: 0 CB_BINNING START 2023/11/02 11:58:19 FastaManager: lines read 53328 2023/11/02 11:58:19 FastaManager: END READ 2023/11/02 11:58:19 FastaManager: FASTA 2023/11/02 11:58:19 SequenceProcessor: 0 CB_BINNING EXIT Clustered reads: ABxCB Cluster 1: 6793 ABxCB Cluster 2: 19871 ##### Heap utilization statistics [GB] ##### Max Memory=0.5 Current Total Memory=0.5 Current Used Memory=0.425 Current Free Memory=0.075 ############################################ [ FAIL 0 | WARN 0 | SKIP 0 | PASS 52 ] > > proc.time() user system elapsed 31.294 1.308 22.912
metabinR.Rcheck/metabinR-Ex.timings
name | user | system | elapsed | |
abundance_based_binning | 8.500 | 0.753 | 6.364 | |
composition_based_binning | 4.311 | 0.296 | 1.869 | |
hierarchical_binning | 4.520 | 0.231 | 3.240 | |