| Back to Multiple platform build/check report for BioC 3.18: simplified long |
|
This page was generated on 2024-04-17 11:36:06 -0400 (Wed, 17 Apr 2024).
| Hostname | OS | Arch (*) | R version | Installed pkgs |
|---|---|---|---|---|
| nebbiolo2 | Linux (Ubuntu 22.04.3 LTS) | x86_64 | 4.3.3 (2024-02-29) -- "Angel Food Cake" | 4676 |
| palomino4 | Windows Server 2022 Datacenter | x64 | 4.3.3 (2024-02-29 ucrt) -- "Angel Food Cake" | 4414 |
| merida1 | macOS 12.7.1 Monterey | x86_64 | 4.3.3 (2024-02-29) -- "Angel Food Cake" | 4437 |
| Click on any hostname to see more info about the system (e.g. compilers) (*) as reported by 'uname -p', except on Windows and Mac OS X | ||||
| Package 1193/2266 | Hostname | OS / Arch | INSTALL | BUILD | CHECK | BUILD BIN | ||||||||
| messina 1.38.0 (landing page) Mark Pinese
| nebbiolo2 | Linux (Ubuntu 22.04.3 LTS) / x86_64 | OK | OK | OK | |||||||||
| palomino4 | Windows Server 2022 Datacenter / x64 | OK | OK | WARNINGS | OK | |||||||||
| merida1 | macOS 12.7.1 Monterey / x86_64 | OK | OK | OK | OK | |||||||||
| kjohnson1 | macOS 13.6.1 Ventura / arm64 | see weekly results here | ||||||||||||
|
To the developers/maintainers of the messina package: - Allow up to 24 hours (and sometimes 48 hours) for your latest push to git@git.bioconductor.org:packages/messina.git to reflect on this report. See Troubleshooting Build Report for more information. - Use the following Renviron settings to reproduce errors and warnings. - If 'R CMD check' started to fail recently on the Linux builder(s) over a missing dependency, add the missing dependency to 'Suggests:' in your DESCRIPTION file. See Renviron.bioc for more information. |
| Package: messina |
| Version: 1.38.0 |
| Command: /home/biocbuild/bbs-3.18-bioc/R/bin/R CMD check --install=check:messina.install-out.txt --library=/home/biocbuild/bbs-3.18-bioc/R/site-library --timings messina_1.38.0.tar.gz |
| StartedAt: 2024-04-16 00:37:11 -0400 (Tue, 16 Apr 2024) |
| EndedAt: 2024-04-16 00:41:11 -0400 (Tue, 16 Apr 2024) |
| EllapsedTime: 240.5 seconds |
| RetCode: 0 |
| Status: OK |
| CheckDir: messina.Rcheck |
| Warnings: 0 |
##############################################################################
##############################################################################
###
### Running command:
###
### /home/biocbuild/bbs-3.18-bioc/R/bin/R CMD check --install=check:messina.install-out.txt --library=/home/biocbuild/bbs-3.18-bioc/R/site-library --timings messina_1.38.0.tar.gz
###
##############################################################################
##############################################################################
* using log directory ‘/home/biocbuild/bbs-3.18-bioc/meat/messina.Rcheck’
* using R version 4.3.3 (2024-02-29)
* using platform: x86_64-pc-linux-gnu (64-bit)
* R was compiled by
gcc (Ubuntu 11.4.0-1ubuntu1~22.04) 11.4.0
GNU Fortran (Ubuntu 11.4.0-1ubuntu1~22.04) 11.4.0
* running under: Ubuntu 22.04.4 LTS
* using session charset: UTF-8
* checking for file ‘messina/DESCRIPTION’ ... OK
* checking extension type ... Package
* this is package ‘messina’ version ‘1.38.0’
* checking package namespace information ... OK
* checking package dependencies ... OK
* checking if this is a source package ... OK
* checking if there is a namespace ... OK
* checking for hidden files and directories ... OK
* checking for portable file names ... OK
* checking for sufficient/correct file permissions ... OK
* checking whether package ‘messina’ can be installed ... OK
* used C++ compiler: ‘g++ (Ubuntu 11.4.0-1ubuntu1~22.04) 11.4.0’
* checking installed package size ... OK
* checking package directory ... OK
* checking ‘build’ directory ... OK
* checking DESCRIPTION meta-information ... OK
* checking top-level files ... OK
* checking for left-over files ... OK
* checking index information ... OK
* checking package subdirectories ... OK
* checking R files for non-ASCII characters ... OK
* checking R files for syntax errors ... OK
* checking whether the package can be loaded ... OK
* checking whether the package can be loaded with stated dependencies ... OK
* checking whether the package can be unloaded cleanly ... OK
* checking whether the namespace can be loaded with stated dependencies ... OK
* checking whether the namespace can be unloaded cleanly ... OK
* checking loading without being on the library search path ... OK
* checking dependencies in R code ... OK
* checking S3 generic/method consistency ... OK
* checking replacement functions ... OK
* checking foreign function calls ... OK
* checking R code for possible problems ... NOTE
messina: no visible binding for global variable ‘Biobase’
messinaSurv: no visible binding for global variable ‘Biobase’
Undefined global functions or variables:
Biobase
* checking Rd files ... OK
* checking Rd metadata ... OK
* checking Rd cross-references ... OK
* checking for missing documentation entries ... OK
* checking for code/documentation mismatches ... OK
* checking Rd \usage sections ... OK
* checking Rd contents ... OK
* checking for unstated dependencies in examples ... OK
* checking contents of ‘data’ directory ... OK
* checking data for non-ASCII characters ... OK
* checking data for ASCII and uncompressed saves ... OK
* checking line endings in C/C++/Fortran sources/headers ... OK
* checking compiled code ... NOTE
Note: information on .o files is not available
* checking files in ‘vignettes’ ... OK
* checking examples ... OK
Examples with CPU (user + system) or elapsed time > 5s
user system elapsed
plot-MessinaSurvResult-missing-method 44.396 0.2 44.597
messinaSurv 34.934 0.3 35.238
* checking for unstated dependencies in vignettes ... OK
* checking package vignettes in ‘inst/doc’ ... OK
* checking running R code from vignettes ...
‘messina.Rnw’... OK
OK
* checking re-building of vignette outputs ... OK
* checking PDF version of manual ... OK
* DONE
Status: 2 NOTEs
See
‘/home/biocbuild/bbs-3.18-bioc/meat/messina.Rcheck/00check.log’
for details.
messina.Rcheck/00install.out
############################################################################## ############################################################################## ### ### Running command: ### ### /home/biocbuild/bbs-3.18-bioc/R/bin/R CMD INSTALL messina ### ############################################################################## ############################################################################## * installing to library ‘/home/biocbuild/bbs-3.18-bioc/R/site-library’ * installing *source* package ‘messina’ ... ** using staged installation ** libs using C++ compiler: ‘g++ (Ubuntu 11.4.0-1ubuntu1~22.04) 11.4.0’ g++ -std=gnu++17 -I"/home/biocbuild/bbs-3.18-bioc/R/include" -DNDEBUG -I'/home/biocbuild/bbs-3.18-bioc/R/site-library/Rcpp/include' -I/usr/local/include -fpic -g -O2 -Wall -c Classifier.cpp -o Classifier.o g++ -std=gnu++17 -I"/home/biocbuild/bbs-3.18-bioc/R/include" -DNDEBUG -I'/home/biocbuild/bbs-3.18-bioc/R/site-library/Rcpp/include' -I/usr/local/include -fpic -g -O2 -Wall -c Data.cpp -o Data.o g++ -std=gnu++17 -I"/home/biocbuild/bbs-3.18-bioc/R/include" -DNDEBUG -I'/home/biocbuild/bbs-3.18-bioc/R/site-library/Rcpp/include' -I/usr/local/include -fpic -g -O2 -Wall -c RcppExports.cpp -o RcppExports.o g++ -std=gnu++17 -I"/home/biocbuild/bbs-3.18-bioc/R/include" -DNDEBUG -I'/home/biocbuild/bbs-3.18-bioc/R/site-library/Rcpp/include' -I/usr/local/include -fpic -g -O2 -Wall -c crossval.cpp -o crossval.o g++ -std=gnu++17 -I"/home/biocbuild/bbs-3.18-bioc/R/include" -DNDEBUG -I'/home/biocbuild/bbs-3.18-bioc/R/site-library/Rcpp/include' -I/usr/local/include -fpic -g -O2 -Wall -c errors.cpp -o errors.o g++ -std=gnu++17 -I"/home/biocbuild/bbs-3.18-bioc/R/include" -DNDEBUG -I'/home/biocbuild/bbs-3.18-bioc/R/site-library/Rcpp/include' -I/usr/local/include -fpic -g -O2 -Wall -c init.cpp -o init.o g++ -std=gnu++17 -I"/home/biocbuild/bbs-3.18-bioc/R/include" -DNDEBUG -I'/home/biocbuild/bbs-3.18-bioc/R/site-library/Rcpp/include' -I/usr/local/include -fpic -g -O2 -Wall -c messinaExtern.cpp -o messinaExtern.o g++ -std=gnu++17 -shared -L/home/biocbuild/bbs-3.18-bioc/R/lib -L/usr/local/lib -o messina.so Classifier.o Data.o RcppExports.o crossval.o errors.o init.o messinaExtern.o -L/home/biocbuild/bbs-3.18-bioc/R/lib -lR installing to /home/biocbuild/bbs-3.18-bioc/R/site-library/00LOCK-messina/00new/messina/libs ** R ** data ** inst ** byte-compile and prepare package for lazy loading ** help *** installing help indices ** building package indices ** installing vignettes ** testing if installed package can be loaded from temporary location ** checking absolute paths in shared objects and dynamic libraries ** testing if installed package can be loaded from final location ** testing if installed package keeps a record of temporary installation path * DONE (messina)
messina.Rcheck/messina-Ex.timings
| name | user | system | elapsed | |
| messina | 1.511 | 0.036 | 1.548 | |
| messinaDE | 1.482 | 0.048 | 1.530 | |
| messinaSurv | 34.934 | 0.300 | 35.238 | |
| messinaTopResults | 0.766 | 0.040 | 0.806 | |
| plot-MessinaClassResult-missing-method | 1.824 | 0.032 | 1.857 | |
| plot-MessinaSurvResult-missing-method | 44.396 | 0.200 | 44.597 | |