| Back to Multiple platform build/check report for BioC 3.18: simplified long |
|
This page was generated on 2023-11-02 11:40:52 -0400 (Thu, 02 Nov 2023).
| Hostname | OS | Arch (*) | R version | Installed pkgs |
|---|---|---|---|---|
| nebbiolo2 | Linux (Ubuntu 22.04.2 LTS) | x86_64 | 4.3.1 (2023-06-16) -- "Beagle Scouts" | 4729 |
| palomino4 | Windows Server 2022 Datacenter | x64 | 4.3.1 (2023-06-16 ucrt) -- "Beagle Scouts" | 4463 |
| lconway | macOS 12.6.5 Monterey | x86_64 | 4.3.1 Patched (2023-06-17 r84564) -- "Beagle Scouts" | 4478 |
| kunpeng2 | Linux (openEuler 22.03 LTS-SP1) | aarch64 | 4.3.1 (2023-06-16) -- "Beagle Scouts" | 4464 |
| Click on any hostname to see more info about the system (e.g. compilers) (*) as reported by 'uname -p', except on Windows and Mac OS X | ||||
| Package 1132/2266 | Hostname | OS / Arch | INSTALL | BUILD | CHECK | BUILD BIN | ||||||||
| maftools 2.18.0 (landing page) Anand Mayakonda
| nebbiolo2 | Linux (Ubuntu 22.04.2 LTS) / x86_64 | OK | OK | WARNINGS | |||||||||
| palomino4 | Windows Server 2022 Datacenter / x64 | OK | OK | OK | OK | |||||||||
| lconway | macOS 12.6.5 Monterey / x86_64 | OK | OK | WARNINGS | OK | |||||||||
| kjohnson1 | macOS 13.6.1 Ventura / arm64 | see weekly results here | ||||||||||||
| kunpeng2 | Linux (openEuler 22.03 LTS-SP1) / aarch64 | OK | OK | WARNINGS | ||||||||||
|
To the developers/maintainers of the maftools package: - Allow up to 24 hours (and sometimes 48 hours) for your latest push to git@git.bioconductor.org:packages/maftools.git to reflect on this report. See Troubleshooting Build Report for more information. - Use the following Renviron settings to reproduce errors and warnings. - If 'R CMD check' started to fail recently on the Linux builder(s) over a missing dependency, add the missing dependency to 'Suggests:' in your DESCRIPTION file. See Renviron.bioc for more information. - See Martin Grigorov's blog post for how to debug Linux ARM64 related issues on a x86_64 host. |
| Package: maftools |
| Version: 2.18.0 |
| Command: /home/biocbuild/R/R-4.3.1/bin/R CMD INSTALL maftools |
| StartedAt: 2023-11-01 20:46:41 -0000 (Wed, 01 Nov 2023) |
| EndedAt: 2023-11-01 20:47:04 -0000 (Wed, 01 Nov 2023) |
| EllapsedTime: 23.4 seconds |
| RetCode: 0 |
| Status: OK |
##############################################################################
##############################################################################
###
### Running command:
###
### /home/biocbuild/R/R-4.3.1/bin/R CMD INSTALL maftools
###
##############################################################################
##############################################################################
* installing to library ‘/home/biocbuild/R/R-4.3.1/site-library’
* installing *source* package ‘maftools’ ...
** using staged installation
** libs
using C compiler: ‘gcc (GCC) 10.3.1’
gcc -I"/home/biocbuild/R/R-4.3.1/include" -DNDEBUG -D_FILE_OFFSET_BITS=64 -I'/home/biocbuild/R/R-4.3.1/site-library/Rhtslib/include' -I'/home/biocbuild/R/R-4.3.1/site-library/zlibbioc/include' -I/usr/local/include -fPIC -g -O2 -Wall -c ntcounts.c -o ntcounts.o
gcc -I"/home/biocbuild/R/R-4.3.1/include" -DNDEBUG -D_FILE_OFFSET_BITS=64 -I'/home/biocbuild/R/R-4.3.1/site-library/Rhtslib/include' -I'/home/biocbuild/R/R-4.3.1/site-library/zlibbioc/include' -I/usr/local/include -fPIC -g -O2 -Wall -c snpcounts.c -o snpcounts.o
snpcounts.c: In function ‘snpcounts’:
snpcounts.c:89:47: warning: format ‘%llu’ expects argument of type ‘long long unsigned int’, but argument 3 has type ‘uint64_t’ {aka ‘long unsigned int’} [-Wformat=]
89 | fprintf(tsv_fp, "#idxstats_mapped_reads\t%llu\n", tot_mapped);
| ~~~^ ~~~~~~~~~~
| | |
| | uint64_t {aka long unsigned int}
| long long unsigned int
| %lu
gcc -I"/home/biocbuild/R/R-4.3.1/include" -DNDEBUG -D_FILE_OFFSET_BITS=64 -I'/home/biocbuild/R/R-4.3.1/site-library/Rhtslib/include' -I'/home/biocbuild/R/R-4.3.1/site-library/zlibbioc/include' -I/usr/local/include -fPIC -g -O2 -Wall -c somaticfreq.c -o somaticfreq.o
gcc -shared -L/home/biocbuild/R/R-4.3.1/lib -L/usr/local/lib -o maftools.so ntcounts.o snpcounts.o somaticfreq.o /home/biocbuild/R/R-4.3.1/site-library/Rhtslib/usrlib/libhts.a -lcurl -L/home/biocbuild/R/R-4.3.1/lib -lR
installing to /home/biocbuild/R/R-4.3.1/site-library/00LOCK-maftools/00new/maftools/libs
** R
** inst
** byte-compile and prepare package for lazy loading
** help
*** installing help indices
** building package indices
** installing vignettes
** testing if installed package can be loaded from temporary location
** checking absolute paths in shared objects and dynamic libraries
** testing if installed package can be loaded from final location
** testing if installed package keeps a record of temporary installation path
* DONE (maftools)