Back to Multiple platform build/check report for BioC 3.18: simplified long |
|
This page was generated on 2023-11-02 11:40:49 -0400 (Thu, 02 Nov 2023).
Hostname | OS | Arch (*) | R version | Installed pkgs |
---|---|---|---|---|
nebbiolo2 | Linux (Ubuntu 22.04.2 LTS) | x86_64 | 4.3.1 (2023-06-16) -- "Beagle Scouts" | 4729 |
palomino4 | Windows Server 2022 Datacenter | x64 | 4.3.1 (2023-06-16 ucrt) -- "Beagle Scouts" | 4463 |
lconway | macOS 12.6.5 Monterey | x86_64 | 4.3.1 Patched (2023-06-17 r84564) -- "Beagle Scouts" | 4478 |
kunpeng2 | Linux (openEuler 22.03 LTS-SP1) | aarch64 | 4.3.1 (2023-06-16) -- "Beagle Scouts" | 4464 |
Click on any hostname to see more info about the system (e.g. compilers) (*) as reported by 'uname -p', except on Windows and Mac OS X |
Package 1030/2266 | Hostname | OS / Arch | INSTALL | BUILD | CHECK | BUILD BIN | ||||||||
interacCircos 1.12.0 (landing page) Zhe Cui
| nebbiolo2 | Linux (Ubuntu 22.04.2 LTS) / x86_64 | OK | OK | OK | |||||||||
palomino4 | Windows Server 2022 Datacenter / x64 | OK | OK | OK | OK | |||||||||
lconway | macOS 12.6.5 Monterey / x86_64 | OK | OK | OK | OK | |||||||||
kjohnson1 | macOS 13.6.1 Ventura / arm64 | see weekly results here | ||||||||||||
kunpeng2 | Linux (openEuler 22.03 LTS-SP1) / aarch64 | OK | OK | OK | ||||||||||
To the developers/maintainers of the interacCircos package: - Allow up to 24 hours (and sometimes 48 hours) for your latest push to git@git.bioconductor.org:packages/interacCircos.git to reflect on this report. See Troubleshooting Build Report for more information. - Use the following Renviron settings to reproduce errors and warnings. - If 'R CMD check' started to fail recently on the Linux builder(s) over a missing dependency, add the missing dependency to 'Suggests:' in your DESCRIPTION file. See Renviron.bioc for more information. - See Martin Grigorov's blog post for how to debug Linux ARM64 related issues on a x86_64 host. |
Package: interacCircos |
Version: 1.12.0 |
Command: /home/biocbuild/R/R-4.3.1/bin/R CMD check --install=check:interacCircos.install-out.txt --library=/home/biocbuild/R/R-4.3.1/site-library --no-vignettes --timings interacCircos_1.12.0.tar.gz |
StartedAt: 2023-11-02 11:27:37 -0000 (Thu, 02 Nov 2023) |
EndedAt: 2023-11-02 11:28:12 -0000 (Thu, 02 Nov 2023) |
EllapsedTime: 35.1 seconds |
RetCode: 0 |
Status: OK |
CheckDir: interacCircos.Rcheck |
Warnings: 0 |
############################################################################## ############################################################################## ### ### Running command: ### ### /home/biocbuild/R/R-4.3.1/bin/R CMD check --install=check:interacCircos.install-out.txt --library=/home/biocbuild/R/R-4.3.1/site-library --no-vignettes --timings interacCircos_1.12.0.tar.gz ### ############################################################################## ############################################################################## * using log directory ‘/home/biocbuild/bbs-3.18-bioc/meat/interacCircos.Rcheck’ * using R version 4.3.1 (2023-06-16) * using platform: aarch64-unknown-linux-gnu (64-bit) * R was compiled by gcc (GCC) 10.3.1 GNU Fortran (GCC) 10.3.1 * running under: openEuler 22.03 (LTS-SP1) * using session charset: UTF-8 * using option ‘--no-vignettes’ * checking for file ‘interacCircos/DESCRIPTION’ ... OK * checking extension type ... Package * this is package ‘interacCircos’ version ‘1.12.0’ * package encoding: UTF-8 * checking package namespace information ... OK * checking package dependencies ... OK * checking if this is a source package ... OK * checking if there is a namespace ... OK * checking for hidden files and directories ... OK * checking for portable file names ... OK * checking for sufficient/correct file permissions ... OK * checking whether package ‘interacCircos’ can be installed ... OK * checking installed package size ... OK * checking package directory ... OK * checking ‘build’ directory ... OK * checking DESCRIPTION meta-information ... OK * checking top-level files ... OK * checking for left-over files ... OK * checking index information ... OK * checking package subdirectories ... OK * checking R files for non-ASCII characters ... OK * checking R files for syntax errors ... OK * checking whether the package can be loaded ... OK * checking whether the package can be loaded with stated dependencies ... OK * checking whether the package can be unloaded cleanly ... OK * checking whether the namespace can be loaded with stated dependencies ... OK * checking whether the namespace can be unloaded cleanly ... OK * checking loading without being on the library search path ... OK * checking dependencies in R code ... OK * checking S3 generic/method consistency ... OK * checking replacement functions ... OK * checking foreign function calls ... OK * checking R code for possible problems ... OK * checking Rd files ... OK * checking Rd metadata ... OK * checking Rd cross-references ... OK * checking for missing documentation entries ... OK * checking for code/documentation mismatches ... OK * checking Rd \usage sections ... OK * checking Rd contents ... OK * checking for unstated dependencies in examples ... OK * checking contents of ‘data’ directory ... OK * checking data for non-ASCII characters ... OK * checking LazyData ... OK * checking data for ASCII and uncompressed saves ... OK * checking files in ‘vignettes’ ... OK * checking examples ... OK * checking for unstated dependencies in vignettes ... OK * checking package vignettes in ‘inst/doc’ ... OK * checking running R code from vignettes ... SKIPPED * checking re-building of vignette outputs ... SKIPPED * checking PDF version of manual ... OK * DONE Status: OK
interacCircos.Rcheck/00install.out
############################################################################## ############################################################################## ### ### Running command: ### ### /home/biocbuild/R/R-4.3.1/bin/R CMD INSTALL interacCircos ### ############################################################################## ############################################################################## * installing to library ‘/home/biocbuild/R/R-4.3.1/site-library’ * installing *source* package ‘interacCircos’ ... ** using staged installation ** R ** data *** moving datasets to lazyload DB ** inst ** byte-compile and prepare package for lazy loading ** help *** installing help indices ** building package indices ** installing vignettes ** testing if installed package can be loaded from temporary location ** testing if installed package can be loaded from final location ** testing if installed package keeps a record of temporary installation path * DONE (interacCircos)
interacCircos.Rcheck/interacCircos-Ex.timings
name | user | system | elapsed | |
Circos | 0.269 | 0.016 | 0.300 | |
CircosArc | 0.098 | 0.016 | 0.115 | |
CircosAuxLine | 0.091 | 0.012 | 0.104 | |
CircosBackground | 0.097 | 0.008 | 0.105 | |
CircosBubble | 0.507 | 0.008 | 0.516 | |
CircosChord | 0.102 | 0.008 | 0.110 | |
CircosChord.p | 0.103 | 0.004 | 0.108 | |
CircosCnv | 0.327 | 0.008 | 0.336 | |
CircosGene | 0.114 | 0.004 | 0.119 | |
CircosHeatmap | 0.531 | 0.004 | 0.535 | |
CircosHistogram | 0.202 | 0.012 | 0.215 | |
CircosLegend | 0.091 | 0.012 | 0.104 | |
CircosLine | 0.455 | 0.012 | 0.473 | |
CircosLink | 0.110 | 0.008 | 0.118 | |
CircosLollipop | 0.255 | 0.012 | 0.267 | |
CircosScatter | 1.504 | 0.020 | 1.528 | |
CircosSnp | 0.701 | 0.028 | 0.731 | |
CircosText | 0.094 | 0.016 | 0.111 | |
CircosWig | 1.433 | 0.008 | 1.445 | |