Back to Multiple platform build/check report for BioC 3.18: simplified long |
|
This page was generated on 2023-11-02 11:40:49 -0400 (Thu, 02 Nov 2023).
Hostname | OS | Arch (*) | R version | Installed pkgs |
---|---|---|---|---|
nebbiolo2 | Linux (Ubuntu 22.04.2 LTS) | x86_64 | 4.3.1 (2023-06-16) -- "Beagle Scouts" | 4729 |
palomino4 | Windows Server 2022 Datacenter | x64 | 4.3.1 (2023-06-16 ucrt) -- "Beagle Scouts" | 4463 |
lconway | macOS 12.6.5 Monterey | x86_64 | 4.3.1 Patched (2023-06-17 r84564) -- "Beagle Scouts" | 4478 |
kunpeng2 | Linux (openEuler 22.03 LTS-SP1) | aarch64 | 4.3.1 (2023-06-16) -- "Beagle Scouts" | 4464 |
Click on any hostname to see more info about the system (e.g. compilers) (*) as reported by 'uname -p', except on Windows and Mac OS X |
Package 1021/2266 | Hostname | OS / Arch | INSTALL | BUILD | CHECK | BUILD BIN | ||||||||
infercnv 1.18.0 (landing page) Christophe Georgescu
| nebbiolo2 | Linux (Ubuntu 22.04.2 LTS) / x86_64 | OK | OK | OK | |||||||||
palomino4 | Windows Server 2022 Datacenter / x64 | OK | OK | OK | OK | |||||||||
lconway | macOS 12.6.5 Monterey / x86_64 | OK | OK | OK | OK | |||||||||
kjohnson1 | macOS 13.6.1 Ventura / arm64 | see weekly results here | ||||||||||||
kunpeng2 | Linux (openEuler 22.03 LTS-SP1) / aarch64 | OK | OK | OK | ||||||||||
To the developers/maintainers of the infercnv package: - Allow up to 24 hours (and sometimes 48 hours) for your latest push to git@git.bioconductor.org:packages/infercnv.git to reflect on this report. See Troubleshooting Build Report for more information. - Use the following Renviron settings to reproduce errors and warnings. - If 'R CMD check' started to fail recently on the Linux builder(s) over a missing dependency, add the missing dependency to 'Suggests:' in your DESCRIPTION file. See Renviron.bioc for more information. - See Martin Grigorov's blog post for how to debug Linux ARM64 related issues on a x86_64 host. |
Package: infercnv |
Version: 1.18.0 |
Command: /home/biocbuild/R/R-4.3.1/bin/R CMD check --install=check:infercnv.install-out.txt --library=/home/biocbuild/R/R-4.3.1/site-library --no-vignettes --timings infercnv_1.18.0.tar.gz |
StartedAt: 2023-11-02 11:25:59 -0000 (Thu, 02 Nov 2023) |
EndedAt: 2023-11-02 11:35:52 -0000 (Thu, 02 Nov 2023) |
EllapsedTime: 593.5 seconds |
RetCode: 0 |
Status: OK |
CheckDir: infercnv.Rcheck |
Warnings: 0 |
############################################################################## ############################################################################## ### ### Running command: ### ### /home/biocbuild/R/R-4.3.1/bin/R CMD check --install=check:infercnv.install-out.txt --library=/home/biocbuild/R/R-4.3.1/site-library --no-vignettes --timings infercnv_1.18.0.tar.gz ### ############################################################################## ############################################################################## * using log directory ‘/home/biocbuild/bbs-3.18-bioc/meat/infercnv.Rcheck’ * using R version 4.3.1 (2023-06-16) * using platform: aarch64-unknown-linux-gnu (64-bit) * R was compiled by gcc (GCC) 10.3.1 GNU Fortran (GCC) 10.3.1 * running under: openEuler 22.03 (LTS-SP1) * using session charset: UTF-8 * using option ‘--no-vignettes’ * checking for file ‘infercnv/DESCRIPTION’ ... OK * checking extension type ... Package * this is package ‘infercnv’ version ‘1.18.0’ * checking package namespace information ... OK * checking package dependencies ... OK * checking if this is a source package ... OK * checking if there is a namespace ... OK * checking for hidden files and directories ... OK * checking for portable file names ... OK * checking for sufficient/correct file permissions ... OK * checking whether package ‘infercnv’ can be installed ... OK * checking installed package size ... OK * checking package directory ... OK * checking ‘build’ directory ... OK * checking DESCRIPTION meta-information ... OK * checking top-level files ... OK * checking for left-over files ... OK * checking index information ... OK * checking package subdirectories ... OK * checking R files for non-ASCII characters ... OK * checking R files for syntax errors ... OK * checking whether the package can be loaded ... OK * checking whether the package can be loaded with stated dependencies ... OK * checking whether the package can be unloaded cleanly ... OK * checking whether the namespace can be loaded with stated dependencies ... OK * checking whether the namespace can be unloaded cleanly ... OK * checking loading without being on the library search path ... OK * checking dependencies in R code ... NOTE Unexported object imported by a ':::' call: ‘HiddenMarkov:::makedensity’ See the note in ?`:::` about the use of this operator. * checking S3 generic/method consistency ... OK * checking replacement functions ... OK * checking foreign function calls ... OK * checking R code for possible problems ... OK * checking Rd files ... OK * checking Rd metadata ... OK * checking Rd cross-references ... OK * checking for missing documentation entries ... OK * checking for code/documentation mismatches ... OK * checking Rd \usage sections ... OK * checking Rd contents ... OK * checking for unstated dependencies in examples ... OK * checking contents of ‘data’ directory ... OK * checking data for non-ASCII characters ... OK * checking LazyData ... OK * checking data for ASCII and uncompressed saves ... OK * checking files in ‘vignettes’ ... OK * checking examples ... OK Examples with CPU (user + system) or elapsed time > 5s user system elapsed inferCNVBayesNet 228.415 6.702 203.273 run 15.829 0.903 16.778 apply_median_filtering 7.663 0.248 7.930 * checking for unstated dependencies in ‘tests’ ... OK * checking tests ... Running ‘testthat.R’ OK * checking for unstated dependencies in vignettes ... OK * checking package vignettes in ‘inst/doc’ ... OK * checking running R code from vignettes ... SKIPPED * checking re-building of vignette outputs ... SKIPPED * checking PDF version of manual ... OK * DONE Status: 1 NOTE See ‘/home/biocbuild/bbs-3.18-bioc/meat/infercnv.Rcheck/00check.log’ for details.
infercnv.Rcheck/00install.out
############################################################################## ############################################################################## ### ### Running command: ### ### /home/biocbuild/R/R-4.3.1/bin/R CMD INSTALL infercnv ### ############################################################################## ############################################################################## * installing to library ‘/home/biocbuild/R/R-4.3.1/site-library’ * installing *source* package ‘infercnv’ ... ** using staged installation ** R ** data *** moving datasets to lazyload DB ** inst ** byte-compile and prepare package for lazy loading ** help *** installing help indices ** building package indices ** installing vignettes ** testing if installed package can be loaded from temporary location ** testing if installed package can be loaded from final location ** testing if installed package keeps a record of temporary installation path * DONE (infercnv)
infercnv.Rcheck/tests/testthat.Rout
R version 4.3.1 (2023-06-16) -- "Beagle Scouts" Copyright (C) 2023 The R Foundation for Statistical Computing Platform: aarch64-unknown-linux-gnu (64-bit) R is free software and comes with ABSOLUTELY NO WARRANTY. You are welcome to redistribute it under certain conditions. Type 'license()' or 'licence()' for distribution details. R is a collaborative project with many contributors. Type 'contributors()' for more information and 'citation()' on how to cite R or R packages in publications. Type 'demo()' for some demos, 'help()' for on-line help, or 'help.start()' for an HTML browser interface to help. Type 'q()' to quit R. > #!/usr/bin/env Rscript > > library(testthat) > library(infercnv) > > test_check("infercnv") INFO [2023-11-02 11:35:49] ::subtract_ref_expr_from_obs:Start inv_log=FALSE, use_bounds=TRUE INFO [2023-11-02 11:35:49] subtracting mean(normal) per gene per cell across all data INFO [2023-11-02 11:35:49] -subtracting expr per gene, use_bounds=TRUE INFO [2023-11-02 11:35:49] ::subtract_ref_expr_from_obs:Start inv_log=FALSE, use_bounds=TRUE INFO [2023-11-02 11:35:49] subtracting mean(normal) per gene per cell across all data INFO [2023-11-02 11:35:49] -subtracting expr per gene, use_bounds=TRUE INFO [2023-11-02 11:35:49] ::subtract_ref_expr_from_obs:Start inv_log=FALSE, use_bounds=TRUE INFO [2023-11-02 11:35:49] subtracting mean(normal) per gene per cell across all data INFO [2023-11-02 11:35:49] -subtracting expr per gene, use_bounds=TRUE INFO [2023-11-02 11:35:49] ::subtract_ref_expr_from_obs:Start inv_log=FALSE, use_bounds=TRUE INFO [2023-11-02 11:35:49] subtracting mean(normal) per gene per cell across all data INFO [2023-11-02 11:35:49] -subtracting expr per gene, use_bounds=TRUE INFO [2023-11-02 11:35:49] ::subtract_ref_expr_from_obs:Start inv_log=FALSE, use_bounds=TRUE INFO [2023-11-02 11:35:49] subtracting mean(normal) per gene per cell across all data INFO [2023-11-02 11:35:49] -subtracting expr per gene, use_bounds=TRUE INFO [2023-11-02 11:35:49] ::subtract_ref_expr_from_obs:Start inv_log=FALSE, use_bounds=TRUE INFO [2023-11-02 11:35:49] subtracting mean(normal) per gene per cell across all data INFO [2023-11-02 11:35:49] -subtracting expr per gene, use_bounds=TRUE WARN [2023-11-02 11:35:49] window length < 2, returning original unmodified data WARN [2023-11-02 11:35:49] window length < 2, returning original unmodified data INFO [2023-11-02 11:35:49] ::remove_outlier_norm:Start out_method: average_bound lower_bound: -1 upper_bound: 30 INFO [2023-11-02 11:35:49] ::remove_outlier_norm: using hard thresholds: lower_bound: -1 upper_bound: 30 INFO [2023-11-02 11:35:49] ::remove_outlier_norm:Start out_method: average_bound lower_bound: 5 upper_bound: 15 INFO [2023-11-02 11:35:49] ::remove_outlier_norm: using hard thresholds: lower_bound: 5 upper_bound: 15 INFO [2023-11-02 11:35:50] ::remove_outlier_norm:Start out_method: average_bound lower_bound: NA upper_bound: NA INFO [2023-11-02 11:35:50] ::remove_outlier_norm using method: average_bound for defining outliers. INFO [2023-11-02 11:35:50] outlier bounds defined between: -0.5 - 17.75 INFO [2023-11-02 11:35:50] ::order_reduce:Start. INFO [2023-11-02 11:35:50] ::order_reduce:Start. INFO [2023-11-02 11:35:50] .order_reduce(): expr and order match. INFO [2023-11-02 11:35:50] ::process_data:order_reduce:Reduction from positional data, new dimensions (r,c) = 10,2 Total=110 Min=1 Max=10. INFO [2023-11-02 11:35:50] ::order_reduce:Start. INFO [2023-11-02 11:35:50] .order_reduce(): expr and order match. INFO [2023-11-02 11:35:50] ::process_data:order_reduce:Reduction from positional data, new dimensions (r,c) = 10,2 Total=110 Min=1 Max=10. INFO [2023-11-02 11:35:50] ::order_reduce:Start. INFO [2023-11-02 11:35:50] ::process_data:order_reduce:The position file and the expression file row (gene) names do not match. [ FAIL 0 | WARN 0 | SKIP 3 | PASS 39 ] ══ Skipped tests (3) ═══════════════════════════════════════════════════════════ • empty test (3): 'test_infer_cnv.R:343:1', 'test_infer_cnv.R:349:1', 'test_infer_cnv.R:355:1' [ FAIL 0 | WARN 0 | SKIP 3 | PASS 39 ] > > proc.time() user system elapsed 15.567 0.613 16.549
infercnv.Rcheck/infercnv-Ex.timings
name | user | system | elapsed | |
CreateInfercnvObject | 0.107 | 0.004 | 0.119 | |
apply_median_filtering | 7.663 | 0.248 | 7.930 | |
color.palette | 0.000 | 0.003 | 0.003 | |
filterHighPNormals | 0.017 | 0.001 | 0.018 | |
inferCNVBayesNet | 228.415 | 6.702 | 203.273 | |
plot_cnv | 0.735 | 0.060 | 0.838 | |
plot_per_group | 1.316 | 0.056 | 1.374 | |
plot_subclusters | 0.942 | 0.399 | 1.342 | |
run | 15.829 | 0.903 | 16.778 | |
sample_object | 0.038 | 0.778 | 0.725 | |