Back to Multiple platform build/check report for BioC 3.18: simplified long |
|
This page was generated on 2024-04-17 11:37:50 -0400 (Wed, 17 Apr 2024).
Hostname | OS | Arch (*) | R version | Installed pkgs |
---|---|---|---|---|
nebbiolo2 | Linux (Ubuntu 22.04.3 LTS) | x86_64 | 4.3.3 (2024-02-29) -- "Angel Food Cake" | 4676 |
palomino4 | Windows Server 2022 Datacenter | x64 | 4.3.3 (2024-02-29 ucrt) -- "Angel Food Cake" | 4414 |
merida1 | macOS 12.7.1 Monterey | x86_64 | 4.3.3 (2024-02-29) -- "Angel Food Cake" | 4437 |
Click on any hostname to see more info about the system (e.g. compilers) (*) as reported by 'uname -p', except on Windows and Mac OS X |
Package 993/2266 | Hostname | OS / Arch | INSTALL | BUILD | CHECK | BUILD BIN | ||||||||
iCheck 1.32.0 (landing page) Weiliang Qiu
| nebbiolo2 | Linux (Ubuntu 22.04.3 LTS) / x86_64 | OK | OK | OK | ![]() | ||||||||
palomino4 | Windows Server 2022 Datacenter / x64 | OK | OK | OK | OK | ![]() | ||||||||
merida1 | macOS 12.7.1 Monterey / x86_64 | OK | OK | OK | OK | ![]() | ||||||||
kjohnson1 | macOS 13.6.1 Ventura / arm64 | see weekly results here | ||||||||||||
To the developers/maintainers of the iCheck package: - Allow up to 24 hours (and sometimes 48 hours) for your latest push to git@git.bioconductor.org:packages/iCheck.git to reflect on this report. See Troubleshooting Build Report for more information. - Use the following Renviron settings to reproduce errors and warnings. - If 'R CMD check' started to fail recently on the Linux builder(s) over a missing dependency, add the missing dependency to 'Suggests:' in your DESCRIPTION file. See Renviron.bioc for more information. |
Package: iCheck |
Version: 1.32.0 |
Command: /Library/Frameworks/R.framework/Resources/bin/R CMD check --install=check:iCheck.install-out.txt --library=/Library/Frameworks/R.framework/Resources/library --no-vignettes --timings iCheck_1.32.0.tar.gz |
StartedAt: 2024-04-16 04:06:33 -0400 (Tue, 16 Apr 2024) |
EndedAt: 2024-04-16 04:17:10 -0400 (Tue, 16 Apr 2024) |
EllapsedTime: 637.0 seconds |
RetCode: 0 |
Status: OK |
CheckDir: iCheck.Rcheck |
Warnings: 0 |
############################################################################## ############################################################################## ### ### Running command: ### ### /Library/Frameworks/R.framework/Resources/bin/R CMD check --install=check:iCheck.install-out.txt --library=/Library/Frameworks/R.framework/Resources/library --no-vignettes --timings iCheck_1.32.0.tar.gz ### ############################################################################## ############################################################################## * using log directory ‘/Users/biocbuild/bbs-3.18-bioc/meat/iCheck.Rcheck’ * using R version 4.3.3 (2024-02-29) * using platform: x86_64-apple-darwin20 (64-bit) * R was compiled by Apple clang version 14.0.0 (clang-1400.0.29.202) GNU Fortran (GCC) 12.2.0 * running under: macOS Monterey 12.7.1 * using session charset: UTF-8 * using option ‘--no-vignettes’ * checking for file ‘iCheck/DESCRIPTION’ ... OK * checking extension type ... Package * this is package ‘iCheck’ version ‘1.32.0’ * checking package namespace information ... OK * checking package dependencies ... OK * checking if this is a source package ... OK * checking if there is a namespace ... OK * checking for hidden files and directories ... OK * checking for portable file names ... OK * checking for sufficient/correct file permissions ... OK * checking whether package ‘iCheck’ can be installed ... OK * checking installed package size ... OK * checking package directory ... OK * checking ‘build’ directory ... OK * checking DESCRIPTION meta-information ... OK * checking top-level files ... OK * checking for left-over files ... OK * checking index information ... OK * checking package subdirectories ... OK * checking R files for non-ASCII characters ... OK * checking R files for syntax errors ... OK * checking whether the package can be loaded ... OK * checking whether the package can be loaded with stated dependencies ... OK * checking whether the package can be unloaded cleanly ... OK * checking whether the namespace can be loaded with stated dependencies ... OK * checking whether the namespace can be unloaded cleanly ... OK * checking dependencies in R code ... OK * checking S3 generic/method consistency ... OK * checking replacement functions ... OK * checking foreign function calls ... OK * checking R code for possible problems ... OK * checking Rd files ... OK * checking Rd metadata ... OK * checking Rd cross-references ... OK * checking for missing documentation entries ... OK * checking for code/documentation mismatches ... OK * checking Rd \usage sections ... OK * checking Rd contents ... OK * checking for unstated dependencies in examples ... OK * checking sizes of PDF files under ‘inst/doc’ ... OK * checking files in ‘vignettes’ ... OK * checking examples ... OK * checking for unstated dependencies in vignettes ... OK * checking package vignettes in ‘inst/doc’ ... OK * checking running R code from vignettes ... SKIPPED * checking re-building of vignette outputs ... SKIPPED * checking PDF version of manual ... OK * DONE Status: OK
iCheck.Rcheck/00install.out
############################################################################## ############################################################################## ### ### Running command: ### ### /Library/Frameworks/R.framework/Resources/bin/R CMD INSTALL iCheck ### ############################################################################## ############################################################################## * installing to library ‘/Library/Frameworks/R.framework/Versions/4.3-x86_64/Resources/library’ * installing *source* package ‘iCheck’ ... ** using staged installation ** R ** byte-compile and prepare package for lazy loading No methods found in package ‘RSQLite’ for request: ‘dbListFields’ when loading ‘lumi’ ** help *** installing help indices ** building package indices ** installing vignettes ** testing if installed package can be loaded from temporary location No methods found in package ‘RSQLite’ for request: ‘dbListFields’ when loading ‘lumi’ ** testing if installed package can be loaded from final location No methods found in package ‘RSQLite’ for request: ‘dbListFields’ when loading ‘lumi’ ** testing if installed package keeps a record of temporary installation path * DONE (iCheck)
iCheck.Rcheck/iCheck-Ex.timings
name | user | system | elapsed | |
LumiBatch2Table | 0.198 | 0.011 | 0.239 | |
R2PlotFunc | 0.370 | 0.024 | 0.453 | |
boxPlots | 0.310 | 0.041 | 0.414 | |
densityPlots | 0.152 | 0.016 | 0.194 | |
genSimData.BayesNormal | 0.062 | 0.009 | 0.085 | |
getPCAFunc | 0.096 | 0.014 | 0.127 | |
glmWrapper | 0.824 | 0.077 | 1.052 | |
lkhrWrapper | 0.997 | 0.018 | 1.186 | |
lmFitPaired | 0.087 | 0.005 | 0.105 | |
lmFitWrapper | 0.082 | 0.007 | 0.105 | |
pca2DPlot | 0.140 | 0.005 | 0.174 | |
pca3DPlot | 0.100 | 0.004 | 0.120 | |
plotCurves | 0.071 | 0.004 | 0.087 | |
plotQCCurves | 0.118 | 0.006 | 0.145 | |
plotSamplep95p05 | 0.128 | 0.015 | 0.168 | |
quantilePlot | 0.123 | 0.018 | 0.168 | |
scatterPlots | 0.201 | 0.046 | 0.289 | |
sortExpressionSet | 0.105 | 0.015 | 0.136 | |