Back to Multiple platform build/check report for BioC 3.18: simplified long |
|
This page was generated on 2024-03-04 11:37:27 -0500 (Mon, 04 Mar 2024).
Hostname | OS | Arch (*) | R version | Installed pkgs |
---|---|---|---|---|
nebbiolo2 | Linux (Ubuntu 22.04.3 LTS) | x86_64 | 4.3.2 Patched (2023-11-13 r85521) -- "Eye Holes" | 4692 |
palomino4 | Windows Server 2022 Datacenter | x64 | 4.3.2 (2023-10-31 ucrt) -- "Eye Holes" | 4445 |
lconway | macOS 12.7.1 Monterey | x86_64 | 4.3.2 Patched (2023-11-01 r85457) -- "Eye Holes" | 4466 |
Click on any hostname to see more info about the system (e.g. compilers) (*) as reported by 'uname -p', except on Windows and Mac OS X |
Package 993/2266 | Hostname | OS / Arch | INSTALL | BUILD | CHECK | BUILD BIN | ||||||||
iCheck 1.32.0 (landing page) Weiliang Qiu
| nebbiolo2 | Linux (Ubuntu 22.04.3 LTS) / x86_64 | OK | OK | OK | |||||||||
palomino4 | Windows Server 2022 Datacenter / x64 | OK | OK | OK | OK | |||||||||
lconway | macOS 12.7.1 Monterey / x86_64 | OK | OK | OK | OK | |||||||||
kjohnson1 | macOS 13.6.1 Ventura / arm64 | see weekly results here | ||||||||||||
To the developers/maintainers of the iCheck package: - Allow up to 24 hours (and sometimes 48 hours) for your latest push to git@git.bioconductor.org:packages/iCheck.git to reflect on this report. See Troubleshooting Build Report for more information. - Use the following Renviron settings to reproduce errors and warnings. - If 'R CMD check' started to fail recently on the Linux builder(s) over a missing dependency, add the missing dependency to 'Suggests:' in your DESCRIPTION file. See Renviron.bioc for more information. |
Package: iCheck |
Version: 1.32.0 |
Command: /Library/Frameworks/R.framework/Resources/bin/R CMD check --install=check:iCheck.install-out.txt --library=/Library/Frameworks/R.framework/Resources/library --no-vignettes --timings iCheck_1.32.0.tar.gz |
StartedAt: 2024-03-03 21:13:43 -0500 (Sun, 03 Mar 2024) |
EndedAt: 2024-03-03 21:20:00 -0500 (Sun, 03 Mar 2024) |
EllapsedTime: 377.3 seconds |
RetCode: 0 |
Status: OK |
CheckDir: iCheck.Rcheck |
Warnings: 0 |
############################################################################## ############################################################################## ### ### Running command: ### ### /Library/Frameworks/R.framework/Resources/bin/R CMD check --install=check:iCheck.install-out.txt --library=/Library/Frameworks/R.framework/Resources/library --no-vignettes --timings iCheck_1.32.0.tar.gz ### ############################################################################## ############################################################################## * using log directory ‘/Users/biocbuild/bbs-3.18-bioc/meat/iCheck.Rcheck’ * using R version 4.3.2 Patched (2023-11-01 r85457) * using platform: x86_64-apple-darwin20 (64-bit) * R was compiled by Apple clang version 14.0.3 (clang-1403.0.22.14.1) GNU Fortran (GCC) 12.2.0 * running under: macOS Monterey 12.7.1 * using session charset: UTF-8 * using option ‘--no-vignettes’ * checking for file ‘iCheck/DESCRIPTION’ ... OK * checking extension type ... Package * this is package ‘iCheck’ version ‘1.32.0’ * checking package namespace information ... OK * checking package dependencies ... OK * checking if this is a source package ... OK * checking if there is a namespace ... OK * checking for hidden files and directories ... OK * checking for portable file names ... OK * checking for sufficient/correct file permissions ... OK * checking whether package ‘iCheck’ can be installed ... OK * checking installed package size ... OK * checking package directory ... OK * checking ‘build’ directory ... OK * checking DESCRIPTION meta-information ... OK * checking top-level files ... OK * checking for left-over files ... OK * checking index information ... OK * checking package subdirectories ... OK * checking R files for non-ASCII characters ... OK * checking R files for syntax errors ... OK * checking whether the package can be loaded ... OK * checking whether the package can be loaded with stated dependencies ... OK * checking whether the package can be unloaded cleanly ... OK * checking whether the namespace can be loaded with stated dependencies ... OK * checking whether the namespace can be unloaded cleanly ... OK * checking dependencies in R code ... OK * checking S3 generic/method consistency ... OK * checking replacement functions ... OK * checking foreign function calls ... OK * checking R code for possible problems ... OK * checking Rd files ... OK * checking Rd metadata ... OK * checking Rd cross-references ... OK * checking for missing documentation entries ... OK * checking for code/documentation mismatches ... OK * checking Rd \usage sections ... OK * checking Rd contents ... OK * checking for unstated dependencies in examples ... OK * checking sizes of PDF files under ‘inst/doc’ ... OK * checking files in ‘vignettes’ ... OK * checking examples ... OK * checking for unstated dependencies in vignettes ... OK * checking package vignettes in ‘inst/doc’ ... OK * checking running R code from vignettes ... SKIPPED * checking re-building of vignette outputs ... SKIPPED * checking PDF version of manual ... OK * DONE Status: OK
iCheck.Rcheck/00install.out
############################################################################## ############################################################################## ### ### Running command: ### ### /Library/Frameworks/R.framework/Resources/bin/R CMD INSTALL iCheck ### ############################################################################## ############################################################################## * installing to library ‘/Library/Frameworks/R.framework/Versions/4.3-x86_64/Resources/library’ * installing *source* package ‘iCheck’ ... ** using staged installation ** R ** byte-compile and prepare package for lazy loading No methods found in package ‘RSQLite’ for request: ‘dbListFields’ when loading ‘lumi’ ** help *** installing help indices ** building package indices ** installing vignettes ** testing if installed package can be loaded from temporary location No methods found in package ‘RSQLite’ for request: ‘dbListFields’ when loading ‘lumi’ ** testing if installed package can be loaded from final location No methods found in package ‘RSQLite’ for request: ‘dbListFields’ when loading ‘lumi’ ** testing if installed package keeps a record of temporary installation path * DONE (iCheck)
iCheck.Rcheck/iCheck-Ex.timings
name | user | system | elapsed | |
LumiBatch2Table | 0.111 | 0.006 | 0.118 | |
R2PlotFunc | 0.280 | 0.035 | 0.285 | |
boxPlots | 0.164 | 0.022 | 0.192 | |
densityPlots | 0.073 | 0.007 | 0.080 | |
genSimData.BayesNormal | 0.030 | 0.003 | 0.032 | |
getPCAFunc | 0.050 | 0.006 | 0.056 | |
glmWrapper | 0.375 | 0.031 | 0.410 | |
lkhrWrapper | 0.469 | 0.013 | 0.486 | |
lmFitPaired | 0.046 | 0.002 | 0.048 | |
lmFitWrapper | 0.043 | 0.003 | 0.047 | |
pca2DPlot | 0.082 | 0.004 | 0.088 | |
pca3DPlot | 0.058 | 0.003 | 0.062 | |
plotCurves | 0.042 | 0.002 | 0.045 | |
plotQCCurves | 0.068 | 0.005 | 0.074 | |
plotSamplep95p05 | 0.063 | 0.008 | 0.072 | |
quantilePlot | 0.090 | 0.008 | 0.086 | |
scatterPlots | 0.111 | 0.028 | 0.146 | |
sortExpressionSet | 0.063 | 0.006 | 0.070 | |