Back to Multiple platform build/check report for BioC 3.18: simplified long |
|
This page was generated on 2023-11-02 11:40:47 -0400 (Thu, 02 Nov 2023).
Hostname | OS | Arch (*) | R version | Installed pkgs |
---|---|---|---|---|
nebbiolo2 | Linux (Ubuntu 22.04.2 LTS) | x86_64 | 4.3.1 (2023-06-16) -- "Beagle Scouts" | 4729 |
palomino4 | Windows Server 2022 Datacenter | x64 | 4.3.1 (2023-06-16 ucrt) -- "Beagle Scouts" | 4463 |
lconway | macOS 12.6.5 Monterey | x86_64 | 4.3.1 Patched (2023-06-17 r84564) -- "Beagle Scouts" | 4478 |
kunpeng2 | Linux (openEuler 22.03 LTS-SP1) | aarch64 | 4.3.1 (2023-06-16) -- "Beagle Scouts" | 4464 |
Click on any hostname to see more info about the system (e.g. compilers) (*) as reported by 'uname -p', except on Windows and Mac OS X |
Package 929/2266 | Hostname | OS / Arch | INSTALL | BUILD | CHECK | BUILD BIN | ||||||||
h5vc 2.36.0 (landing page) Paul Theodor Pyl
| nebbiolo2 | Linux (Ubuntu 22.04.2 LTS) / x86_64 | OK | OK | WARNINGS | |||||||||
palomino4 | Windows Server 2022 Datacenter / x64 | OK | OK | WARNINGS | OK | |||||||||
lconway | macOS 12.6.5 Monterey / x86_64 | OK | OK | WARNINGS | OK | |||||||||
kjohnson1 | macOS 13.6.1 Ventura / arm64 | see weekly results here | ||||||||||||
kunpeng2 | Linux (openEuler 22.03 LTS-SP1) / aarch64 | OK | OK | WARNINGS | ||||||||||
To the developers/maintainers of the h5vc package: - Allow up to 24 hours (and sometimes 48 hours) for your latest push to git@git.bioconductor.org:packages/h5vc.git to reflect on this report. See Troubleshooting Build Report for more information. - Use the following Renviron settings to reproduce errors and warnings. - If 'R CMD check' started to fail recently on the Linux builder(s) over a missing dependency, add the missing dependency to 'Suggests:' in your DESCRIPTION file. See Renviron.bioc for more information. - See Martin Grigorov's blog post for how to debug Linux ARM64 related issues on a x86_64 host. |
Package: h5vc |
Version: 2.36.0 |
Command: /home/biocbuild/R/R-4.3.1/bin/R CMD INSTALL h5vc |
StartedAt: 2023-11-01 20:19:06 -0000 (Wed, 01 Nov 2023) |
EndedAt: 2023-11-01 20:19:32 -0000 (Wed, 01 Nov 2023) |
EllapsedTime: 26.5 seconds |
RetCode: 0 |
Status: OK |
############################################################################## ############################################################################## ### ### Running command: ### ### /home/biocbuild/R/R-4.3.1/bin/R CMD INSTALL h5vc ### ############################################################################## ############################################################################## * installing to library ‘/home/biocbuild/R/R-4.3.1/site-library’ * installing *source* package ‘h5vc’ ... ** using staged installation ** libs using C compiler: ‘gcc (GCC) 10.3.1’ using C++ compiler: ‘g++ (GCC) 10.3.1’ gcc -I"/home/biocbuild/R/R-4.3.1/include" -DNDEBUG -D_FILE_OFFSET_BITS=64 -I'/home/biocbuild/R/R-4.3.1/site-library/Rhtslib/include' -I/usr/local/include -fPIC -g -O2 -Wall -c bam_plbuf.c -o bam_plbuf.o g++ -std=gnu++17 -I"/home/biocbuild/R/R-4.3.1/include" -DNDEBUG -D_FILE_OFFSET_BITS=64 -I'/home/biocbuild/R/R-4.3.1/site-library/Rhtslib/include' -I/usr/local/include -fPIC -g -O2 -Wall -c tallyBAM.cpp -o tallyBAM.o tallyBAM.cpp: In function ‘int pileup_func_old(uint32_t, hts_pos_t, int, const bam_pileup1_t*, void*)’: tallyBAM.cpp:47:7: warning: unused variable ‘len’ [-Wunused-variable] 47 | int len = nttable->end - nttable->beg; | ^~~ tallyBAM.cpp: In function ‘int pileup_func(uint32_t, hts_pos_t, int, const bam_pileup1_t*, void*)’: tallyBAM.cpp:96:7: warning: unused variable ‘len’ [-Wunused-variable] 96 | int len = nttable->end - nttable->beg; | ^~~ tallyBAM.cpp: In function ‘int _tallyBAM(char**, char**, int*, int*, int*, int*, int*, int*, int*, int*)’: tallyBAM.cpp:140:6: warning: unused variable ‘c’ [-Wunused-variable] 140 | int c = 0; | ^ tallyBAM.cpp: At global scope: tallyBAM.cpp:43:12: warning: ‘int pileup_func_old(uint32_t, hts_pos_t, int, const bam_pileup1_t*, void*)’ defined but not used [-Wunused-function] 43 | static int pileup_func_old(uint32_t tid, hts_pos_t pos, int n, const bam_pileup1_t *pl, void *data) | ^~~~~~~~~~~~~~~ g++ -std=gnu++17 -shared -L/home/biocbuild/R/R-4.3.1/lib -L/usr/local/lib -o h5vc.so bam_plbuf.o tallyBAM.o /home/biocbuild/R/R-4.3.1/site-library/Rhtslib/usrlib/libhts.a -lcurl -L/home/biocbuild/R/R-4.3.1/lib -lR installing to /home/biocbuild/R/R-4.3.1/site-library/00LOCK-h5vc/00new/h5vc/libs ** R ** data ** inst ** byte-compile and prepare package for lazy loading Warning: replacing previous import ‘Biostrings::pattern’ by ‘grid::pattern’ when loading ‘h5vc’ ** help *** installing help indices ** building package indices ** installing vignettes ** testing if installed package can be loaded from temporary location Warning: replacing previous import ‘Biostrings::pattern’ by ‘grid::pattern’ when loading ‘h5vc’ ** checking absolute paths in shared objects and dynamic libraries ** testing if installed package can be loaded from final location Warning: replacing previous import ‘Biostrings::pattern’ by ‘grid::pattern’ when loading ‘h5vc’ ** testing if installed package keeps a record of temporary installation path * DONE (h5vc)