| Back to Multiple platform build/check report for BioC 3.18: simplified long |
|
This page was generated on 2024-03-04 11:37:25 -0500 (Mon, 04 Mar 2024).
| Hostname | OS | Arch (*) | R version | Installed pkgs |
|---|---|---|---|---|
| nebbiolo2 | Linux (Ubuntu 22.04.3 LTS) | x86_64 | 4.3.2 Patched (2023-11-13 r85521) -- "Eye Holes" | 4692 |
| palomino4 | Windows Server 2022 Datacenter | x64 | 4.3.2 (2023-10-31 ucrt) -- "Eye Holes" | 4445 |
| lconway | macOS 12.7.1 Monterey | x86_64 | 4.3.2 Patched (2023-11-01 r85457) -- "Eye Holes" | 4466 |
| Click on any hostname to see more info about the system (e.g. compilers) (*) as reported by 'uname -p', except on Windows and Mac OS X | ||||
| Package 905/2266 | Hostname | OS / Arch | INSTALL | BUILD | CHECK | BUILD BIN | ||||||||
| groHMM 1.36.0 (landing page) Tulip Nandu
| nebbiolo2 | Linux (Ubuntu 22.04.3 LTS) / x86_64 | OK | OK | OK | |||||||||
| palomino4 | Windows Server 2022 Datacenter / x64 | OK | OK | OK | OK | |||||||||
| lconway | macOS 12.7.1 Monterey / x86_64 | OK | OK | OK | OK | |||||||||
| kjohnson1 | macOS 13.6.1 Ventura / arm64 | see weekly results here | ||||||||||||
|
To the developers/maintainers of the groHMM package: - Allow up to 24 hours (and sometimes 48 hours) for your latest push to git@git.bioconductor.org:packages/groHMM.git to reflect on this report. See Troubleshooting Build Report for more information. - Use the following Renviron settings to reproduce errors and warnings. - If 'R CMD check' started to fail recently on the Linux builder(s) over a missing dependency, add the missing dependency to 'Suggests:' in your DESCRIPTION file. See Renviron.bioc for more information. |
| Package: groHMM |
| Version: 1.36.0 |
| Command: /Library/Frameworks/R.framework/Resources/bin/R CMD INSTALL groHMM |
| StartedAt: 2024-03-03 15:16:13 -0500 (Sun, 03 Mar 2024) |
| EndedAt: 2024-03-03 15:17:00 -0500 (Sun, 03 Mar 2024) |
| EllapsedTime: 47.1 seconds |
| RetCode: 0 |
| Status: OK |
##############################################################################
##############################################################################
###
### Running command:
###
### /Library/Frameworks/R.framework/Resources/bin/R CMD INSTALL groHMM
###
##############################################################################
##############################################################################
* installing to library ‘/Library/Frameworks/R.framework/Versions/4.3-x86_64/Resources/library’
* installing *source* package ‘groHMM’ ...
** using staged installation
** libs
using C compiler: ‘Apple clang version 14.0.0 (clang-1400.0.29.202)’
using SDK: ‘MacOSX11.3.sdk’
clang -arch x86_64 -I"/Library/Frameworks/R.framework/Resources/include" -DNDEBUG -I/opt/R/x86_64/include -fPIC -falign-functions=64 -Wall -g -O2 -c AnnotateProbes.c -o AnnotateProbes.o
clang -arch x86_64 -I"/Library/Frameworks/R.framework/Resources/include" -DNDEBUG -I/opt/R/x86_64/include -fPIC -falign-functions=64 -Wall -g -O2 -c DecayAlgorithm.c -o DecayAlgorithm.o
clang -arch x86_64 -I"/Library/Frameworks/R.framework/Resources/include" -DNDEBUG -I/opt/R/x86_64/include -fPIC -falign-functions=64 -Wall -g -O2 -c MLEfit.c -o MLEfit.o
In file included from MLEfit.c:43:
./hmmHeader.h:281:16: warning: unused function 'MargainalizeSumLogProbOver' [-Wunused-function]
static double MargainalizeSumLogProbOver(int state, int position,
^
./hmmHeader.h:301:16: warning: unused function 'expSum' [-Wunused-function]
static double expSum(double *logValues, int length) {
^
2 warnings generated.
clang -arch x86_64 -I"/Library/Frameworks/R.framework/Resources/include" -DNDEBUG -I/opt/R/x86_64/include -fPIC -falign-functions=64 -Wall -g -O2 -c RegisterRRoutines.c -o RegisterRRoutines.o
clang -arch x86_64 -I"/Library/Frameworks/R.framework/Resources/include" -DNDEBUG -I/opt/R/x86_64/include -fPIC -falign-functions=64 -Wall -g -O2 -c Windowing.c -o Windowing.o
Windowing.c:146:6: warning: unused variable 'II' [-Wunused-variable]
int II = 0;
^
1 warning generated.
clang -arch x86_64 -I"/Library/Frameworks/R.framework/Resources/include" -DNDEBUG -I/opt/R/x86_64/include -fPIC -falign-functions=64 -Wall -g -O2 -c hmmEM.c -o hmmEM.o
In file included from hmmEM.c:50:
./hmmHeader.h:281:16: warning: unused function 'MargainalizeSumLogProbOver' [-Wunused-function]
static double MargainalizeSumLogProbOver(int state, int position,
^
./hmmHeader.h:301:16: warning: unused function 'expSum' [-Wunused-function]
static double expSum(double *logValues, int length) {
^
2 warnings generated.
clang -arch x86_64 -I"/Library/Frameworks/R.framework/Resources/include" -DNDEBUG -I/opt/R/x86_64/include -fPIC -falign-functions=64 -Wall -g -O2 -c hmmFwBw.c -o hmmFwBw.o
In file included from hmmFwBw.c:45:
./hmmHeader.h:281:16: warning: unused function 'MargainalizeSumLogProbOver' [-Wunused-function]
static double MargainalizeSumLogProbOver(int state, int position,
^
./hmmHeader.h:301:16: warning: unused function 'expSum' [-Wunused-function]
static double expSum(double *logValues, int length) {
^
2 warnings generated.
clang -arch x86_64 -I"/Library/Frameworks/R.framework/Resources/include" -DNDEBUG -I/opt/R/x86_64/include -fPIC -falign-functions=64 -Wall -g -O2 -c hmmMiscFunctions.c -o hmmMiscFunctions.o
hmmMiscFunctions.c:384:10: warning: unused variable 'wi' [-Wunused-variable]
double wi, *newEx;
^
hmmMiscFunctions.c:417:10: warning: unused variable 'epsilon' [-Wunused-variable]
double epsilon=0.00001;
^
2 warnings generated.
clang -arch x86_64 -I"/Library/Frameworks/R.framework/Resources/include" -DNDEBUG -I/opt/R/x86_64/include -fPIC -falign-functions=64 -Wall -g -O2 -c hmmViterbi.c -o hmmViterbi.o
In file included from hmmViterbi.c:48:
./hmmHeader.h:281:16: warning: unused function 'MargainalizeSumLogProbOver' [-Wunused-function]
static double MargainalizeSumLogProbOver(int state, int position,
^
./hmmHeader.h:301:16: warning: unused function 'expSum' [-Wunused-function]
static double expSum(double *logValues, int length) {
^
2 warnings generated.
clang -arch x86_64 -dynamiclib -Wl,-headerpad_max_install_names -undefined dynamic_lookup -L/Library/Frameworks/R.framework/Resources/lib -L/opt/R/x86_64/lib -o groHMM.so AnnotateProbes.o DecayAlgorithm.o MLEfit.o RegisterRRoutines.o Windowing.o hmmEM.o hmmFwBw.o hmmMiscFunctions.o hmmViterbi.o -F/Library/Frameworks/R.framework/.. -framework R -Wl,-framework -Wl,CoreFoundation
installing to /Library/Frameworks/R.framework/Versions/4.3-x86_64/Resources/library/00LOCK-groHMM/00new/groHMM/libs
** R
** inst
** byte-compile and prepare package for lazy loading
** help
*** installing help indices
** building package indices
** installing vignettes
** testing if installed package can be loaded from temporary location
** checking absolute paths in shared objects and dynamic libraries
** testing if installed package can be loaded from final location
** testing if installed package keeps a record of temporary installation path
* DONE (groHMM)