Back to Multiple platform build/check report for BioC 3.18: simplified long |
|
This page was generated on 2024-01-17 11:37:36 -0500 (Wed, 17 Jan 2024).
Hostname | OS | Arch (*) | R version | Installed pkgs |
---|---|---|---|---|
nebbiolo2 | Linux (Ubuntu 22.04.2 LTS) | x86_64 | 4.3.2 Patched (2023-11-13 r85521) -- "Eye Holes" | 4690 |
palomino4 | Windows Server 2022 Datacenter | x64 | 4.3.2 (2023-10-31 ucrt) -- "Eye Holes" | 4443 |
lconway | macOS 12.7.1 Monterey | x86_64 | 4.3.2 Patched (2023-11-01 r85457) -- "Eye Holes" | 4462 |
Click on any hostname to see more info about the system (e.g. compilers) (*) as reported by 'uname -p', except on Windows and Mac OS X |
Package 786/2266 | Hostname | OS / Arch | INSTALL | BUILD | CHECK | BUILD BIN | ||||||||
gemma.R 2.0.0 (landing page) Ogan Mancarci
| nebbiolo2 | Linux (Ubuntu 22.04.2 LTS) / x86_64 | OK | OK | OK | |||||||||
palomino4 | Windows Server 2022 Datacenter / x64 | OK | OK | OK | OK | |||||||||
lconway | macOS 12.7.1 Monterey / x86_64 | OK | OK | OK | OK | |||||||||
kjohnson1 | macOS 13.6.1 Ventura / arm64 | see weekly results here | ||||||||||||
To the developers/maintainers of the gemma.R package: - Allow up to 24 hours (and sometimes 48 hours) for your latest push to git@git.bioconductor.org:packages/gemma.R.git to reflect on this report. See Troubleshooting Build Report for more information. - Use the following Renviron settings to reproduce errors and warnings. - If 'R CMD check' started to fail recently on the Linux builder(s) over a missing dependency, add the missing dependency to 'Suggests:' in your DESCRIPTION file. See Renviron.bioc for more information. |
Package: gemma.R |
Version: 2.0.0 |
Command: /Library/Frameworks/R.framework/Resources/bin/R CMD check --install=check:gemma.R.install-out.txt --library=/Library/Frameworks/R.framework/Resources/library --no-vignettes --timings gemma.R_2.0.0.tar.gz |
StartedAt: 2024-01-16 21:28:51 -0500 (Tue, 16 Jan 2024) |
EndedAt: 2024-01-16 21:32:49 -0500 (Tue, 16 Jan 2024) |
EllapsedTime: 237.8 seconds |
RetCode: 0 |
Status: OK |
CheckDir: gemma.R.Rcheck |
Warnings: 0 |
############################################################################## ############################################################################## ### ### Running command: ### ### /Library/Frameworks/R.framework/Resources/bin/R CMD check --install=check:gemma.R.install-out.txt --library=/Library/Frameworks/R.framework/Resources/library --no-vignettes --timings gemma.R_2.0.0.tar.gz ### ############################################################################## ############################################################################## * using log directory ‘/Users/biocbuild/bbs-3.18-bioc/meat/gemma.R.Rcheck’ * using R version 4.3.2 Patched (2023-11-01 r85457) * using platform: x86_64-apple-darwin20 (64-bit) * R was compiled by Apple clang version 14.0.3 (clang-1403.0.22.14.1) GNU Fortran (GCC) 12.2.0 * running under: macOS Monterey 12.7.1 * using session charset: UTF-8 * using option ‘--no-vignettes’ * checking for file ‘gemma.R/DESCRIPTION’ ... OK * this is package ‘gemma.R’ version ‘2.0.0’ * package encoding: UTF-8 * checking package namespace information ... OK * checking package dependencies ... OK * checking if this is a source package ... OK * checking if there is a namespace ... OK * checking for hidden files and directories ... OK * checking for portable file names ... OK * checking for sufficient/correct file permissions ... OK * checking whether package ‘gemma.R’ can be installed ... OK * checking installed package size ... OK * checking package directory ... OK * checking ‘build’ directory ... OK * checking DESCRIPTION meta-information ... NOTE Package listed in more than one of Depends, Imports, Suggests, Enhances: ‘digest’ A package should be listed in only one of these fields. * checking top-level files ... OK * checking for left-over files ... OK * checking index information ... OK * checking package subdirectories ... OK * checking R files for non-ASCII characters ... OK * checking R files for syntax errors ... OK * checking whether the package can be loaded ... OK * checking whether the package can be loaded with stated dependencies ... OK * checking whether the package can be unloaded cleanly ... OK * checking whether the namespace can be loaded with stated dependencies ... OK * checking whether the namespace can be unloaded cleanly ... OK * checking dependencies in R code ... OK * checking S3 generic/method consistency ... OK * checking replacement functions ... OK * checking foreign function calls ... OK * checking R code for possible problems ... OK * checking Rd files ... OK * checking Rd metadata ... OK * checking Rd cross-references ... OK * checking for missing documentation entries ... OK * checking for code/documentation mismatches ... OK * checking Rd \usage sections ... OK * checking Rd contents ... OK * checking for unstated dependencies in examples ... OK * checking files in ‘vignettes’ ... OK * checking examples ... OK Examples with CPU (user + system) or elapsed time > 5s user system elapsed get_dataset_object 8.539 0.478 15.048 get_dataset_processed_expression 0.937 0.107 6.358 get_dataset_differential_expression_analyses 0.752 0.120 11.001 get_dataset_expression 0.591 0.135 9.002 get_dataset_raw_expression 0.419 0.082 5.338 gemma_call 0.227 0.022 7.717 get_datasets 0.177 0.023 8.808 * checking for unstated dependencies in ‘tests’ ... OK * checking tests ... Running ‘testthat.R’ OK * checking for unstated dependencies in vignettes ... OK * checking package vignettes in ‘inst/doc’ ... OK * checking running R code from vignettes ... SKIPPED * checking re-building of vignette outputs ... SKIPPED * checking PDF version of manual ... OK * DONE Status: 1 NOTE See ‘/Users/biocbuild/bbs-3.18-bioc/meat/gemma.R.Rcheck/00check.log’ for details.
gemma.R.Rcheck/00install.out
############################################################################## ############################################################################## ### ### Running command: ### ### /Library/Frameworks/R.framework/Resources/bin/R CMD INSTALL gemma.R ### ############################################################################## ############################################################################## * installing to library ‘/Library/Frameworks/R.framework/Versions/4.3-x86_64/Resources/library’ * installing *source* package ‘gemma.R’ ... ** using staged installation ** R ** inst ** byte-compile and prepare package for lazy loading ** help *** installing help indices *** copying figures ** building package indices ** installing vignettes ** testing if installed package can be loaded from temporary location ** testing if installed package can be loaded from final location ** testing if installed package keeps a record of temporary installation path * DONE (gemma.R)
gemma.R.Rcheck/tests/testthat.Rout
R version 4.3.2 Patched (2023-11-01 r85457) -- "Eye Holes" Copyright (C) 2023 The R Foundation for Statistical Computing Platform: x86_64-apple-darwin20 (64-bit) R is free software and comes with ABSOLUTELY NO WARRANTY. You are welcome to redistribute it under certain conditions. Type 'license()' or 'licence()' for distribution details. R is a collaborative project with many contributors. Type 'contributors()' for more information and 'citation()' on how to cite R or R packages in publications. Type 'demo()' for some demos, 'help()' for on-line help, or 'help.start()' for an HTML browser interface to help. Type 'q()' to quit R. > library(testthat) > library(dplyr) Attaching package: 'dplyr' The following object is masked from 'package:testthat': matches The following objects are masked from 'package:stats': filter, lag The following objects are masked from 'package:base': intersect, setdiff, setequal, union > > # Prevent certificate issues for GitHub actions > options(gemma.SSL = FALSE) > # get gemma api path if it's set in the environment > options(gemma.API = Sys.getenv('API_PATH','https://gemma.msl.ubc.ca/rest/v2/')) > print(gemma.R:::gemmaPath()) [1] "https://gemma.msl.ubc.ca/rest/v2/" > test_check("gemma.R") Loading required package: gemma.R [ FAIL 0 | WARN 0 | SKIP 4 | PASS 111 ] ══ Skipped tests (4) ═══════════════════════════════════════════════════════════ • On Bioconductor (4): 'testCaches.R:37:3', 'testConvenience.R:14:5', 'testConvenience.R:36:5', 'testDatasetEndpoints.R:84:5' [ FAIL 0 | WARN 0 | SKIP 4 | PASS 111 ] > > > > proc.time() user system elapsed 26.375 2.296 102.788
gemma.R.Rcheck/gemma.R-Ex.timings
name | user | system | elapsed | |
filter_properties | 0.064 | 0.007 | 0.072 | |
forget_gemma_memoised | 0.018 | 0.015 | 0.044 | |
gemma_call | 0.227 | 0.022 | 7.717 | |
get_dataset_annotations | 0.084 | 0.017 | 0.189 | |
get_dataset_design | 0.306 | 0.025 | 0.485 | |
get_dataset_differential_expression_analyses | 0.752 | 0.120 | 11.001 | |
get_dataset_expression | 0.591 | 0.135 | 9.002 | |
get_dataset_expression_for_genes | 0.019 | 0.001 | 0.120 | |
get_dataset_object | 8.539 | 0.478 | 15.048 | |
get_dataset_platforms | 0.011 | 0.002 | 0.500 | |
get_dataset_processed_expression | 0.937 | 0.107 | 6.358 | |
get_dataset_quantitation_types | 0.009 | 0.001 | 0.260 | |
get_dataset_raw_expression | 0.419 | 0.082 | 5.338 | |
get_dataset_samples | 0.142 | 0.020 | 0.350 | |
get_datasets | 0.177 | 0.023 | 8.808 | |
get_datasets_by_ids | 0.044 | 0.006 | 0.222 | |
get_differential_expression_values | 0.007 | 0.001 | 0.094 | |
get_gene_go_terms | 0.022 | 0.002 | 0.196 | |
get_gene_locations | 0.010 | 0.002 | 0.143 | |
get_gene_probes | 0.028 | 0.005 | 0.132 | |
get_genes | 0.022 | 0.003 | 0.191 | |
get_platform_annotations | 0.783 | 0.076 | 3.000 | |
get_platform_datasets | 0.040 | 0.006 | 0.319 | |
get_platform_element_genes | 0.013 | 0.002 | 0.105 | |
get_platforms_by_ids | 0.026 | 0.004 | 0.210 | |
get_taxa | 0.011 | 0.001 | 0.095 | |
get_taxa_by_ids | 0.009 | 0.001 | 0.092 | |
get_taxon_datasets | 0.044 | 0.009 | 0.326 | |
make_design | 0.414 | 0.033 | 0.791 | |
search_annotations | 0.012 | 0.002 | 4.127 | |
search_datasets | 0.042 | 0.005 | 1.510 | |
search_gemma | 0.039 | 0.004 | 0.262 | |