| Back to Multiple platform build/check report for BioC 3.18: simplified long |
|
This page was generated on 2023-11-02 11:40:43 -0400 (Thu, 02 Nov 2023).
| Hostname | OS | Arch (*) | R version | Installed pkgs |
|---|---|---|---|---|
| nebbiolo2 | Linux (Ubuntu 22.04.2 LTS) | x86_64 | 4.3.1 (2023-06-16) -- "Beagle Scouts" | 4729 |
| palomino4 | Windows Server 2022 Datacenter | x64 | 4.3.1 (2023-06-16 ucrt) -- "Beagle Scouts" | 4463 |
| lconway | macOS 12.6.5 Monterey | x86_64 | 4.3.1 Patched (2023-06-17 r84564) -- "Beagle Scouts" | 4478 |
| kunpeng2 | Linux (openEuler 22.03 LTS-SP1) | aarch64 | 4.3.1 (2023-06-16) -- "Beagle Scouts" | 4464 |
| Click on any hostname to see more info about the system (e.g. compilers) (*) as reported by 'uname -p', except on Windows and Mac OS X | ||||
| Package 785/2266 | Hostname | OS / Arch | INSTALL | BUILD | CHECK | BUILD BIN | ||||||||
| gemini 1.16.0 (landing page) Sidharth Jain
| nebbiolo2 | Linux (Ubuntu 22.04.2 LTS) / x86_64 | OK | OK | OK | |||||||||
| palomino4 | Windows Server 2022 Datacenter / x64 | OK | OK | OK | OK | |||||||||
| lconway | macOS 12.6.5 Monterey / x86_64 | OK | OK | OK | OK | |||||||||
| kjohnson1 | macOS 13.6.1 Ventura / arm64 | see weekly results here | ||||||||||||
| kunpeng2 | Linux (openEuler 22.03 LTS-SP1) / aarch64 | OK | OK | OK | ||||||||||
|
To the developers/maintainers of the gemini package: - Allow up to 24 hours (and sometimes 48 hours) for your latest push to git@git.bioconductor.org:packages/gemini.git to reflect on this report. See Troubleshooting Build Report for more information. - Use the following Renviron settings to reproduce errors and warnings. - If 'R CMD check' started to fail recently on the Linux builder(s) over a missing dependency, add the missing dependency to 'Suggests:' in your DESCRIPTION file. See Renviron.bioc for more information. - See Martin Grigorov's blog post for how to debug Linux ARM64 related issues on a x86_64 host. |
| Package: gemini |
| Version: 1.16.0 |
| Command: /home/biocbuild/R/R-4.3.1/bin/R CMD check --install=check:gemini.install-out.txt --library=/home/biocbuild/R/R-4.3.1/site-library --no-vignettes --timings gemini_1.16.0.tar.gz |
| StartedAt: 2023-11-02 10:44:13 -0000 (Thu, 02 Nov 2023) |
| EndedAt: 2023-11-02 10:47:30 -0000 (Thu, 02 Nov 2023) |
| EllapsedTime: 197.2 seconds |
| RetCode: 0 |
| Status: OK |
| CheckDir: gemini.Rcheck |
| Warnings: 0 |
##############################################################################
##############################################################################
###
### Running command:
###
### /home/biocbuild/R/R-4.3.1/bin/R CMD check --install=check:gemini.install-out.txt --library=/home/biocbuild/R/R-4.3.1/site-library --no-vignettes --timings gemini_1.16.0.tar.gz
###
##############################################################################
##############################################################################
* using log directory ‘/home/biocbuild/bbs-3.18-bioc/meat/gemini.Rcheck’
* using R version 4.3.1 (2023-06-16)
* using platform: aarch64-unknown-linux-gnu (64-bit)
* R was compiled by
gcc (GCC) 10.3.1
GNU Fortran (GCC) 10.3.1
* running under: openEuler 22.03 (LTS-SP1)
* using session charset: UTF-8
* using option ‘--no-vignettes’
* checking for file ‘gemini/DESCRIPTION’ ... OK
* checking extension type ... Package
* this is package ‘gemini’ version ‘1.16.0’
* package encoding: UTF-8
* checking package namespace information ... OK
* checking package dependencies ... OK
* checking if this is a source package ... OK
* checking if there is a namespace ... OK
* checking for hidden files and directories ... OK
* checking for portable file names ... OK
* checking for sufficient/correct file permissions ... OK
* checking whether package ‘gemini’ can be installed ... OK
* checking installed package size ... OK
* checking package directory ... OK
* checking ‘build’ directory ... OK
* checking DESCRIPTION meta-information ... OK
* checking top-level files ... OK
* checking for left-over files ... OK
* checking index information ... OK
* checking package subdirectories ... OK
* checking R files for non-ASCII characters ... OK
* checking R files for syntax errors ... OK
* checking whether the package can be loaded ... OK
* checking whether the package can be loaded with stated dependencies ... OK
* checking whether the package can be unloaded cleanly ... OK
* checking whether the namespace can be loaded with stated dependencies ... OK
* checking whether the namespace can be unloaded cleanly ... OK
* checking loading without being on the library search path ... OK
* checking dependencies in R code ... OK
* checking S3 generic/method consistency ... OK
* checking replacement functions ... OK
* checking foreign function calls ... OK
* checking R code for possible problems ... NOTE
gemini_boxplot : <anonymous>: no visible binding for global variable
‘.’
gemini_boxplot: no visible binding for global variable ‘.’
gemini_boxplot : <anonymous>: no visible binding for global variable
‘gi’
gemini_boxplot : <anonymous>: no visible binding for global variable
‘hj’
gemini_boxplot: no visible binding for global variable ‘label’
gemini_boxplot: no visible binding for global variable ‘y’
gemini_calculate_lfc: no visible binding for global variable ‘.’
update_s_pb: no visible binding for global variable ‘.’
update_tau_pb: no visible binding for global variable ‘.’
Undefined global functions or variables:
. gi hj label y
* checking Rd files ... OK
* checking Rd metadata ... OK
* checking Rd cross-references ... OK
* checking for missing documentation entries ... OK
* checking for code/documentation mismatches ... OK
* checking Rd \usage sections ... OK
* checking Rd contents ... OK
* checking for unstated dependencies in examples ... OK
* checking contents of ‘data’ directory ... OK
* checking data for non-ASCII characters ... OK
* checking data for ASCII and uncompressed saves ... OK
* checking files in ‘vignettes’ ... OK
* checking examples ... OK
Examples with CPU (user + system) or elapsed time > 5s
user system elapsed
gemini_inference 35.426 1.023 37.470
update_tau_pb 16.093 0.040 16.164
update_x_pb 13.634 0.036 13.700
gemini_initialize 6.786 0.021 6.827
* checking for unstated dependencies in ‘tests’ ... OK
* checking tests ...
Running ‘testthat.R’
OK
* checking for unstated dependencies in vignettes ... OK
* checking package vignettes in ‘inst/doc’ ... OK
* checking running R code from vignettes ... SKIPPED
* checking re-building of vignette outputs ... SKIPPED
* checking PDF version of manual ... OK
* DONE
Status: 1 NOTE
See
‘/home/biocbuild/bbs-3.18-bioc/meat/gemini.Rcheck/00check.log’
for details.
gemini.Rcheck/00install.out
############################################################################## ############################################################################## ### ### Running command: ### ### /home/biocbuild/R/R-4.3.1/bin/R CMD INSTALL gemini ### ############################################################################## ############################################################################## * installing to library ‘/home/biocbuild/R/R-4.3.1/site-library’ * installing *source* package ‘gemini’ ... ** using staged installation ** R ** data ** inst ** byte-compile and prepare package for lazy loading ** help *** installing help indices ** building package indices ** installing vignettes ** testing if installed package can be loaded from temporary location ** testing if installed package can be loaded from final location ** testing if installed package keeps a record of temporary installation path * DONE (gemini)
gemini.Rcheck/tests/testthat.Rout
R version 4.3.1 (2023-06-16) -- "Beagle Scouts"
Copyright (C) 2023 The R Foundation for Statistical Computing
Platform: aarch64-unknown-linux-gnu (64-bit)
R is free software and comes with ABSOLUTELY NO WARRANTY.
You are welcome to redistribute it under certain conditions.
Type 'license()' or 'licence()' for distribution details.
R is a collaborative project with many contributors.
Type 'contributors()' for more information and
'citation()' on how to cite R or R packages in publications.
Type 'demo()' for some demos, 'help()' for on-line help, or
'help.start()' for an HTML browser interface to help.
Type 'q()' to quit R.
> library(testthat)
> library(gemini)
>
> test_check("gemini")
[ FAIL 0 | WARN 3 | SKIP 0 | PASS 7 ]
[ FAIL 0 | WARN 3 | SKIP 0 | PASS 7 ]
>
> proc.time()
user system elapsed
8.636 0.237 8.904
gemini.Rcheck/gemini-Ex.timings
| name | user | system | elapsed | |
| Sgene2Pguides_hash | 0 | 0 | 0 | |
| Sguide2Pguides_hash | 0 | 0 | 0 | |
| compound | 0 | 0 | 0 | |
| dot-median_normalize | 0 | 0 | 0 | |
| gemini_boxplot | 2.790 | 0.243 | 3.049 | |
| gemini_calculate_lfc | 0.426 | 0.012 | 0.438 | |
| gemini_create_input | 0.360 | 0.008 | 0.369 | |
| gemini_inference | 35.426 | 1.023 | 37.470 | |
| gemini_initialize | 6.786 | 0.021 | 6.827 | |
| gemini_plot_mae | 0.803 | 0.000 | 0.806 | |
| gemini_prepare_input | 0.406 | 0.000 | 0.407 | |
| gemini_score | 0.793 | 0.008 | 0.803 | |
| initialize_s | 1.549 | 0.004 | 1.556 | |
| initialize_tau | 2.463 | 0.048 | 2.515 | |
| initialize_x | 3.702 | 0.044 | 3.753 | |
| initialize_y | 0.705 | 0.008 | 0.714 | |
| pipe | 0 | 0 | 0 | |
| update_mae | 1.308 | 0.035 | 1.347 | |
| update_s_pb | 2.756 | 0.016 | 2.778 | |
| update_tau_pb | 16.093 | 0.040 | 16.164 | |
| update_x_pb | 13.634 | 0.036 | 13.700 | |
| update_y_pb | 3.887 | 0.012 | 3.908 | |