| Back to Multiple platform build/check report for BioC 3.18: simplified long | 
 | 
This page was generated on 2023-11-02 11:40:42 -0400 (Thu, 02 Nov 2023).
| Hostname | OS | Arch (*) | R version | Installed pkgs | 
|---|---|---|---|---|
| nebbiolo2 | Linux (Ubuntu 22.04.2 LTS) | x86_64 | 4.3.1 (2023-06-16) -- "Beagle Scouts" | 4729 | 
| palomino4 | Windows Server 2022 Datacenter | x64 | 4.3.1 (2023-06-16 ucrt) -- "Beagle Scouts" | 4463 | 
| lconway | macOS 12.6.5 Monterey | x86_64 | 4.3.1 Patched (2023-06-17 r84564) -- "Beagle Scouts" | 4478 | 
| kunpeng2 | Linux (openEuler 22.03 LTS-SP1) | aarch64 | 4.3.1 (2023-06-16) -- "Beagle Scouts" | 4464 | 
| Click on any hostname to see more info about the system (e.g. compilers) (*) as reported by 'uname -p', except on Windows and Mac OS X | ||||
| Package 763/2266 | Hostname | OS / Arch | INSTALL | BUILD | CHECK | BUILD BIN | ||||||||
| Christopher Bare 
 | nebbiolo2 | Linux (Ubuntu 22.04.2 LTS) / x86_64 | OK | OK | WARNINGS |  | ||||||||
| palomino4 | Windows Server 2022 Datacenter / x64 | OK | OK | WARNINGS | OK |  | ||||||||
| lconway | macOS 12.6.5 Monterey / x86_64 | OK | OK | WARNINGS | OK |  | ||||||||
| kjohnson1 | macOS 13.6.1 Ventura / arm64 | see weekly results here | ||||||||||||
| kunpeng2 | Linux (openEuler 22.03 LTS-SP1) / aarch64 | OK | OK | WARNINGS | ||||||||||
| To the developers/maintainers of the gaggle package: - Allow up to 24 hours (and sometimes 48 hours) for your latest push to git@git.bioconductor.org:packages/gaggle.git to reflect on this report. See Troubleshooting Build Report for more information. - Use the following Renviron settings to reproduce errors and warnings. - If 'R CMD check' started to fail recently on the Linux builder(s) over a missing dependency, add the missing dependency to 'Suggests:' in your DESCRIPTION file. See Renviron.bioc for more information. - See Martin Grigorov's blog post for how to debug Linux ARM64 related issues on a x86_64 host. | 
| Package: gaggle | 
| Version: 1.70.0 | 
| Command: /home/biocbuild/R/R-4.3.1/bin/R CMD INSTALL gaggle | 
| StartedAt: 2023-11-01 20:06:46 -0000 (Wed, 01 Nov 2023) | 
| EndedAt: 2023-11-01 20:06:57 -0000 (Wed, 01 Nov 2023) | 
| EllapsedTime: 10.1 seconds | 
| RetCode: 0 | 
| Status: OK | 
##############################################################################
##############################################################################
###
### Running command:
###
###   /home/biocbuild/R/R-4.3.1/bin/R CMD INSTALL gaggle
###
##############################################################################
##############################################################################
* installing to library ‘/home/biocbuild/R/R-4.3.1/site-library’
* installing *source* package ‘gaggle’ ...
** using staged installation
** R
** inst
** byte-compile and prepare package for lazy loading
** help
*** installing help indices
** building package indices
** installing vignettes
** testing if installed package can be loaded from temporary location
onLoad -- libname: /home/biocbuild/R/R-4.3.1/site-library/00LOCK-gaggle/00new pkgname: gaggle 
path to jar: /home/biocbuild/R/R-4.3.1/site-library/00LOCK-gaggle/00new/gaggle/jars/gaggleRShell.jar 
      script:  gaggle.R $Revision: 4499 $   $Date: 2010-08-10 17:15:03 -0700 (Tue, 10 Aug 2010) $ 
  os version:  Linux 
 jvm version:  17.0.7 
   You are using the wrong version of Java.
   Please see http://gaggle.systemsbiology.org/docs/html/java
Warning: Package 'gaggle' is deprecated and will be removed from Bioconductor
  version 3.19
** testing if installed package can be loaded from final location
onLoad -- libname: /home/biocbuild/R/R-4.3.1/site-library pkgname: gaggle 
path to jar: /home/biocbuild/R/R-4.3.1/site-library/gaggle/jars/gaggleRShell.jar 
      script:  gaggle.R $Revision: 4499 $   $Date: 2010-08-10 17:15:03 -0700 (Tue, 10 Aug 2010) $ 
  os version:  Linux 
 jvm version:  17.0.7 
   You are using the wrong version of Java.
   Please see http://gaggle.systemsbiology.org/docs/html/java
Warning: Package 'gaggle' is deprecated and will be removed from Bioconductor
  version 3.19
** testing if installed package keeps a record of temporary installation path
* DONE (gaggle)