| Back to Multiple platform build/check report for BioC 3.18: simplified long |
|
This page was generated on 2024-04-17 11:35:58 -0400 (Wed, 17 Apr 2024).
| Hostname | OS | Arch (*) | R version | Installed pkgs |
|---|---|---|---|---|
| nebbiolo2 | Linux (Ubuntu 22.04.3 LTS) | x86_64 | 4.3.3 (2024-02-29) -- "Angel Food Cake" | 4676 |
| palomino4 | Windows Server 2022 Datacenter | x64 | 4.3.3 (2024-02-29 ucrt) -- "Angel Food Cake" | 4414 |
| merida1 | macOS 12.7.1 Monterey | x86_64 | 4.3.3 (2024-02-29) -- "Angel Food Cake" | 4437 |
| Click on any hostname to see more info about the system (e.g. compilers) (*) as reported by 'uname -p', except on Windows and Mac OS X | ||||
| Package 779/2266 | Hostname | OS / Arch | INSTALL | BUILD | CHECK | BUILD BIN | ||||||||
| gDRimport 1.0.0 (landing page) Arkadiusz Gladki
| nebbiolo2 | Linux (Ubuntu 22.04.3 LTS) / x86_64 | OK | OK | OK | |||||||||
| palomino4 | Windows Server 2022 Datacenter / x64 | OK | OK | OK | OK | |||||||||
| merida1 | macOS 12.7.1 Monterey / x86_64 | OK | OK | OK | OK | |||||||||
| kjohnson1 | macOS 13.6.1 Ventura / arm64 | see weekly results here | ||||||||||||
|
To the developers/maintainers of the gDRimport package: - Allow up to 24 hours (and sometimes 48 hours) for your latest push to git@git.bioconductor.org:packages/gDRimport.git to reflect on this report. See Troubleshooting Build Report for more information. - Use the following Renviron settings to reproduce errors and warnings. - If 'R CMD check' started to fail recently on the Linux builder(s) over a missing dependency, add the missing dependency to 'Suggests:' in your DESCRIPTION file. See Renviron.bioc for more information. |
| Package: gDRimport |
| Version: 1.0.0 |
| Command: /home/biocbuild/bbs-3.18-bioc/R/bin/R CMD check --install=check:gDRimport.install-out.txt --library=/home/biocbuild/bbs-3.18-bioc/R/site-library --timings gDRimport_1.0.0.tar.gz |
| StartedAt: 2024-04-15 22:59:12 -0400 (Mon, 15 Apr 2024) |
| EndedAt: 2024-04-15 23:03:11 -0400 (Mon, 15 Apr 2024) |
| EllapsedTime: 239.5 seconds |
| RetCode: 0 |
| Status: OK |
| CheckDir: gDRimport.Rcheck |
| Warnings: 0 |
##############################################################################
##############################################################################
###
### Running command:
###
### /home/biocbuild/bbs-3.18-bioc/R/bin/R CMD check --install=check:gDRimport.install-out.txt --library=/home/biocbuild/bbs-3.18-bioc/R/site-library --timings gDRimport_1.0.0.tar.gz
###
##############################################################################
##############################################################################
* using log directory ‘/home/biocbuild/bbs-3.18-bioc/meat/gDRimport.Rcheck’
* using R version 4.3.3 (2024-02-29)
* using platform: x86_64-pc-linux-gnu (64-bit)
* R was compiled by
gcc (Ubuntu 11.4.0-1ubuntu1~22.04) 11.4.0
GNU Fortran (Ubuntu 11.4.0-1ubuntu1~22.04) 11.4.0
* running under: Ubuntu 22.04.4 LTS
* using session charset: UTF-8
* checking for file ‘gDRimport/DESCRIPTION’ ... OK
* checking extension type ... Package
* this is package ‘gDRimport’ version ‘1.0.0’
* package encoding: UTF-8
* checking package namespace information ... OK
* checking package dependencies ... OK
* checking if this is a source package ... OK
* checking if there is a namespace ... OK
* checking for hidden files and directories ... OK
* checking for portable file names ... OK
* checking for sufficient/correct file permissions ... OK
* checking whether package ‘gDRimport’ can be installed ... OK
* checking installed package size ... OK
* checking package directory ... OK
* checking ‘build’ directory ... OK
* checking DESCRIPTION meta-information ... OK
* checking top-level files ... OK
* checking for left-over files ... OK
* checking index information ... OK
* checking package subdirectories ... OK
* checking R files for non-ASCII characters ... OK
* checking R files for syntax errors ... OK
* checking whether the package can be loaded ... OK
* checking whether the package can be loaded with stated dependencies ... OK
* checking whether the package can be unloaded cleanly ... OK
* checking whether the namespace can be loaded with stated dependencies ... OK
* checking whether the namespace can be unloaded cleanly ... OK
* checking loading without being on the library search path ... OK
* checking dependencies in R code ... OK
* checking S3 generic/method consistency ... OK
* checking replacement functions ... OK
* checking foreign function calls ... OK
* checking R code for possible problems ... OK
* checking Rd files ... OK
* checking Rd metadata ... OK
* checking Rd cross-references ... OK
* checking for missing documentation entries ... OK
* checking for code/documentation mismatches ... OK
* checking Rd \usage sections ... OK
* checking Rd contents ... OK
* checking for unstated dependencies in examples ... OK
* checking files in ‘vignettes’ ... OK
* checking examples ... OK
* checking for unstated dependencies in ‘tests’ ... OK
* checking tests ...
Running ‘testthat.R’
OK
* checking for unstated dependencies in vignettes ... OK
* checking package vignettes in ‘inst/doc’ ... OK
* checking running R code from vignettes ...
‘ConvertingMAEtoPharmacoSet.Rmd’ using ‘UTF-8’... OK
‘ConvertingPharmacoSetToGDR.Rmd’ using ‘UTF-8’... OK
‘gDRimport.Rmd’ using ‘UTF-8’... OK
OK
* checking re-building of vignette outputs ... OK
* checking PDF version of manual ... OK
* DONE
Status: OK
gDRimport.Rcheck/00install.out
############################################################################## ############################################################################## ### ### Running command: ### ### /home/biocbuild/bbs-3.18-bioc/R/bin/R CMD INSTALL gDRimport ### ############################################################################## ############################################################################## * installing to library ‘/home/biocbuild/bbs-3.18-bioc/R/site-library’ * installing *source* package ‘gDRimport’ ... ** using staged installation ** R ** inst ** byte-compile and prepare package for lazy loading ** help *** installing help indices ** building package indices ** installing vignettes ** testing if installed package can be loaded from temporary location ** testing if installed package can be loaded from final location ** testing if installed package keeps a record of temporary installation path * DONE (gDRimport)
gDRimport.Rcheck/tests/testthat.Rout
R version 4.3.3 (2024-02-29) -- "Angel Food Cake"
Copyright (C) 2024 The R Foundation for Statistical Computing
Platform: x86_64-pc-linux-gnu (64-bit)
R is free software and comes with ABSOLUTELY NO WARRANTY.
You are welcome to redistribute it under certain conditions.
Type 'license()' or 'licence()' for distribution details.
R is a collaborative project with many contributors.
Type 'contributors()' for more information and
'citation()' on how to cite R or R packages in publications.
Type 'demo()' for some demos, 'help()' for on-line help, or
'help.start()' for an HTML browser interface to help.
Type 'q()' to quit R.
> library(testthat)
> library(gDRimport)
>
> test_check("gDRimport")
INFO [2024-04-15 23:01:43] Manifest loaded successfully
INFO [2024-04-15 23:01:43] Manifest loaded successfully
INFO [2024-04-15 23:01:43] Reading file /home/biocbuild/bbs-3.18-bioc/R/site-library/gDRimport/extdata/data1/RawData_day0.xlsx, sheet Readout_0077vs0068_day7
INFO [2024-04-15 23:01:43] Plate 201904190a read; 384 wells
INFO [2024-04-15 23:01:43] Plate 201904190b read; 384 wells
INFO [2024-04-15 23:01:43] Plate 201904190c read; 384 wells
INFO [2024-04-15 23:01:43] Plate 201904190d read; 384 wells
INFO [2024-04-15 23:01:43] Plate 201904190e read; 384 wells
INFO [2024-04-15 23:01:43] Plate 201904190f read; 384 wells
INFO [2024-04-15 23:01:43] File done
INFO [2024-04-15 23:01:43] Reading file /home/biocbuild/bbs-3.18-bioc/R/site-library/gDRimport/extdata/data1/RawData_day7.xlsx, sheet Readout_0077vs0068_day7
INFO [2024-04-15 23:01:44] Plate 201904197a read; 384 wells
INFO [2024-04-15 23:01:44] Plate 201904197b read; 384 wells
INFO [2024-04-15 23:01:44] Plate 201904197c read; 384 wells
INFO [2024-04-15 23:01:44] Plate 201904197d read; 384 wells
INFO [2024-04-15 23:01:44] Plate 201904197e read; 384 wells
INFO [2024-04-15 23:01:44] Plate 201904197f read; 384 wells
INFO [2024-04-15 23:01:44] File done
INFO [2024-04-15 23:01:44] Reading file /home/biocbuild/bbs-3.18-bioc/R/site-library/gDRimport/extdata/data1/RawData_day0.xlsx, sheet Readout_0077vs0068_day7
INFO [2024-04-15 23:01:44] Plate 201904190a read; 384 wells
INFO [2024-04-15 23:01:44] Plate 201904190b read; 384 wells
INFO [2024-04-15 23:01:44] Plate 201904190c read; 384 wells
INFO [2024-04-15 23:01:44] Plate 201904190d read; 384 wells
INFO [2024-04-15 23:01:44] Plate 201904190e read; 384 wells
INFO [2024-04-15 23:01:44] Plate 201904190f read; 384 wells
INFO [2024-04-15 23:01:44] File done
INFO [2024-04-15 23:01:44] Reading file /home/biocbuild/bbs-3.18-bioc/R/site-library/gDRimport/extdata/data1/RawData_day7.xlsx, sheet Readout_0077vs0068_day7
INFO [2024-04-15 23:01:44] Plate 201904197a read; 384 wells
INFO [2024-04-15 23:01:44] Plate 201904197b read; 384 wells
INFO [2024-04-15 23:01:44] Plate 201904197c read; 384 wells
INFO [2024-04-15 23:01:44] Plate 201904197d read; 384 wells
INFO [2024-04-15 23:01:44] Plate 201904197e read; 384 wells
INFO [2024-04-15 23:01:44] Plate 201904197f read; 384 wells
INFO [2024-04-15 23:01:44] File done
INFO [2024-04-15 23:01:44] Reading file /home/biocbuild/bbs-3.18-bioc/R/site-library/gDRimport/extdata/data1/RawData_day0.xlsx, sheet Readout_0077vs0068_day7
INFO [2024-04-15 23:01:45] Plate 201904190a read; 384 wells
INFO [2024-04-15 23:01:45] Plate 201904190b read; 384 wells
INFO [2024-04-15 23:01:45] Plate 201904190c read; 384 wells
INFO [2024-04-15 23:01:45] Plate 201904190d read; 384 wells
INFO [2024-04-15 23:01:45] Plate 201904190e read; 384 wells
INFO [2024-04-15 23:01:45] Plate 201904190f read; 384 wells
INFO [2024-04-15 23:01:45] File done
INFO [2024-04-15 23:01:45] Reading file /home/biocbuild/bbs-3.18-bioc/R/site-library/gDRimport/extdata/data2/RawData_Tecan_96_well_plates.xlsx, sheet H2122-2
INFO [2024-04-15 23:01:45] Reading file /home/biocbuild/bbs-3.18-bioc/R/site-library/gDRimport/extdata/data2/RawData_Tecan_96_well_plates.xlsx, sheet H358-2
INFO [2024-04-15 23:01:45] Reading file /home/biocbuild/bbs-3.18-bioc/R/site-library/gDRimport/extdata/data2/RawData_Tecan_96_well_plates.xlsx, sheet H358-1
INFO [2024-04-15 23:01:45] Reading file /home/biocbuild/bbs-3.18-bioc/R/site-library/gDRimport/extdata/data2/RawData_Tecan_96_well_plates.xlsx, sheet H2122-1
INFO [2024-04-15 23:01:45] Reading Template_7daytreated.xlsx with load_templates_xlsx
INFO [2024-04-15 23:01:46] Loading Template_7daytreated.xlsx
INFO [2024-04-15 23:01:46] Loading Template_Untreated.xlsx
INFO [2024-04-15 23:01:46] Templates loaded successfully!
INFO [2024-04-15 23:01:46] Reading Template_7daytreated.xlsx with load_templates_xlsx
INFO [2024-04-15 23:01:46] Loading Template_7daytreated.xlsx
INFO [2024-04-15 23:01:46] Loading Template_Untreated.xlsx
INFO [2024-04-15 23:01:46] Templates loaded successfully!
INFO [2024-04-15 23:01:46] Reading D300_trt_Tecan_96_well_plates.xlsx with load_templates_xlsx
INFO [2024-04-15 23:01:46] Loading D300_trt_Tecan_96_well_plates.xlsx
INFO [2024-04-15 23:01:46] Templates loaded successfully!
INFO [2024-04-15 23:01:46] Reading Template_7daytreated.xlsx with load_templates_xlsx
INFO [2024-04-15 23:01:46] Loading Template_7daytreated.xlsx
INFO [2024-04-15 23:01:46] Templates loaded successfully!
INFO [2024-04-15 23:01:46] Manifest loaded successfully
INFO [2024-04-15 23:01:46] Reading Template_7daytreated.xlsx with load_templates_xlsx
INFO [2024-04-15 23:01:46] Loading Template_7daytreated.xlsx
INFO [2024-04-15 23:01:46] Loading Template_Untreated.xlsx
INFO [2024-04-15 23:01:46] Templates loaded successfully!
INFO [2024-04-15 23:01:46] Reading file /home/biocbuild/bbs-3.18-bioc/R/site-library/gDRimport/extdata/data1/RawData_day0.xlsx, sheet Readout_0077vs0068_day7
INFO [2024-04-15 23:01:47] Plate 201904190a read; 384 wells
INFO [2024-04-15 23:01:47] Plate 201904190b read; 384 wells
INFO [2024-04-15 23:01:47] Plate 201904190c read; 384 wells
INFO [2024-04-15 23:01:47] Plate 201904190d read; 384 wells
INFO [2024-04-15 23:01:47] Plate 201904190e read; 384 wells
INFO [2024-04-15 23:01:47] Plate 201904190f read; 384 wells
INFO [2024-04-15 23:01:47] File done
INFO [2024-04-15 23:01:47] Reading file /home/biocbuild/bbs-3.18-bioc/R/site-library/gDRimport/extdata/data1/RawData_day7.xlsx, sheet Readout_0077vs0068_day7
INFO [2024-04-15 23:01:47] Plate 201904197a read; 384 wells
INFO [2024-04-15 23:01:47] Plate 201904197b read; 384 wells
INFO [2024-04-15 23:01:47] Plate 201904197c read; 384 wells
INFO [2024-04-15 23:01:47] Plate 201904197d read; 384 wells
INFO [2024-04-15 23:01:47] Plate 201904197e read; 384 wells
INFO [2024-04-15 23:01:47] Plate 201904197f read; 384 wells
INFO [2024-04-15 23:01:47] File done
INFO [2024-04-15 23:01:47] Manifest loaded successfully
INFO [2024-04-15 23:01:47] Reading D300_trt_Tecan_96_well_plates.xlsx with load_templates_xlsx
INFO [2024-04-15 23:01:47] Loading D300_trt_Tecan_96_well_plates.xlsx
INFO [2024-04-15 23:01:47] Templates loaded successfully!
INFO [2024-04-15 23:01:47] Reading file /home/biocbuild/bbs-3.18-bioc/R/site-library/gDRimport/extdata/data2/RawData_Tecan_96_well_plates.xlsx, sheet H2122-2
INFO [2024-04-15 23:01:47] Reading file /home/biocbuild/bbs-3.18-bioc/R/site-library/gDRimport/extdata/data2/RawData_Tecan_96_well_plates.xlsx, sheet H358-2
INFO [2024-04-15 23:01:47] Reading file /home/biocbuild/bbs-3.18-bioc/R/site-library/gDRimport/extdata/data2/RawData_Tecan_96_well_plates.xlsx, sheet H358-1
INFO [2024-04-15 23:01:48] Reading file /home/biocbuild/bbs-3.18-bioc/R/site-library/gDRimport/extdata/data2/RawData_Tecan_96_well_plates.xlsx, sheet H2122-1
INFO [2024-04-15 23:01:48] Manifest loaded successfully
INFO [2024-04-15 23:01:48] Reading Project40.treated.template.xlsx with load_templates_xlsx
INFO [2024-04-15 23:01:48] Loading Project40.treated.template.xlsx
INFO [2024-04-15 23:01:48] Loading Project40.untreated.template.xlsx
INFO [2024-04-15 23:01:48] Templates loaded successfully!
INFO [2024-04-15 23:01:48] Reading file /home/biocbuild/bbs-3.18-bioc/R/site-library/gDRimport/extdata/data4/H0109269D00.csv, sheet 0
INFO [2024-04-15 23:01:48] Plate H0109269D00 read; 384 wells
INFO [2024-04-15 23:01:48] File done
INFO [2024-04-15 23:01:48] Reading file /home/biocbuild/bbs-3.18-bioc/R/site-library/gDRimport/extdata/data4/H0109269D01.csv, sheet 0
INFO [2024-04-15 23:01:48] Plate H0109269D01 read; 384 wells
INFO [2024-04-15 23:01:48] File done
INFO [2024-04-15 23:01:48] Reading file /home/biocbuild/bbs-3.18-bioc/R/site-library/gDRimport/extdata/data4/H0309269D00.csv, sheet 0
INFO [2024-04-15 23:01:48] Plate H0309269D00 read; 384 wells
INFO [2024-04-15 23:01:48] File done
INFO [2024-04-15 23:01:48] Reading file /home/biocbuild/bbs-3.18-bioc/R/site-library/gDRimport/extdata/data4/H0309269D01.csv, sheet 0
INFO [2024-04-15 23:01:48] Plate H0309269D01 read; 384 wells
INFO [2024-04-15 23:01:48] File done
INFO [2024-04-15 23:01:48] Reading file /home/biocbuild/bbs-3.18-bioc/R/site-library/gDRimport/extdata/data4/H0409269D00.csv, sheet 0
INFO [2024-04-15 23:01:48] Plate H0409269D00 read; 384 wells
INFO [2024-04-15 23:01:48] File done
INFO [2024-04-15 23:01:48] Reading file /home/biocbuild/bbs-3.18-bioc/R/site-library/gDRimport/extdata/data4/H0409269D01.csv, sheet 0
INFO [2024-04-15 23:01:48] Plate H0409269D01 read; 384 wells
INFO [2024-04-15 23:01:48] File done
INFO [2024-04-15 23:01:48] Reading file /home/biocbuild/bbs-3.18-bioc/R/site-library/gDRimport/extdata/data4/H0509269D00.csv, sheet 0
INFO [2024-04-15 23:01:48] Plate H0509269D00 read; 384 wells
INFO [2024-04-15 23:01:48] File done
INFO [2024-04-15 23:01:48] Reading file /home/biocbuild/bbs-3.18-bioc/R/site-library/gDRimport/extdata/data4/H0509269D01.csv, sheet 0
INFO [2024-04-15 23:01:48] Plate H0509269D01 read; 384 wells
INFO [2024-04-15 23:01:48] File done
INFO [2024-04-15 23:01:48] Reading file /home/biocbuild/bbs-3.18-bioc/R/site-library/gDRimport/extdata/data4/H0609269D00.csv, sheet 0
INFO [2024-04-15 23:01:48] Plate H0609269D00 read; 384 wells
INFO [2024-04-15 23:01:48] File done
INFO [2024-04-15 23:01:48] Reading file /home/biocbuild/bbs-3.18-bioc/R/site-library/gDRimport/extdata/data4/H0609269D01.csv, sheet 0
INFO [2024-04-15 23:01:48] Plate H0609269D01 read; 384 wells
INFO [2024-04-15 23:01:48] File done
INFO [2024-04-15 23:01:48] Reading file /home/biocbuild/bbs-3.18-bioc/R/site-library/gDRimport/extdata/data4/H0709269D00.csv, sheet 0
INFO [2024-04-15 23:01:48] Plate H0709269D00 read; 384 wells
INFO [2024-04-15 23:01:48] File done
INFO [2024-04-15 23:01:48] Reading file /home/biocbuild/bbs-3.18-bioc/R/site-library/gDRimport/extdata/data4/H0709269D01.csv, sheet 0
INFO [2024-04-15 23:01:48] Plate H0709269D01 read; 384 wells
INFO [2024-04-15 23:01:48] File done
INFO [2024-04-15 23:01:48] Reading file /home/biocbuild/bbs-3.18-bioc/R/site-library/gDRimport/extdata/data4/H0809269D00.csv, sheet 0
INFO [2024-04-15 23:01:48] Plate H0809269D00 read; 384 wells
INFO [2024-04-15 23:01:48] File done
INFO [2024-04-15 23:01:48] Reading file /home/biocbuild/bbs-3.18-bioc/R/site-library/gDRimport/extdata/data4/H0809269D01.csv, sheet 0
INFO [2024-04-15 23:01:48] Plate H0809269D01 read; 384 wells
INFO [2024-04-15 23:01:48] File done
INFO [2024-04-15 23:01:48] Reading file /home/biocbuild/bbs-3.18-bioc/R/site-library/gDRimport/extdata/data4/H0909269D00.csv, sheet 0
INFO [2024-04-15 23:01:48] Plate H0909269D00 read; 384 wells
INFO [2024-04-15 23:01:48] File done
INFO [2024-04-15 23:01:48] Reading file /home/biocbuild/bbs-3.18-bioc/R/site-library/gDRimport/extdata/data4/H0909269D01.csv, sheet 0
INFO [2024-04-15 23:01:48] Plate H0909269D01 read; 384 wells
INFO [2024-04-15 23:01:48] File done
INFO [2024-04-15 23:01:48] Reading file /home/biocbuild/bbs-3.18-bioc/R/site-library/gDRimport/extdata/data4/H1109269D00.csv, sheet 0
INFO [2024-04-15 23:01:48] Plate H1109269D00 read; 384 wells
INFO [2024-04-15 23:01:48] File done
INFO [2024-04-15 23:01:48] Reading file /home/biocbuild/bbs-3.18-bioc/R/site-library/gDRimport/extdata/data4/H1109269D01.csv, sheet 0
INFO [2024-04-15 23:01:48] Plate H1109269D01 read; 384 wells
INFO [2024-04-15 23:01:48] File done
INFO [2024-04-15 23:01:48] Reading file /home/biocbuild/bbs-3.18-bioc/R/site-library/gDRimport/extdata/data4/H1209269D00.csv, sheet 0
INFO [2024-04-15 23:01:48] Plate H1209269D00 read; 384 wells
INFO [2024-04-15 23:01:48] File done
INFO [2024-04-15 23:01:48] Reading file /home/biocbuild/bbs-3.18-bioc/R/site-library/gDRimport/extdata/data4/H1209269D01.csv, sheet 0
INFO [2024-04-15 23:01:48] Plate H1209269D01 read; 384 wells
INFO [2024-04-15 23:01:48] File done
INFO [2024-04-15 23:01:48] Reading file /home/biocbuild/bbs-3.18-bioc/R/site-library/gDRimport/extdata/data4/H1409269D00.csv, sheet 0
INFO [2024-04-15 23:01:48] Plate H1409269D00 read; 384 wells
INFO [2024-04-15 23:01:48] File done
INFO [2024-04-15 23:01:48] Reading file /home/biocbuild/bbs-3.18-bioc/R/site-library/gDRimport/extdata/data4/H1409269D01.csv, sheet 0
INFO [2024-04-15 23:01:48] Plate H1409269D01 read; 384 wells
INFO [2024-04-15 23:01:48] File done
INFO [2024-04-15 23:01:48] Reading file /home/biocbuild/bbs-3.18-bioc/R/site-library/gDRimport/extdata/data4/K0209269D00.csv, sheet 0
INFO [2024-04-15 23:01:48] Plate K0209269D00 read; 384 wells
INFO [2024-04-15 23:01:48] File done
INFO [2024-04-15 23:01:48] Reading file /home/biocbuild/bbs-3.18-bioc/R/site-library/gDRimport/extdata/data4/K0209269D01.csv, sheet 0
INFO [2024-04-15 23:01:48] Plate K0209269D01 read; 384 wells
INFO [2024-04-15 23:01:48] File done
INFO [2024-04-15 23:01:48] Reading file /home/biocbuild/bbs-3.18-bioc/R/site-library/gDRimport/extdata/data4/K0809269D00.csv, sheet 0
INFO [2024-04-15 23:01:48] Plate K0809269D00 read; 384 wells
INFO [2024-04-15 23:01:48] File done
INFO [2024-04-15 23:01:48] Reading file /home/biocbuild/bbs-3.18-bioc/R/site-library/gDRimport/extdata/data4/K0809269D01.csv, sheet 0
INFO [2024-04-15 23:01:48] Plate K0809269D01 read; 384 wells
INFO [2024-04-15 23:01:48] File done
INFO [2024-04-15 23:01:48] Reading file /home/biocbuild/bbs-3.18-bioc/R/site-library/gDRimport/extdata/data4/K1009269D00.csv, sheet 0
INFO [2024-04-15 23:01:48] Plate K1009269D00 read; 384 wells
INFO [2024-04-15 23:01:48] File done
INFO [2024-04-15 23:01:48] Reading file /home/biocbuild/bbs-3.18-bioc/R/site-library/gDRimport/extdata/data4/K1009269D01.csv, sheet 0
INFO [2024-04-15 23:01:48] Plate K1009269D01 read; 384 wells
INFO [2024-04-15 23:01:48] File done
INFO [2024-04-15 23:01:48] Manifest loaded successfully
INFO [2024-04-15 23:01:48] Reading Template_7daytreated.xlsx with load_templates_xlsx
INFO [2024-04-15 23:01:48] Loading Template_7daytreated.xlsx
INFO [2024-04-15 23:01:49] Loading Template_Untreated.xlsx
INFO [2024-04-15 23:01:49] Templates loaded successfully!
INFO [2024-04-15 23:01:49] Manifest loaded successfully
INFO [2024-04-15 23:01:49] Reading Template_7daytreated.xlsx with load_templates_xlsx
INFO [2024-04-15 23:01:49] Loading Template_7daytreated.xlsx
INFO [2024-04-15 23:01:49] Loading Template_Untreated.xlsx
INFO [2024-04-15 23:01:49] Templates loaded successfully!
WARN [2024-04-15 23:01:50] Metadata field names for cannot contain spaces --> corrected to: Gnumber
WARN [2024-04-15 23:01:50] Header Gnumber in corrected to Gnumber
[ FAIL 0 | WARN 0 | SKIP 0 | PASS 126 ]
>
>
> proc.time()
user system elapsed
34.261 1.953 36.010
gDRimport.Rcheck/gDRimport-Ex.timings
| name | user | system | elapsed | |
| check_metadata_names | 0.042 | 0.004 | 0.046 | |
| convert_MAE_to_PSet | 4.107 | 0.254 | 4.364 | |
| convert_pset_to_df | 0.163 | 0.004 | 0.141 | |
| detect_file_format | 0.229 | 0.000 | 0.223 | |
| getPSet | 0.122 | 0.008 | 0.130 | |
| get_exception_data | 0.056 | 0.000 | 0.057 | |
| get_test_D300_data | 0.000 | 0.002 | 0.001 | |
| get_test_EnVision_data | 0.000 | 0.002 | 0.002 | |
| get_test_Tecan_data | 0.000 | 0.000 | 0.001 | |
| get_test_data | 0.002 | 0.000 | 0.002 | |
| import_D300 | 2.432 | 0.067 | 2.493 | |
| is_readable_v | 0.001 | 0.000 | 0.001 | |
| load_data | 1.823 | 0.108 | 1.930 | |
| load_manifest | 0.029 | 0.000 | 0.023 | |
| load_results | 0.783 | 0.068 | 0.851 | |
| load_templates | 0.145 | 0.008 | 0.146 | |
| manifest_path-method | 0.002 | 0.000 | 0.001 | |
| parse_D300_xml | 0.994 | 0.028 | 1.022 | |
| read_excel_to_dt | 0.027 | 0.000 | 0.020 | |
| result_path-method | 0.002 | 0.000 | 0.002 | |
| setEnvForPSet | 0 | 0 | 0 | |
| standardize_record_values | 0 | 0 | 0 | |
| template_path-method | 0.002 | 0.000 | 0.002 | |