| Back to Multiple platform build/check report for BioC 3.18: simplified long |
|
This page was generated on 2024-04-17 11:37:44 -0400 (Wed, 17 Apr 2024).
| Hostname | OS | Arch (*) | R version | Installed pkgs |
|---|---|---|---|---|
| nebbiolo2 | Linux (Ubuntu 22.04.3 LTS) | x86_64 | 4.3.3 (2024-02-29) -- "Angel Food Cake" | 4676 |
| palomino4 | Windows Server 2022 Datacenter | x64 | 4.3.3 (2024-02-29 ucrt) -- "Angel Food Cake" | 4414 |
| merida1 | macOS 12.7.1 Monterey | x86_64 | 4.3.3 (2024-02-29) -- "Angel Food Cake" | 4437 |
| Click on any hostname to see more info about the system (e.g. compilers) (*) as reported by 'uname -p', except on Windows and Mac OS X | ||||
| Package 730/2266 | Hostname | OS / Arch | INSTALL | BUILD | CHECK | BUILD BIN | ||||||||
| flowGraph 1.10.0 (landing page) Alice Yue
| nebbiolo2 | Linux (Ubuntu 22.04.3 LTS) / x86_64 | OK | OK | OK | |||||||||
| palomino4 | Windows Server 2022 Datacenter / x64 | OK | OK | OK | OK | |||||||||
| merida1 | macOS 12.7.1 Monterey / x86_64 | OK | OK | OK | OK | |||||||||
| kjohnson1 | macOS 13.6.1 Ventura / arm64 | see weekly results here | ||||||||||||
|
To the developers/maintainers of the flowGraph package: - Allow up to 24 hours (and sometimes 48 hours) for your latest push to git@git.bioconductor.org:packages/flowGraph.git to reflect on this report. See Troubleshooting Build Report for more information. - Use the following Renviron settings to reproduce errors and warnings. - If 'R CMD check' started to fail recently on the Linux builder(s) over a missing dependency, add the missing dependency to 'Suggests:' in your DESCRIPTION file. See Renviron.bioc for more information. |
| Package: flowGraph |
| Version: 1.10.0 |
| Command: /Library/Frameworks/R.framework/Resources/bin/R CMD check --install=check:flowGraph.install-out.txt --library=/Library/Frameworks/R.framework/Resources/library --no-vignettes --timings flowGraph_1.10.0.tar.gz |
| StartedAt: 2024-04-16 02:54:45 -0400 (Tue, 16 Apr 2024) |
| EndedAt: 2024-04-16 03:02:54 -0400 (Tue, 16 Apr 2024) |
| EllapsedTime: 488.7 seconds |
| RetCode: 0 |
| Status: OK |
| CheckDir: flowGraph.Rcheck |
| Warnings: 0 |
##############################################################################
##############################################################################
###
### Running command:
###
### /Library/Frameworks/R.framework/Resources/bin/R CMD check --install=check:flowGraph.install-out.txt --library=/Library/Frameworks/R.framework/Resources/library --no-vignettes --timings flowGraph_1.10.0.tar.gz
###
##############################################################################
##############################################################################
* using log directory ‘/Users/biocbuild/bbs-3.18-bioc/meat/flowGraph.Rcheck’
* using R version 4.3.3 (2024-02-29)
* using platform: x86_64-apple-darwin20 (64-bit)
* R was compiled by
Apple clang version 14.0.0 (clang-1400.0.29.202)
GNU Fortran (GCC) 12.2.0
* running under: macOS Monterey 12.7.1
* using session charset: UTF-8
* using option ‘--no-vignettes’
* checking for file ‘flowGraph/DESCRIPTION’ ... OK
* checking extension type ... Package
* this is package ‘flowGraph’ version ‘1.10.0’
* checking package namespace information ... OK
* checking package dependencies ... OK
* checking if this is a source package ... OK
* checking if there is a namespace ... OK
* checking for hidden files and directories ... OK
* checking for portable file names ... OK
* checking for sufficient/correct file permissions ... OK
* checking whether package ‘flowGraph’ can be installed ... OK
* checking installed package size ... OK
* checking package directory ... OK
* checking ‘build’ directory ... OK
* checking DESCRIPTION meta-information ... OK
* checking top-level files ... OK
* checking for left-over files ... OK
* checking index information ... OK
* checking package subdirectories ... OK
* checking R files for non-ASCII characters ... OK
* checking R files for syntax errors ... OK
* checking whether the package can be loaded ... OK
* checking whether the package can be loaded with stated dependencies ... OK
* checking whether the package can be unloaded cleanly ... OK
* checking whether the namespace can be loaded with stated dependencies ... OK
* checking whether the namespace can be unloaded cleanly ... OK
* checking dependencies in R code ... OK
* checking S3 generic/method consistency ... OK
* checking replacement functions ... OK
* checking foreign function calls ... OK
* checking R code for possible problems ... NOTE
get_child: no visible binding for global variable ‘no_cores’
get_paren: no visible binding for global variable ‘no_cores’
ms_psig: no visible binding for global variable ‘meta’
Undefined global functions or variables:
meta no_cores
* checking Rd files ... OK
* checking Rd metadata ... OK
* checking Rd cross-references ... OK
* checking for missing documentation entries ... OK
* checking for code/documentation mismatches ... OK
* checking Rd \usage sections ... OK
* checking Rd contents ... OK
* checking for unstated dependencies in examples ... OK
* checking contents of ‘data’ directory ... OK
* checking data for non-ASCII characters ... OK
* checking data for ASCII and uncompressed saves ... OK
* checking files in ‘vignettes’ ... OK
* checking examples ... OK
Examples with CPU (user + system) or elapsed time > 5s
user system elapsed
fg_save_plots 81.561 0.570 86.594
fg_save 80.453 0.512 86.585
fg_load 80.248 0.632 86.349
* checking for unstated dependencies in ‘tests’ ... OK
* checking tests ...
Running ‘testthat.R’
OK
* checking for unstated dependencies in vignettes ... OK
* checking package vignettes in ‘inst/doc’ ... OK
* checking running R code from vignettes ... SKIPPED
* checking re-building of vignette outputs ... SKIPPED
* checking PDF version of manual ... OK
* DONE
Status: 1 NOTE
See
‘/Users/biocbuild/bbs-3.18-bioc/meat/flowGraph.Rcheck/00check.log’
for details.
flowGraph.Rcheck/00install.out
############################################################################## ############################################################################## ### ### Running command: ### ### /Library/Frameworks/R.framework/Resources/bin/R CMD INSTALL flowGraph ### ############################################################################## ############################################################################## * installing to library ‘/Library/Frameworks/R.framework/Versions/4.3-x86_64/Resources/library’ * installing *source* package ‘flowGraph’ ... ** using staged installation ** R ** data ** inst ** byte-compile and prepare package for lazy loading ** help Loading required namespace: flowGraph *** installing help indices ** building package indices ** installing vignettes ** testing if installed package can be loaded from temporary location ** testing if installed package can be loaded from final location ** testing if installed package keeps a record of temporary installation path * DONE (flowGraph)
flowGraph.Rcheck/tests/testthat.Rout
R version 4.3.3 (2024-02-29) -- "Angel Food Cake"
Copyright (C) 2024 The R Foundation for Statistical Computing
Platform: x86_64-apple-darwin20 (64-bit)
R is free software and comes with ABSOLUTELY NO WARRANTY.
You are welcome to redistribute it under certain conditions.
Type 'license()' or 'licence()' for distribution details.
R is a collaborative project with many contributors.
Type 'contributors()' for more information and
'citation()' on how to cite R or R packages in publications.
Type 'demo()' for some demos, 'help()' for on-line help, or
'help.start()' for an HTML browser interface to help.
Type 'q()' to quit R.
> library(testthat)
> library(flowGraph)
>
> test_check("flowGraph")
[ FAIL 0 | WARN 0 | SKIP 0 | PASS 34 ]
>
> proc.time()
user system elapsed
11.361 0.523 12.356
flowGraph.Rcheck/flowGraph-Ex.timings
| name | user | system | elapsed | |
| cell_type_layers | 0.006 | 0.002 | 0.007 | |
| fg_add_feature | 0.738 | 0.018 | 0.783 | |
| fg_add_summary | 2.128 | 0.025 | 2.363 | |
| fg_clean_phen | 0.000 | 0.001 | 0.001 | |
| fg_clear_features | 2.027 | 0.016 | 2.142 | |
| fg_clear_summary | 0.803 | 0.009 | 0.854 | |
| fg_extract_phenotypes | 0.608 | 0.009 | 0.657 | |
| fg_extract_raw | 1.950 | 0.015 | 2.042 | |
| fg_extract_samples | 0.598 | 0.008 | 0.689 | |
| fg_feat_cumsum | 0.614 | 0.010 | 0.848 | |
| fg_feat_edge_specenr | 0.971 | 0.012 | 1.395 | |
| fg_feat_mean_class | 0.601 | 0.008 | 0.665 | |
| fg_feat_node_prop | 0.585 | 0.007 | 0.672 | |
| fg_feat_node_specenr | 0.944 | 0.011 | 1.053 | |
| fg_feat_prop_edge | 0.633 | 0.009 | 0.732 | |
| fg_get_feature | 0.589 | 0.007 | 0.672 | |
| fg_get_feature_desc | 1.996 | 0.014 | 2.194 | |
| fg_get_feature_means | 2.994 | 0.017 | 3.281 | |
| fg_get_graph | 0.605 | 0.010 | 0.680 | |
| fg_get_markers | 0.597 | 0.007 | 0.656 | |
| fg_get_meta | 0.590 | 0.007 | 0.647 | |
| fg_get_summary | 4.244 | 0.023 | 4.568 | |
| fg_get_summary_desc | 1.963 | 0.015 | 2.057 | |
| fg_get_summary_index | 4.401 | 0.055 | 4.590 | |
| fg_get_summary_tables | 2.896 | 0.026 | 2.971 | |
| fg_gsub_ids | 0.563 | 0.008 | 0.586 | |
| fg_gsub_markers | 0.719 | 0.007 | 0.732 | |
| fg_load | 80.248 | 0.632 | 86.349 | |
| fg_merge | 0.625 | 0.008 | 0.639 | |
| fg_merge_samples | 0.646 | 0.007 | 0.656 | |
| fg_plot | 0.910 | 0.006 | 0.921 | |
| fg_plot_box | 1.419 | 0.008 | 1.435 | |
| fg_plot_pVSdiff | 0.853 | 0.006 | 0.865 | |
| fg_plot_qq | 2.321 | 0.121 | 2.591 | |
| fg_replace_meta | 0.591 | 0.006 | 0.599 | |
| fg_rm_feature | 2.073 | 0.017 | 2.109 | |
| fg_rm_summary | 0.823 | 0.007 | 0.837 | |
| fg_save | 80.453 | 0.512 | 86.585 | |
| fg_save_plots | 81.561 | 0.570 | 86.594 | |
| fg_set_layout | 0.610 | 0.011 | 0.639 | |
| fg_summary | 0.857 | 0.009 | 0.904 | |
| flowGraph-class | 0.001 | 0.002 | 0.003 | |
| flowGraph | 2.894 | 0.020 | 3.161 | |
| flowGraphSubset | 0.001 | 0.001 | 0.001 | |
| flowGraphSubset_summary_adjust | 0.000 | 0.001 | 0.002 | |
| flowGraphSubset_summary_pars | 0.000 | 0.002 | 0.001 | |
| get_phen_list | 0.025 | 0.002 | 0.030 | |
| get_phen_meta | 0.004 | 0.001 | 0.005 | |
| ggdf | 0.624 | 0.010 | 0.672 | |
| loop_ind_f | 0.001 | 0.001 | 0.002 | |
| meandiff | 0.001 | 0.000 | 0.002 | |
| plot_gr | 2.886 | 0.050 | 3.088 | |
| set_layout_graph | 0.639 | 0.102 | 0.776 | |
| summary_table | 0.007 | 0.000 | 0.008 | |
| time_output | 0.001 | 0.000 | 0.001 | |
| tstr | 0.001 | 0.001 | 0.001 | |