| Back to Multiple platform build/check report for BioC 3.18: simplified long |
|
This page was generated on 2024-03-04 11:37:21 -0500 (Mon, 04 Mar 2024).
| Hostname | OS | Arch (*) | R version | Installed pkgs |
|---|---|---|---|---|
| nebbiolo2 | Linux (Ubuntu 22.04.3 LTS) | x86_64 | 4.3.2 Patched (2023-11-13 r85521) -- "Eye Holes" | 4692 |
| palomino4 | Windows Server 2022 Datacenter | x64 | 4.3.2 (2023-10-31 ucrt) -- "Eye Holes" | 4445 |
| lconway | macOS 12.7.1 Monterey | x86_64 | 4.3.2 Patched (2023-11-01 r85457) -- "Eye Holes" | 4466 |
| Click on any hostname to see more info about the system (e.g. compilers) (*) as reported by 'uname -p', except on Windows and Mac OS X | ||||
| Package 730/2266 | Hostname | OS / Arch | INSTALL | BUILD | CHECK | BUILD BIN | ||||||||
| flowGraph 1.10.0 (landing page) Alice Yue
| nebbiolo2 | Linux (Ubuntu 22.04.3 LTS) / x86_64 | OK | OK | OK | |||||||||
| palomino4 | Windows Server 2022 Datacenter / x64 | OK | OK | OK | OK | |||||||||
| lconway | macOS 12.7.1 Monterey / x86_64 | OK | OK | OK | OK | |||||||||
| kjohnson1 | macOS 13.6.1 Ventura / arm64 | see weekly results here | ||||||||||||
|
To the developers/maintainers of the flowGraph package: - Allow up to 24 hours (and sometimes 48 hours) for your latest push to git@git.bioconductor.org:packages/flowGraph.git to reflect on this report. See Troubleshooting Build Report for more information. - Use the following Renviron settings to reproduce errors and warnings. - If 'R CMD check' started to fail recently on the Linux builder(s) over a missing dependency, add the missing dependency to 'Suggests:' in your DESCRIPTION file. See Renviron.bioc for more information. |
| Package: flowGraph |
| Version: 1.10.0 |
| Command: /Library/Frameworks/R.framework/Resources/bin/R CMD check --install=check:flowGraph.install-out.txt --library=/Library/Frameworks/R.framework/Resources/library --no-vignettes --timings flowGraph_1.10.0.tar.gz |
| StartedAt: 2024-03-03 20:39:56 -0500 (Sun, 03 Mar 2024) |
| EndedAt: 2024-03-03 20:44:30 -0500 (Sun, 03 Mar 2024) |
| EllapsedTime: 274.0 seconds |
| RetCode: 0 |
| Status: OK |
| CheckDir: flowGraph.Rcheck |
| Warnings: 0 |
##############################################################################
##############################################################################
###
### Running command:
###
### /Library/Frameworks/R.framework/Resources/bin/R CMD check --install=check:flowGraph.install-out.txt --library=/Library/Frameworks/R.framework/Resources/library --no-vignettes --timings flowGraph_1.10.0.tar.gz
###
##############################################################################
##############################################################################
* using log directory ‘/Users/biocbuild/bbs-3.18-bioc/meat/flowGraph.Rcheck’
* using R version 4.3.2 Patched (2023-11-01 r85457)
* using platform: x86_64-apple-darwin20 (64-bit)
* R was compiled by
Apple clang version 14.0.3 (clang-1403.0.22.14.1)
GNU Fortran (GCC) 12.2.0
* running under: macOS Monterey 12.7.1
* using session charset: UTF-8
* using option ‘--no-vignettes’
* checking for file ‘flowGraph/DESCRIPTION’ ... OK
* checking extension type ... Package
* this is package ‘flowGraph’ version ‘1.10.0’
* checking package namespace information ... OK
* checking package dependencies ... OK
* checking if this is a source package ... OK
* checking if there is a namespace ... OK
* checking for hidden files and directories ... OK
* checking for portable file names ... OK
* checking for sufficient/correct file permissions ... OK
* checking whether package ‘flowGraph’ can be installed ... OK
* checking installed package size ... OK
* checking package directory ... OK
* checking ‘build’ directory ... OK
* checking DESCRIPTION meta-information ... OK
* checking top-level files ... OK
* checking for left-over files ... OK
* checking index information ... OK
* checking package subdirectories ... OK
* checking R files for non-ASCII characters ... OK
* checking R files for syntax errors ... OK
* checking whether the package can be loaded ... OK
* checking whether the package can be loaded with stated dependencies ... OK
* checking whether the package can be unloaded cleanly ... OK
* checking whether the namespace can be loaded with stated dependencies ... OK
* checking whether the namespace can be unloaded cleanly ... OK
* checking dependencies in R code ... OK
* checking S3 generic/method consistency ... OK
* checking replacement functions ... OK
* checking foreign function calls ... OK
* checking R code for possible problems ... NOTE
get_child: no visible binding for global variable ‘no_cores’
get_paren: no visible binding for global variable ‘no_cores’
ms_psig: no visible binding for global variable ‘meta’
Undefined global functions or variables:
meta no_cores
* checking Rd files ... OK
* checking Rd metadata ... OK
* checking Rd cross-references ... OK
* checking for missing documentation entries ... OK
* checking for code/documentation mismatches ... OK
* checking Rd \usage sections ... OK
* checking Rd contents ... OK
* checking for unstated dependencies in examples ... OK
* checking contents of ‘data’ directory ... OK
* checking data for non-ASCII characters ... OK
* checking data for ASCII and uncompressed saves ... OK
* checking files in ‘vignettes’ ... OK
* checking examples ... OK
Examples with CPU (user + system) or elapsed time > 5s
user system elapsed
fg_save_plots 47.033 0.527 48.092
fg_load 46.382 0.662 47.473
fg_save 46.008 0.472 46.820
* checking for unstated dependencies in ‘tests’ ... OK
* checking tests ...
Running ‘testthat.R’
OK
* checking for unstated dependencies in vignettes ... OK
* checking package vignettes in ‘inst/doc’ ... OK
* checking running R code from vignettes ... SKIPPED
* checking re-building of vignette outputs ... SKIPPED
* checking PDF version of manual ... OK
* DONE
Status: 1 NOTE
See
‘/Users/biocbuild/bbs-3.18-bioc/meat/flowGraph.Rcheck/00check.log’
for details.
flowGraph.Rcheck/00install.out
############################################################################## ############################################################################## ### ### Running command: ### ### /Library/Frameworks/R.framework/Resources/bin/R CMD INSTALL flowGraph ### ############################################################################## ############################################################################## * installing to library ‘/Library/Frameworks/R.framework/Versions/4.3-x86_64/Resources/library’ * installing *source* package ‘flowGraph’ ... ** using staged installation ** R ** data ** inst ** byte-compile and prepare package for lazy loading ** help Loading required namespace: flowGraph *** installing help indices ** building package indices ** installing vignettes ** testing if installed package can be loaded from temporary location ** testing if installed package can be loaded from final location ** testing if installed package keeps a record of temporary installation path * DONE (flowGraph)
flowGraph.Rcheck/tests/testthat.Rout
R version 4.3.2 Patched (2023-11-01 r85457) -- "Eye Holes"
Copyright (C) 2023 The R Foundation for Statistical Computing
Platform: x86_64-apple-darwin20 (64-bit)
R is free software and comes with ABSOLUTELY NO WARRANTY.
You are welcome to redistribute it under certain conditions.
Type 'license()' or 'licence()' for distribution details.
R is a collaborative project with many contributors.
Type 'contributors()' for more information and
'citation()' on how to cite R or R packages in publications.
Type 'demo()' for some demos, 'help()' for on-line help, or
'help.start()' for an HTML browser interface to help.
Type 'q()' to quit R.
> library(testthat)
> library(flowGraph)
>
> test_check("flowGraph")
[ FAIL 0 | WARN 0 | SKIP 0 | PASS 34 ]
>
> proc.time()
user system elapsed
5.900 0.364 6.318
flowGraph.Rcheck/flowGraph-Ex.timings
| name | user | system | elapsed | |
| cell_type_layers | 0.004 | 0.000 | 0.005 | |
| fg_add_feature | 0.397 | 0.012 | 0.412 | |
| fg_add_summary | 1.018 | 0.017 | 1.042 | |
| fg_clean_phen | 0.000 | 0.000 | 0.001 | |
| fg_clear_features | 1.010 | 0.012 | 1.029 | |
| fg_clear_summary | 0.358 | 0.005 | 0.364 | |
| fg_extract_phenotypes | 0.301 | 0.006 | 0.310 | |
| fg_extract_raw | 0.930 | 0.011 | 0.945 | |
| fg_extract_samples | 0.302 | 0.006 | 0.310 | |
| fg_feat_cumsum | 0.307 | 0.006 | 0.317 | |
| fg_feat_edge_specenr | 0.484 | 0.009 | 0.498 | |
| fg_feat_mean_class | 0.302 | 0.008 | 0.312 | |
| fg_feat_node_prop | 0.283 | 0.005 | 0.289 | |
| fg_feat_node_specenr | 0.446 | 0.007 | 0.457 | |
| fg_feat_prop_edge | 0.308 | 0.006 | 0.316 | |
| fg_get_feature | 0.281 | 0.006 | 0.287 | |
| fg_get_feature_desc | 0.974 | 0.014 | 0.996 | |
| fg_get_feature_means | 1.431 | 0.016 | 1.456 | |
| fg_get_graph | 0.302 | 0.006 | 0.311 | |
| fg_get_markers | 0.307 | 0.007 | 0.318 | |
| fg_get_meta | 0.294 | 0.004 | 0.299 | |
| fg_get_summary | 1.997 | 0.019 | 2.027 | |
| fg_get_summary_desc | 0.984 | 0.012 | 1.003 | |
| fg_get_summary_index | 2.281 | 0.037 | 2.336 | |
| fg_get_summary_tables | 1.369 | 0.019 | 1.399 | |
| fg_gsub_ids | 0.272 | 0.004 | 0.278 | |
| fg_gsub_markers | 0.381 | 0.006 | 0.391 | |
| fg_load | 46.382 | 0.662 | 47.473 | |
| fg_merge | 0.297 | 0.007 | 0.306 | |
| fg_merge_samples | 0.320 | 0.005 | 0.328 | |
| fg_plot | 0.458 | 0.005 | 0.465 | |
| fg_plot_box | 0.735 | 0.010 | 0.752 | |
| fg_plot_pVSdiff | 0.429 | 0.005 | 0.436 | |
| fg_plot_qq | 1.333 | 0.330 | 1.854 | |
| fg_replace_meta | 0.316 | 0.006 | 0.324 | |
| fg_rm_feature | 1.076 | 0.016 | 1.100 | |
| fg_rm_summary | 0.414 | 0.005 | 0.422 | |
| fg_save | 46.008 | 0.472 | 46.820 | |
| fg_save_plots | 47.033 | 0.527 | 48.092 | |
| fg_set_layout | 0.313 | 0.005 | 0.322 | |
| fg_summary | 0.386 | 0.007 | 0.397 | |
| flowGraph-class | 0.000 | 0.001 | 0.001 | |
| flowGraph | 1.459 | 0.017 | 1.488 | |
| flowGraphSubset | 0 | 0 | 0 | |
| flowGraphSubset_summary_adjust | 0.001 | 0.001 | 0.001 | |
| flowGraphSubset_summary_pars | 0.000 | 0.001 | 0.000 | |
| get_phen_list | 0.014 | 0.001 | 0.015 | |
| get_phen_meta | 0.001 | 0.000 | 0.002 | |
| ggdf | 0.285 | 0.005 | 0.292 | |
| loop_ind_f | 0.001 | 0.001 | 0.001 | |
| meandiff | 0.001 | 0.000 | 0.001 | |
| plot_gr | 1.529 | 0.042 | 1.607 | |
| set_layout_graph | 0.331 | 0.038 | 0.372 | |
| summary_table | 0.003 | 0.000 | 0.004 | |
| time_output | 0.000 | 0.000 | 0.001 | |
| tstr | 0 | 0 | 0 | |