| Back to Multiple platform build/check report for BioC 3.18: simplified long |
|
This page was generated on 2024-04-17 11:35:57 -0400 (Wed, 17 Apr 2024).
| Hostname | OS | Arch (*) | R version | Installed pkgs |
|---|---|---|---|---|
| nebbiolo2 | Linux (Ubuntu 22.04.3 LTS) | x86_64 | 4.3.3 (2024-02-29) -- "Angel Food Cake" | 4676 |
| palomino4 | Windows Server 2022 Datacenter | x64 | 4.3.3 (2024-02-29 ucrt) -- "Angel Food Cake" | 4414 |
| merida1 | macOS 12.7.1 Monterey | x86_64 | 4.3.3 (2024-02-29) -- "Angel Food Cake" | 4437 |
| Click on any hostname to see more info about the system (e.g. compilers) (*) as reported by 'uname -p', except on Windows and Mac OS X | ||||
| Package 719/2266 | Hostname | OS / Arch | INSTALL | BUILD | CHECK | BUILD BIN | ||||||||
| flowBin 1.38.0 (landing page) Kieran O'Neill
| nebbiolo2 | Linux (Ubuntu 22.04.3 LTS) / x86_64 | OK | OK | OK | |||||||||
| palomino4 | Windows Server 2022 Datacenter / x64 | OK | OK | OK | OK | |||||||||
| merida1 | macOS 12.7.1 Monterey / x86_64 | OK | OK | OK | OK | |||||||||
| kjohnson1 | macOS 13.6.1 Ventura / arm64 | see weekly results here | ||||||||||||
|
To the developers/maintainers of the flowBin package: - Allow up to 24 hours (and sometimes 48 hours) for your latest push to git@git.bioconductor.org:packages/flowBin.git to reflect on this report. See Troubleshooting Build Report for more information. - Use the following Renviron settings to reproduce errors and warnings. - If 'R CMD check' started to fail recently on the Linux builder(s) over a missing dependency, add the missing dependency to 'Suggests:' in your DESCRIPTION file. See Renviron.bioc for more information. |
| Package: flowBin |
| Version: 1.38.0 |
| Command: /home/biocbuild/bbs-3.18-bioc/R/bin/R CMD check --install=check:flowBin.install-out.txt --library=/home/biocbuild/bbs-3.18-bioc/R/site-library --timings flowBin_1.38.0.tar.gz |
| StartedAt: 2024-04-15 22:49:31 -0400 (Mon, 15 Apr 2024) |
| EndedAt: 2024-04-15 22:51:07 -0400 (Mon, 15 Apr 2024) |
| EllapsedTime: 96.2 seconds |
| RetCode: 0 |
| Status: OK |
| CheckDir: flowBin.Rcheck |
| Warnings: 0 |
##############################################################################
##############################################################################
###
### Running command:
###
### /home/biocbuild/bbs-3.18-bioc/R/bin/R CMD check --install=check:flowBin.install-out.txt --library=/home/biocbuild/bbs-3.18-bioc/R/site-library --timings flowBin_1.38.0.tar.gz
###
##############################################################################
##############################################################################
* using log directory ‘/home/biocbuild/bbs-3.18-bioc/meat/flowBin.Rcheck’
* using R version 4.3.3 (2024-02-29)
* using platform: x86_64-pc-linux-gnu (64-bit)
* R was compiled by
gcc (Ubuntu 11.4.0-1ubuntu1~22.04) 11.4.0
GNU Fortran (Ubuntu 11.4.0-1ubuntu1~22.04) 11.4.0
* running under: Ubuntu 22.04.4 LTS
* using session charset: UTF-8
* checking for file ‘flowBin/DESCRIPTION’ ... OK
* checking extension type ... Package
* this is package ‘flowBin’ version ‘1.38.0’
* checking package namespace information ... OK
* checking package dependencies ... OK
* checking if this is a source package ... OK
* checking if there is a namespace ... OK
* checking for hidden files and directories ... OK
* checking for portable file names ... OK
* checking for sufficient/correct file permissions ... OK
* checking whether package ‘flowBin’ can be installed ... OK
* checking installed package size ... OK
* checking package directory ... OK
* checking ‘build’ directory ... OK
* checking DESCRIPTION meta-information ... OK
* checking top-level files ... OK
* checking for left-over files ... OK
* checking index information ... OK
* checking package subdirectories ... OK
* checking R files for non-ASCII characters ... OK
* checking R files for syntax errors ... OK
* checking whether the package can be loaded ... OK
* checking whether the package can be loaded with stated dependencies ... OK
* checking whether the package can be unloaded cleanly ... OK
* checking whether the namespace can be loaded with stated dependencies ... OK
* checking whether the namespace can be unloaded cleanly ... OK
* checking loading without being on the library search path ... OK
* checking dependencies in R code ... NOTE
Package in Depends field not imported from: ‘flowCore’
These packages need to be imported from (in the NAMESPACE file)
for when this namespace is loaded but not attached.
* checking S3 generic/method consistency ... OK
* checking replacement functions ... OK
* checking foreign function calls ... OK
* checking R code for possible problems ... NOTE
.getBinExpr.def : getBinFrame: no visible global function definition
for ‘exprs<-’
.getBinExpr.def : getBinFrame: no visible global function definition
for ‘exprs’
.getBinExpr.def : scaleData: no visible global function definition for
‘pData’
.getBinExpr.def : getOnePopExpr : extractOneTube : <anonymous>: no
visible global function definition for ‘exprs’
.getBinExpr.def : getOnePopExpr : extractOneTube: no visible global
function definition for ‘pData’
.getBinExpr.def : getOneBinMeds : <anonymous>: no visible global
function definition for ‘median’
.getBinExpr.def : getOneBinMeds : <anonymous>: no visible global
function definition for ‘exprs’
.getBinExpr.def : getOneBinMeds: no visible global function definition
for ‘pData’
checkQNorm.func: no visible global function definition for ‘flowSet’
checkQNorm.func: no visible global function definition for ‘par’
checkQNorm.func: no visible binding for global variable ‘sd’
flowFPBin.def: no visible global function definition for ‘flowSet’
kMeansBin.def: no visible global function definition for ‘exprs’
kMeansBin.def: no visible global function definition for ‘pData’
kMeansBin.def: no visible global function definition for ‘kmeans’
mapBinsKNN.def : mapClustersKNN: no visible global function definition
for ‘exprs’
mapBinsKNN.def: no visible global function definition for
‘capture.output’
mapBinsKNN.def: no visible global function definition for ‘parLapply’
medianFI: no visible global function definition for ‘median’
medianFIDist: no visible global function definition for ‘median’
proportionPositive: no visible global function definition for
‘quantile’
qnorm.func : normCol : <anonymous>: no visible global function
definition for ‘exprs’
qnorm.func : normCol : getCol: no visible global function definition
for ‘exprs’
qnorm.func : normCol : getCol: no visible global function definition
for ‘runif’
qnorm.func : normCol : setCol: no visible global function definition
for ‘exprs’
qnorm.func : normCol : setCol: no visible global function definition
for ‘exprs<-’
checkQNorm,FlowSample-FlowSample: no visible global function definition
for ‘flowSet’
checkQNorm,FlowSample-FlowSample: no visible global function definition
for ‘par’
checkQNorm,FlowSample-FlowSample: no visible binding for global
variable ‘sd’
flowFPBin,FlowSample: no visible global function definition for
‘flowSet’
getBinExpr,BinnedFlowSample : getBinFrame: no visible global function
definition for ‘exprs<-’
getBinExpr,BinnedFlowSample : getBinFrame: no visible global function
definition for ‘exprs’
getBinExpr,BinnedFlowSample : scaleData: no visible global function
definition for ‘pData’
getBinExpr,BinnedFlowSample : getOnePopExpr : extractOneTube :
<anonymous>: no visible global function definition for ‘exprs’
getBinExpr,BinnedFlowSample : getOnePopExpr : extractOneTube: no
visible global function definition for ‘pData’
getBinExpr,BinnedFlowSample : getOneBinMeds : <anonymous>: no visible
global function definition for ‘median’
getBinExpr,BinnedFlowSample : getOneBinMeds : <anonymous>: no visible
global function definition for ‘exprs’
getBinExpr,BinnedFlowSample : getOneBinMeds: no visible global function
definition for ‘pData’
kMeansBin,FlowSample: no visible global function definition for ‘exprs’
kMeansBin,FlowSample: no visible global function definition for ‘pData’
kMeansBin,FlowSample: no visible global function definition for
‘kmeans’
mapBinsKNN,FlowSample : mapClustersKNN: no visible global function
definition for ‘exprs’
mapBinsKNN,FlowSample: no visible global function definition for
‘capture.output’
mapBinsKNN,FlowSample: no visible global function definition for
‘parLapply’
quantileNormalise,FlowSample : normCol : <anonymous>: no visible global
function definition for ‘exprs’
quantileNormalise,FlowSample : normCol : getCol: no visible global
function definition for ‘exprs’
quantileNormalise,FlowSample : normCol : getCol: no visible global
function definition for ‘runif’
quantileNormalise,FlowSample : normCol : setCol: no visible global
function definition for ‘exprs’
quantileNormalise,FlowSample : normCol : setCol: no visible global
function definition for ‘exprs<-’
show,FlowSample: no visible global function definition for ‘str’
Undefined global functions or variables:
capture.output exprs exprs<- flowSet kmeans median pData par
parLapply quantile runif sd str
Consider adding
importFrom("graphics", "par")
importFrom("stats", "kmeans", "median", "quantile", "runif", "sd")
importFrom("utils", "capture.output", "str")
to your NAMESPACE file.
* checking Rd files ... OK
* checking Rd metadata ... OK
* checking Rd cross-references ... OK
* checking for missing documentation entries ... OK
* checking for code/documentation mismatches ... OK
* checking Rd \usage sections ... OK
* checking Rd contents ... OK
* checking for unstated dependencies in examples ... OK
* checking contents of ‘data’ directory ... OK
* checking data for non-ASCII characters ... OK
* checking data for ASCII and uncompressed saves ... OK
* checking files in ‘vignettes’ ... OK
* checking examples ... OK
* checking for unstated dependencies in vignettes ... OK
* checking package vignettes in ‘inst/doc’ ... OK
* checking running R code from vignettes ...
‘flowBin.Rnw’... OK
OK
* checking re-building of vignette outputs ... OK
* checking PDF version of manual ... OK
* DONE
Status: 2 NOTEs
See
‘/home/biocbuild/bbs-3.18-bioc/meat/flowBin.Rcheck/00check.log’
for details.
flowBin.Rcheck/00install.out
############################################################################## ############################################################################## ### ### Running command: ### ### /home/biocbuild/bbs-3.18-bioc/R/bin/R CMD INSTALL flowBin ### ############################################################################## ############################################################################## * installing to library ‘/home/biocbuild/bbs-3.18-bioc/R/site-library’ * installing *source* package ‘flowBin’ ... ** using staged installation ** R ** data ** inst ** byte-compile and prepare package for lazy loading ** help *** installing help indices ** building package indices ** installing vignettes ** testing if installed package can be loaded from temporary location ** testing if installed package can be loaded from final location ** testing if installed package keeps a record of temporary installation path * DONE (flowBin)
flowBin.Rcheck/flowBin-Ex.timings
| name | user | system | elapsed | |
| checkQNorm | 0.424 | 0.013 | 0.437 | |
| flowBin | 4.903 | 0.012 | 4.916 | |
| flowFPBin | 0.256 | 0.000 | 0.257 | |
| getBinExpr | 4.768 | 0.008 | 4.776 | |
| kMeansBin | 0.304 | 0.012 | 0.316 | |
| mapBinsKNN | 0.158 | 0.008 | 0.166 | |
| quantileNormalise | 0.325 | 0.012 | 0.337 | |