| Back to Multiple platform build/check report for BioC 3.18: simplified long |
|
This page was generated on 2023-11-02 11:40:39 -0400 (Thu, 02 Nov 2023).
| Hostname | OS | Arch (*) | R version | Installed pkgs |
|---|---|---|---|---|
| nebbiolo2 | Linux (Ubuntu 22.04.2 LTS) | x86_64 | 4.3.1 (2023-06-16) -- "Beagle Scouts" | 4729 |
| palomino4 | Windows Server 2022 Datacenter | x64 | 4.3.1 (2023-06-16 ucrt) -- "Beagle Scouts" | 4463 |
| lconway | macOS 12.6.5 Monterey | x86_64 | 4.3.1 Patched (2023-06-17 r84564) -- "Beagle Scouts" | 4478 |
| kunpeng2 | Linux (openEuler 22.03 LTS-SP1) | aarch64 | 4.3.1 (2023-06-16) -- "Beagle Scouts" | 4464 |
| Click on any hostname to see more info about the system (e.g. compilers) (*) as reported by 'uname -p', except on Windows and Mac OS X | ||||
| Package 645/2266 | Hostname | OS / Arch | INSTALL | BUILD | CHECK | BUILD BIN | ||||||||
| ensembldb 2.26.0 (landing page) Johannes Rainer
| nebbiolo2 | Linux (Ubuntu 22.04.2 LTS) / x86_64 | OK | OK | OK | |||||||||
| palomino4 | Windows Server 2022 Datacenter / x64 | OK | OK | OK | OK | |||||||||
| lconway | macOS 12.6.5 Monterey / x86_64 | OK | OK | OK | OK | |||||||||
| kjohnson1 | macOS 13.6.1 Ventura / arm64 | see weekly results here | ||||||||||||
| kunpeng2 | Linux (openEuler 22.03 LTS-SP1) / aarch64 | OK | OK | OK | ||||||||||
|
To the developers/maintainers of the ensembldb package: - Allow up to 24 hours (and sometimes 48 hours) for your latest push to git@git.bioconductor.org:packages/ensembldb.git to reflect on this report. See Troubleshooting Build Report for more information. - Use the following Renviron settings to reproduce errors and warnings. - If 'R CMD check' started to fail recently on the Linux builder(s) over a missing dependency, add the missing dependency to 'Suggests:' in your DESCRIPTION file. See Renviron.bioc for more information. - See Martin Grigorov's blog post for how to debug Linux ARM64 related issues on a x86_64 host. |
| Package: ensembldb |
| Version: 2.26.0 |
| Command: /home/biocbuild/R/R-4.3.1/bin/R CMD check --install=check:ensembldb.install-out.txt --library=/home/biocbuild/R/R-4.3.1/site-library --no-vignettes --timings ensembldb_2.26.0.tar.gz |
| StartedAt: 2023-11-02 10:15:21 -0000 (Thu, 02 Nov 2023) |
| EndedAt: 2023-11-02 10:28:02 -0000 (Thu, 02 Nov 2023) |
| EllapsedTime: 761.0 seconds |
| RetCode: 0 |
| Status: OK |
| CheckDir: ensembldb.Rcheck |
| Warnings: 0 |
##############################################################################
##############################################################################
###
### Running command:
###
### /home/biocbuild/R/R-4.3.1/bin/R CMD check --install=check:ensembldb.install-out.txt --library=/home/biocbuild/R/R-4.3.1/site-library --no-vignettes --timings ensembldb_2.26.0.tar.gz
###
##############################################################################
##############################################################################
* using log directory ‘/home/biocbuild/bbs-3.18-bioc/meat/ensembldb.Rcheck’
* using R version 4.3.1 (2023-06-16)
* using platform: aarch64-unknown-linux-gnu (64-bit)
* R was compiled by
gcc (GCC) 10.3.1
GNU Fortran (GCC) 10.3.1
* running under: openEuler 22.03 (LTS-SP1)
* using session charset: UTF-8
* using option ‘--no-vignettes’
* checking for file ‘ensembldb/DESCRIPTION’ ... OK
* checking extension type ... Package
* this is package ‘ensembldb’ version ‘2.26.0’
* checking package namespace information ... OK
* checking package dependencies ... OK
* checking if this is a source package ... OK
* checking if there is a namespace ... OK
* checking for hidden files and directories ... OK
* checking for portable file names ... OK
* checking for sufficient/correct file permissions ... OK
* checking whether package ‘ensembldb’ can be installed ... OK
* checking installed package size ... OK
* checking package directory ... OK
* checking ‘build’ directory ... OK
* checking DESCRIPTION meta-information ... OK
* checking top-level files ... OK
* checking for left-over files ... OK
* checking index information ... OK
* checking package subdirectories ... OK
* checking R files for non-ASCII characters ... OK
* checking R files for syntax errors ... OK
* checking whether the package can be loaded ... OK
* checking whether the package can be loaded with stated dependencies ... OK
* checking whether the package can be unloaded cleanly ... OK
* checking whether the namespace can be loaded with stated dependencies ... OK
* checking whether the namespace can be unloaded cleanly ... OK
* checking loading without being on the library search path ... OK
* checking startup messages can be suppressed ... OK
* checking dependencies in R code ... OK
* checking S3 generic/method consistency ... OK
* checking replacement functions ... OK
* checking foreign function calls ... OK
* checking R code for possible problems ... OK
* checking Rd files ... OK
* checking Rd metadata ... OK
* checking Rd cross-references ... OK
* checking for missing documentation entries ... OK
* checking for code/documentation mismatches ... OK
* checking Rd \usage sections ... OK
* checking Rd contents ... OK
* checking for unstated dependencies in examples ... OK
* checking files in ‘vignettes’ ... OK
* checking examples ... OK
Examples with CPU (user + system) or elapsed time > 5s
user system elapsed
EnsDb-exonsBy 2.578 2.259 10.366
Filter-classes 2.393 1.470 7.994
genomeToTranscript 2.163 0.849 7.603
* checking for unstated dependencies in ‘tests’ ... OK
* checking tests ...
Running ‘testthat.R’
OK
* checking for unstated dependencies in vignettes ... OK
* checking package vignettes in ‘inst/doc’ ... OK
* checking running R code from vignettes ... SKIPPED
* checking re-building of vignette outputs ... SKIPPED
* checking PDF version of manual ... OK
* DONE
Status: OK
ensembldb.Rcheck/00install.out
############################################################################## ############################################################################## ### ### Running command: ### ### /home/biocbuild/R/R-4.3.1/bin/R CMD INSTALL ensembldb ### ############################################################################## ############################################################################## * installing to library ‘/home/biocbuild/R/R-4.3.1/site-library’ * installing *source* package ‘ensembldb’ ... ** using staged installation ** R ** inst ** byte-compile and prepare package for lazy loading ** help *** installing help indices ** building package indices ** installing vignettes ** testing if installed package can be loaded from temporary location ** testing if installed package can be loaded from final location ** testing if installed package keeps a record of temporary installation path * DONE (ensembldb)
ensembldb.Rcheck/tests/testthat.Rout
R version 4.3.1 (2023-06-16) -- "Beagle Scouts"
Copyright (C) 2023 The R Foundation for Statistical Computing
Platform: aarch64-unknown-linux-gnu (64-bit)
R is free software and comes with ABSOLUTELY NO WARRANTY.
You are welcome to redistribute it under certain conditions.
Type 'license()' or 'licence()' for distribution details.
R is a collaborative project with many contributors.
Type 'contributors()' for more information and
'citation()' on how to cite R or R packages in publications.
Type 'demo()' for some demos, 'help()' for on-line help, or
'help.start()' for an HTML browser interface to help.
Type 'q()' to quit R.
> library(testthat)
> library(ensembldb)
Loading required package: BiocGenerics
Attaching package: 'BiocGenerics'
The following objects are masked from 'package:stats':
IQR, mad, sd, var, xtabs
The following objects are masked from 'package:base':
Filter, Find, Map, Position, Reduce, anyDuplicated, aperm, append,
as.data.frame, basename, cbind, colnames, dirname, do.call,
duplicated, eval, evalq, get, grep, grepl, intersect, is.unsorted,
lapply, mapply, match, mget, order, paste, pmax, pmax.int, pmin,
pmin.int, rank, rbind, rownames, sapply, setdiff, sort, table,
tapply, union, unique, unsplit, which.max, which.min
Loading required package: GenomicRanges
Loading required package: stats4
Loading required package: S4Vectors
Attaching package: 'S4Vectors'
The following object is masked from 'package:utils':
findMatches
The following objects are masked from 'package:base':
I, expand.grid, unname
Loading required package: IRanges
Loading required package: GenomeInfoDb
Loading required package: GenomicFeatures
Loading required package: AnnotationDbi
Loading required package: Biobase
Welcome to Bioconductor
Vignettes contain introductory material; view with
'browseVignettes()'. To cite Bioconductor, see
'citation("Biobase")', and for packages 'citation("pkgname")'.
Loading required package: AnnotationFilter
Attaching package: 'AnnotationFilter'
The following object is masked from 'package:testthat':
not
Attaching package: 'ensembldb'
The following object is masked from 'package:stats':
filter
> library(EnsDb.Hsapiens.v86)
> edb <- EnsDb.Hsapiens.v86
>
> test_check("ensembldb")
Creating package in /home/biocbuild/tmp/Rtmp22gauK/EnsDb.Hsapiens.v75
Comparing chromosome data:
Sequence names: (180) common, (0) only in x, (0) only in y.
Sequence lengths: (180) identical, (0) different.
Done. Result: OK
Comparing gene data:
gene IDs: (4045) common, (0) only in x, (0) only in y.
Sequence names: (4045) identical, (0) different.
Gene start coordinates: (4045) identical, (0) different.
Gene end coordinates: (4045) identical, (0) different.
Gene strand: (4045) identical, (0) different.
Gene names: (132) identical, (3913) different.
Entrezgene IDs: (4045) identical, (0) different.
Gene biotypes: (4045) identical, (0) different.
Done. Result: WARN
Comparing transcript data:
transcript IDs: (4045) common, (0) only in x, (0) only in y.
Transcript start coordinates: (4045) identical, (0) different.
Transcript end coordinates: (4045) identical, (0) different.
Transcript biotypes: (4045) identical, (0) different.
Common transcripts with defined CDS: (3996) common, (0) only in x, (0) only in y.
CDS start coordinates: (3996) identical, (0) different.
CDS end coordinates: (3996) identical, (0) different.
Associated gene IDs: (4045) identical, (0) different.
Done. Result: OK
Comparing exon data:
exon IDs: (4045) common, (0) only in x, (0) only in y.
Exon start coordinates: (4045) identical, (0) different.
Exon end coordinates: (4045) identical, (0) different.
Exon index in transcript models: (4045) identical, (0) different.
Done. Result: OK
Comparing metadata:
Ensembl versions match.
Genome builds match.
All differences: <name>: <value x> != <value y>
- Creation time : Thu Nov 2 10:24:25 2023 != Thu Nov 2 10:23:58 2023
- source_file : Devosia_geojensis.ASM96941v1.32.gtf.gz != Devosia_geojensis.ASM96941v1.32.gff3.gz
Done. Result: NOTE
Comparing chromosome data:
Sequence names: (180) common, (0) only in x, (0) only in y.
Sequence lengths: (180) identical, (0) different.
Done. Result: OK
Comparing gene data:
gene IDs: (4045) common, (0) only in x, (0) only in y.
Sequence names: (4045) identical, (0) different.
Gene start coordinates: (4045) identical, (0) different.
Gene end coordinates: (4045) identical, (0) different.
Gene strand: (4045) identical, (0) different.
Gene names: (132) identical, (3913) different.
Entrezgene IDs: (4045) identical, (0) different.
Gene biotypes: (4045) identical, (0) different.
Done. Result: WARN
Comparing transcript data:
transcript IDs: (4045) common, (0) only in x, (0) only in y.
Transcript start coordinates: (4045) identical, (0) different.
Transcript end coordinates: (4045) identical, (0) different.
Transcript biotypes: (4045) identical, (0) different.
Common transcripts with defined CDS: (3996) common, (0) only in x, (0) only in y.
CDS start coordinates: (3996) identical, (0) different.
CDS end coordinates: (3996) identical, (0) different.
Associated gene IDs: (4045) identical, (0) different.
Done. Result: OK
Comparing exon data:
exon IDs: (4045) common, (0) only in x, (0) only in y.
Exon start coordinates: (4045) identical, (0) different.
Exon end coordinates: (4045) identical, (0) different.
Exon index in transcript models: (4045) identical, (0) different.
Done. Result: OK
Comparing protein data:
protein IDs: (103725) common, (0) only in x, (0) only in y.
Transcript IDs: (103725) identical, (0) different.
Protein sequence: (103725) identical, (0) different.
Done. Result: OK
[ FAIL 0 | WARN 80 | SKIP 3 | PASS 1480 ]
══ Skipped tests (3) ═══════════════════════════════════════════════════════════
• empty test (3): 'test_Methods.R:129:1', 'test_Methods.R:273:1',
'test_seqLevelStyle.R:40:1'
[ FAIL 0 | WARN 80 | SKIP 3 | PASS 1480 ]
Warning message:
call dbDisconnect() when finished working with a connection
>
> proc.time()
user system elapsed
169.078 26.298 355.356
ensembldb.Rcheck/ensembldb-Ex.timings
| name | user | system | elapsed | |
| EnsDb-AnnotationDbi | 2.571 | 0.630 | 4.883 | |
| EnsDb-class | 1.914 | 0.156 | 2.158 | |
| EnsDb-exonsBy | 2.578 | 2.259 | 10.366 | |
| EnsDb-lengths | 1.243 | 0.096 | 1.350 | |
| EnsDb-seqlevels | 0.065 | 0.007 | 0.075 | |
| EnsDb-sequences | 0.016 | 0.000 | 0.015 | |
| EnsDb-utils | 0.332 | 0.001 | 0.370 | |
| EnsDb | 0.913 | 0.096 | 1.032 | |
| Filter-classes | 2.393 | 1.470 | 7.994 | |
| ProteinFunctionality | 0.090 | 0.006 | 0.111 | |
| cdsToTranscript | 2.134 | 0.955 | 4.868 | |
| convertFilter | 0.034 | 0.001 | 0.043 | |
| genomeToProtein | 2.456 | 0.195 | 2.845 | |
| genomeToTranscript | 2.163 | 0.849 | 7.603 | |
| global-filters | 0.143 | 0.005 | 0.239 | |
| hasProteinData-EnsDb-method | 0.016 | 0.000 | 0.016 | |
| listEnsDbs | 0.001 | 0.000 | 0.000 | |
| makeEnsemblDbPackage | 0.865 | 0.067 | 0.939 | |
| proteinToGenome | 2.798 | 0.164 | 4.042 | |
| proteinToTranscript | 1.134 | 0.058 | 1.236 | |
| transcriptToCds | 0.754 | 0.011 | 0.777 | |
| transcriptToGenome | 1.405 | 0.008 | 1.418 | |
| transcriptToProtein | 2.486 | 0.030 | 2.522 | |
| useMySQL-EnsDb-method | 0.013 | 0.003 | 0.017 | |