Back to Multiple platform build/check report for BioC 3.18: simplified long |
|
This page was generated on 2024-03-04 11:37:18 -0500 (Mon, 04 Mar 2024).
Hostname | OS | Arch (*) | R version | Installed pkgs |
---|---|---|---|---|
nebbiolo2 | Linux (Ubuntu 22.04.3 LTS) | x86_64 | 4.3.2 Patched (2023-11-13 r85521) -- "Eye Holes" | 4692 |
palomino4 | Windows Server 2022 Datacenter | x64 | 4.3.2 (2023-10-31 ucrt) -- "Eye Holes" | 4445 |
lconway | macOS 12.7.1 Monterey | x86_64 | 4.3.2 Patched (2023-11-01 r85457) -- "Eye Holes" | 4466 |
Click on any hostname to see more info about the system (e.g. compilers) (*) as reported by 'uname -p', except on Windows and Mac OS X |
Package 597/2266 | Hostname | OS / Arch | INSTALL | BUILD | CHECK | BUILD BIN | ||||||||
drawProteins 1.22.0 (landing page) Paul Brennan
| nebbiolo2 | Linux (Ubuntu 22.04.3 LTS) / x86_64 | OK | OK | ERROR | |||||||||
palomino4 | Windows Server 2022 Datacenter / x64 | OK | OK | ERROR | OK | |||||||||
lconway | macOS 12.7.1 Monterey / x86_64 | OK | OK | ERROR | OK | |||||||||
kjohnson1 | macOS 13.6.1 Ventura / arm64 | see weekly results here | ||||||||||||
To the developers/maintainers of the drawProteins package: - Allow up to 24 hours (and sometimes 48 hours) for your latest push to git@git.bioconductor.org:packages/drawProteins.git to reflect on this report. See Troubleshooting Build Report for more information. - Use the following Renviron settings to reproduce errors and warnings. - If 'R CMD check' started to fail recently on the Linux builder(s) over a missing dependency, add the missing dependency to 'Suggests:' in your DESCRIPTION file. See Renviron.bioc for more information. |
Package: drawProteins |
Version: 1.22.0 |
Command: /Library/Frameworks/R.framework/Resources/bin/R CMD check --install=check:drawProteins.install-out.txt --library=/Library/Frameworks/R.framework/Resources/library --no-vignettes --timings drawProteins_1.22.0.tar.gz |
StartedAt: 2024-03-03 20:18:51 -0500 (Sun, 03 Mar 2024) |
EndedAt: 2024-03-03 20:19:45 -0500 (Sun, 03 Mar 2024) |
EllapsedTime: 53.9 seconds |
RetCode: 1 |
Status: ERROR |
CheckDir: drawProteins.Rcheck |
Warnings: NA |
############################################################################## ############################################################################## ### ### Running command: ### ### /Library/Frameworks/R.framework/Resources/bin/R CMD check --install=check:drawProteins.install-out.txt --library=/Library/Frameworks/R.framework/Resources/library --no-vignettes --timings drawProteins_1.22.0.tar.gz ### ############################################################################## ############################################################################## * using log directory ‘/Users/biocbuild/bbs-3.18-bioc/meat/drawProteins.Rcheck’ * using R version 4.3.2 Patched (2023-11-01 r85457) * using platform: x86_64-apple-darwin20 (64-bit) * R was compiled by Apple clang version 14.0.3 (clang-1403.0.22.14.1) GNU Fortran (GCC) 12.2.0 * running under: macOS Monterey 12.7.1 * using session charset: UTF-8 * using option ‘--no-vignettes’ * checking for file ‘drawProteins/DESCRIPTION’ ... OK * this is package ‘drawProteins’ version ‘1.22.0’ * package encoding: UTF-8 * checking package namespace information ... OK * checking package dependencies ... OK * checking if this is a source package ... OK * checking if there is a namespace ... OK * checking for hidden files and directories ... OK * checking for portable file names ... OK * checking for sufficient/correct file permissions ... OK * checking whether package ‘drawProteins’ can be installed ... OK * checking installed package size ... OK * checking package directory ... OK * checking ‘build’ directory ... OK * checking DESCRIPTION meta-information ... OK * checking top-level files ... OK * checking for left-over files ... OK * checking index information ... OK * checking package subdirectories ... NOTE Problems with news in ‘NEWS’: Cannot process chunk/lines: CHANGES VERSION 0.98.1 * checking R files for non-ASCII characters ... OK * checking R files for syntax errors ... OK * checking whether the package can be loaded ... OK * checking whether the package can be loaded with stated dependencies ... OK * checking whether the package can be unloaded cleanly ... OK * checking whether the namespace can be loaded with stated dependencies ... OK * checking whether the namespace can be unloaded cleanly ... OK * checking dependencies in R code ... OK * checking S3 generic/method consistency ... OK * checking replacement functions ... OK * checking foreign function calls ... OK * checking R code for possible problems ... OK * checking Rd files ... OK * checking Rd metadata ... OK * checking Rd cross-references ... OK * checking for missing documentation entries ... OK * checking for code/documentation mismatches ... OK * checking Rd \usage sections ... OK * checking Rd contents ... OK * checking for unstated dependencies in examples ... OK * checking contents of ‘data’ directory ... OK * checking data for non-ASCII characters ... OK * checking LazyData ... OK * checking data for ASCII and uncompressed saves ... OK * checking files in ‘vignettes’ ... OK * checking examples ... OK * checking for unstated dependencies in ‘tests’ ... OK * checking tests ... Running ‘testthat.R’ ERROR Running the tests in ‘tests/testthat.R’ failed. Last 13 lines of output: length(p) not equal to 9. 1/1 mismatches [1] 11 - 9 == 2 ── Failure ('test-parsers.R:31:3'): parse_gff ────────────────────────────────── length(p) not equal to 9. 1/1 mismatches [1] 11 - 9 == 2 ── Failure ('test-parsers.R:79:3'): parse_gff ────────────────────────────────── length(p) not equal to 9. 1/1 mismatches [1] 11 - 9 == 2 [ FAIL 12 | WARN 1 | SKIP 0 | PASS 171 ] Error: Test failures Execution halted * checking for unstated dependencies in vignettes ... OK * checking package vignettes in ‘inst/doc’ ... OK * checking running R code from vignettes ... SKIPPED * checking re-building of vignette outputs ... SKIPPED * checking PDF version of manual ... OK * DONE Status: 1 ERROR, 1 NOTE See ‘/Users/biocbuild/bbs-3.18-bioc/meat/drawProteins.Rcheck/00check.log’ for details.
drawProteins.Rcheck/00install.out
############################################################################## ############################################################################## ### ### Running command: ### ### /Library/Frameworks/R.framework/Resources/bin/R CMD INSTALL drawProteins ### ############################################################################## ############################################################################## * installing to library ‘/Library/Frameworks/R.framework/Versions/4.3-x86_64/Resources/library’ * installing *source* package ‘drawProteins’ ... ** using staged installation ** R ** data *** moving datasets to lazyload DB ** inst ** byte-compile and prepare package for lazy loading ** help *** installing help indices ** building package indices ** installing vignettes ** testing if installed package can be loaded from temporary location ** testing if installed package can be loaded from final location ** testing if installed package keeps a record of temporary installation path * DONE (drawProteins)
drawProteins.Rcheck/tests/testthat.Rout.fail
R version 4.3.2 Patched (2023-11-01 r85457) -- "Eye Holes" Copyright (C) 2023 The R Foundation for Statistical Computing Platform: x86_64-apple-darwin20 (64-bit) R is free software and comes with ABSOLUTELY NO WARRANTY. You are welcome to redistribute it under certain conditions. Type 'license()' or 'licence()' for distribution details. R is a collaborative project with many contributors. Type 'contributors()' for more information and 'citation()' on how to cite R or R packages in publications. Type 'demo()' for some demos, 'help()' for on-line help, or 'help.start()' for an HTML browser interface to help. Type 'q()' to quit R. > library(testthat) > library(drawProteins) > > test_check("drawProteins") [1] "Download has worked" [1] "An error has occured. Code: 400" [ FAIL 12 | WARN 1 | SKIP 0 | PASS 171 ] ══ Failed tests ════════════════════════════════════════════════════════════════ ── Failure ('test-geoms.R:19:3'): draw_canvas ────────────────────────────────── length(p) not equal to 9. 1/1 mismatches [1] 11 - 9 == 2 ── Failure ('test-geoms.R:48:3'): draw_chains ────────────────────────────────── length(p) not equal to 9. 1/1 mismatches [1] 11 - 9 == 2 ── Failure ('test-geoms.R:82:3'): draw_domains ───────────────────────────────── length(p) not equal to 9. 1/1 mismatches [1] 11 - 9 == 2 ── Failure ('test-geoms.R:120:3'): draw_phospho ──────────────────────────────── length(p) not equal to 9. 1/1 mismatches [1] 11 - 9 == 2 ── Failure ('test-geoms.R:154:3'): draw_motif ────────────────────────────────── length(p) not equal to 9. 1/1 mismatches [1] 11 - 9 == 2 ── Failure ('test-geoms.R:199:3'): draw_regions ──────────────────────────────── length(p) not equal to 9. 1/1 mismatches [1] 11 - 9 == 2 ── Failure ('test-geoms.R:245:3'): draw_repeat ───────────────────────────────── length(p) not equal to 9. 1/1 mismatches [1] 11 - 9 == 2 ── Failure ('test-geoms.R:289:3'): draw_recept_dom ───────────────────────────── length(p) not equal to 9. 1/1 mismatches [1] 11 - 9 == 2 ── Failure ('test-geoms.R:316:3'): draw_recept_dom ───────────────────────────── length(p) not equal to 9. 1/1 mismatches [1] 11 - 9 == 2 ── Failure ('test-geoms.R:374:3'): draw_folding ──────────────────────────────── length(p) not equal to 9. 1/1 mismatches [1] 11 - 9 == 2 ── Failure ('test-parsers.R:31:3'): parse_gff ────────────────────────────────── length(p) not equal to 9. 1/1 mismatches [1] 11 - 9 == 2 ── Failure ('test-parsers.R:79:3'): parse_gff ────────────────────────────────── length(p) not equal to 9. 1/1 mismatches [1] 11 - 9 == 2 [ FAIL 12 | WARN 1 | SKIP 0 | PASS 171 ] Error: Test failures Execution halted
drawProteins.Rcheck/drawProteins-Ex.timings
name | user | system | elapsed | |
draw_canvas | 0.210 | 0.015 | 0.227 | |
draw_chains | 0.312 | 0.010 | 0.325 | |
draw_domains | 0.323 | 0.005 | 0.331 | |
draw_folding | 0.507 | 0.005 | 0.513 | |
draw_motif | 0.206 | 0.004 | 0.210 | |
draw_phospho | 0.192 | 0.005 | 0.199 | |
draw_recept_dom | 0.358 | 0.005 | 0.365 | |
draw_regions | 0.273 | 0.006 | 0.281 | |
draw_repeat | 0.225 | 0.005 | 0.230 | |
extract_feat_acc | 0.011 | 0.002 | 0.013 | |
extract_names | 0.005 | 0.002 | 0.007 | |
extract_transcripts | 0.029 | 0.002 | 0.032 | |
feature_to_dataframe | 0.021 | 0.005 | 0.026 | |
get_features | 0.074 | 0.014 | 1.838 | |
parse_gff | 0.443 | 0.048 | 1.992 | |
phospho_site_info | 0.003 | 0.002 | 0.005 | |