| Back to Multiple platform build/check report for BioC 3.18: simplified long |
|
This page was generated on 2024-03-04 11:37:17 -0500 (Mon, 04 Mar 2024).
| Hostname | OS | Arch (*) | R version | Installed pkgs |
|---|---|---|---|---|
| nebbiolo2 | Linux (Ubuntu 22.04.3 LTS) | x86_64 | 4.3.2 Patched (2023-11-13 r85521) -- "Eye Holes" | 4692 |
| palomino4 | Windows Server 2022 Datacenter | x64 | 4.3.2 (2023-10-31 ucrt) -- "Eye Holes" | 4445 |
| lconway | macOS 12.7.1 Monterey | x86_64 | 4.3.2 Patched (2023-11-01 r85457) -- "Eye Holes" | 4466 |
| Click on any hostname to see more info about the system (e.g. compilers) (*) as reported by 'uname -p', except on Windows and Mac OS X | ||||
| Package 551/2266 | Hostname | OS / Arch | INSTALL | BUILD | CHECK | BUILD BIN | ||||||||
| destiny 3.16.0 (landing page) Philipp Angerer
| nebbiolo2 | Linux (Ubuntu 22.04.3 LTS) / x86_64 | OK | OK | OK | |||||||||
| palomino4 | Windows Server 2022 Datacenter / x64 | OK | OK | OK | OK | |||||||||
| lconway | macOS 12.7.1 Monterey / x86_64 | OK | OK | OK | OK | |||||||||
| kjohnson1 | macOS 13.6.1 Ventura / arm64 | see weekly results here | ||||||||||||
|
To the developers/maintainers of the destiny package: - Allow up to 24 hours (and sometimes 48 hours) for your latest push to git@git.bioconductor.org:packages/destiny.git to reflect on this report. See Troubleshooting Build Report for more information. - Use the following Renviron settings to reproduce errors and warnings. - If 'R CMD check' started to fail recently on the Linux builder(s) over a missing dependency, add the missing dependency to 'Suggests:' in your DESCRIPTION file. See Renviron.bioc for more information. |
| Package: destiny |
| Version: 3.16.0 |
| Command: rm -rf destiny.buildbin-libdir && mkdir destiny.buildbin-libdir && /Users/biocbuild/BBS/utils/build-universal.sh destiny_3.16.0.tar.gz /Library/Frameworks/R.framework/Resources/bin/R destiny.buildbin-libdir |
| StartedAt: 2024-03-04 00:38:02 -0500 (Mon, 04 Mar 2024) |
| EndedAt: 2024-03-04 00:39:17 -0500 (Mon, 04 Mar 2024) |
| EllapsedTime: 74.9 seconds |
| RetCode: 0 |
| Status: OK |
| PackageFile: destiny_3.16.0.tgz |
| PackageFileSize: 1.583 MiB |
##############################################################################
##############################################################################
###
### Running command:
###
### rm -rf destiny.buildbin-libdir && mkdir destiny.buildbin-libdir && /Users/biocbuild/BBS/utils/build-universal.sh destiny_3.16.0.tar.gz /Library/Frameworks/R.framework/Resources/bin/R destiny.buildbin-libdir
###
##############################################################################
##############################################################################
>>>>>>>
>>>>>>> INSTALLATION WITH 'R CMD INSTALL --preclean --no-multiarch --library=destiny.buildbin-libdir destiny_3.16.0.tar.gz'
>>>>>>>
* installing *source* package ‘destiny’ ...
** using staged installation
** libs
using C++ compiler: ‘Apple clang version 14.0.0 (clang-1400.0.29.202)’
using C++11
using SDK: ‘MacOSX11.3.sdk’
clang++ -arch x86_64 -std=gnu++11 -I"/Library/Frameworks/R.framework/Resources/include" -DNDEBUG -I'/Library/Frameworks/R.framework/Versions/4.3-x86_64/Resources/library/Rcpp/include' -I'/Library/Frameworks/R.framework/Versions/4.3-x86_64/Resources/library/RcppEigen/include' -I'/Library/Frameworks/R.framework/Versions/4.3-x86_64/Resources/library/grDevices/include' -I/opt/R/x86_64/include -ggdb -fPIC -falign-functions=64 -Wall -g -O2 -c RcppExports.cpp -o RcppExports.o
clang++ -arch x86_64 -std=gnu++11 -I"/Library/Frameworks/R.framework/Resources/include" -DNDEBUG -I'/Library/Frameworks/R.framework/Versions/4.3-x86_64/Resources/library/Rcpp/include' -I'/Library/Frameworks/R.framework/Versions/4.3-x86_64/Resources/library/RcppEigen/include' -I'/Library/Frameworks/R.framework/Versions/4.3-x86_64/Resources/library/grDevices/include' -I/opt/R/x86_64/include -ggdb -fPIC -falign-functions=64 -Wall -g -O2 -c censoring.cpp -o censoring.o
censoring.cpp:60:15: warning: variable 'm0' is used uninitialized whenever 'if' condition is false [-Wsometimes-uninitialized]
} else if (!one_uncertain && one_missing) {
^~~~~~~~~~~~~~~~~~~~~~~~~~~~~
censoring.cpp:71:20: note: uninitialized use occurs here
* ( std::erfc((m0-v) / sigma) - std::erfc((m1-v) / sigma) )
^~
censoring.cpp:60:11: note: remove the 'if' if its condition is always true
} else if (!one_uncertain && one_missing) {
^~~~~~~~~~~~~~~~~~~~~~~~~~~~~~~~~~~
censoring.cpp:60:15: warning: variable 'm0' is used uninitialized whenever '&&' condition is false [-Wsometimes-uninitialized]
} else if (!one_uncertain && one_missing) {
^~~~~~~~~~~~~~
censoring.cpp:71:20: note: uninitialized use occurs here
* ( std::erfc((m0-v) / sigma) - std::erfc((m1-v) / sigma) )
^~
censoring.cpp:60:15: note: remove the '&&' if its condition is always true
} else if (!one_uncertain && one_missing) {
^~~~~~~~~~~~~~~~~
censoring.cpp:55:13: note: initialize the variable 'm0' to silence this warning
double m0, m1;
^
= 0.0
censoring.cpp:60:15: warning: variable 'm1' is used uninitialized whenever 'if' condition is false [-Wsometimes-uninitialized]
} else if (!one_uncertain && one_missing) {
^~~~~~~~~~~~~~~~~~~~~~~~~~~~~
censoring.cpp:71:48: note: uninitialized use occurs here
* ( std::erfc((m0-v) / sigma) - std::erfc((m1-v) / sigma) )
^~
censoring.cpp:60:11: note: remove the 'if' if its condition is always true
} else if (!one_uncertain && one_missing) {
^~~~~~~~~~~~~~~~~~~~~~~~~~~~~~~~~~~
censoring.cpp:60:15: warning: variable 'm1' is used uninitialized whenever '&&' condition is false [-Wsometimes-uninitialized]
} else if (!one_uncertain && one_missing) {
^~~~~~~~~~~~~~
censoring.cpp:71:48: note: uninitialized use occurs here
* ( std::erfc((m0-v) / sigma) - std::erfc((m1-v) / sigma) )
^~
censoring.cpp:60:15: note: remove the '&&' if its condition is always true
} else if (!one_uncertain && one_missing) {
^~~~~~~~~~~~~~~~~
censoring.cpp:55:17: note: initialize the variable 'm1' to silence this warning
double m0, m1;
^
= 0.0
censoring.cpp:60:15: warning: variable 'use_d' is used uninitialized whenever 'if' condition is false [-Wsometimes-uninitialized]
} else if (!one_uncertain && one_missing) {
^~~~~~~~~~~~~~~~~~~~~~~~~~~~~
censoring.cpp:66:21: note: uninitialized use occurs here
const double v = use_d ? d : c;
^~~~~
censoring.cpp:60:11: note: remove the 'if' if its condition is always true
} else if (!one_uncertain && one_missing) {
^~~~~~~~~~~~~~~~~~~~~~~~~~~~~~~~~~~
censoring.cpp:60:15: warning: variable 'use_d' is used uninitialized whenever '&&' condition is false [-Wsometimes-uninitialized]
} else if (!one_uncertain && one_missing) {
^~~~~~~~~~~~~~
censoring.cpp:66:21: note: uninitialized use occurs here
const double v = use_d ? d : c;
^~~~~
censoring.cpp:60:15: note: remove the '&&' if its condition is always true
} else if (!one_uncertain && one_missing) {
^~~~~~~~~~~~~~~~~
censoring.cpp:18:12: note: initialize the variable 'use_d' to silence this warning
bool use_d;
^
= false
6 warnings generated.
clang++ -arch x86_64 -std=gnu++11 -I"/Library/Frameworks/R.framework/Resources/include" -DNDEBUG -I'/Library/Frameworks/R.framework/Versions/4.3-x86_64/Resources/library/Rcpp/include' -I'/Library/Frameworks/R.framework/Versions/4.3-x86_64/Resources/library/RcppEigen/include' -I'/Library/Frameworks/R.framework/Versions/4.3-x86_64/Resources/library/grDevices/include' -I/opt/R/x86_64/include -ggdb -fPIC -falign-functions=64 -Wall -g -O2 -c utils.cpp -o utils.o
clang++ -arch x86_64 -std=gnu++11 -dynamiclib -Wl,-headerpad_max_install_names -undefined dynamic_lookup -L/Library/Frameworks/R.framework/Resources/lib -L/opt/R/x86_64/lib -o destiny.so RcppExports.o censoring.o utils.o -F/Library/Frameworks/R.framework/.. -framework R -Wl,-framework -Wl,CoreFoundation
installing to /Users/biocbuild/bbs-3.18-bioc/meat/destiny.buildbin-libdir/00LOCK-destiny/00new/destiny/libs
** R
** data
** demo
** inst
** byte-compile and prepare package for lazy loading
** help
*** installing help indices
** building package indices
** installing vignettes
** testing if installed package can be loaded from temporary location
** checking absolute paths in shared objects and dynamic libraries
** testing if installed package can be loaded from final location
** testing if installed package keeps a record of temporary installation path
* DONE (destiny)
>>>>>>>
>>>>>>> FIXING PATHS TO DYNAMIC LIBRARIES FOR destiny.buildbin-libdir/destiny/libs/destiny.so
>>>>>>>
>>>>>>> Paths before fix:
destiny.buildbin-libdir/destiny/libs/destiny.so:
destiny.so (compatibility version 0.0.0, current version 0.0.0)
/Library/Frameworks/R.framework/Versions/4.3-x86_64/Resources/lib/libR.dylib (compatibility version 4.3.0, current version 4.3.2)
/System/Library/Frameworks/CoreFoundation.framework/Versions/A/CoreFoundation (compatibility version 150.0.0, current version 1775.118.101)
/usr/lib/libc++.1.dylib (compatibility version 1.0.0, current version 905.6.0)
/usr/lib/libSystem.B.dylib (compatibility version 1.0.0, current version 1292.100.5)
>>>>>>> Fix with install_name_tool:
install_name_tool -change "/usr/local/lib/libgcc_s.1.1.dylib" "/Library/Frameworks/R.framework/Versions/4.3-x86_64/Resources/lib/libgcc_s.1.1.dylib" "destiny.buildbin-libdir/destiny/libs/destiny.so"
install_name_tool -change "/usr/local/lib/libgfortran.5.dylib" "/Library/Frameworks/R.framework/Versions/4.3-x86_64/Resources/lib/libgfortran.5.dylib" "destiny.buildbin-libdir/destiny/libs/destiny.so"
install_name_tool -change "/usr/local/lib/libquadmath.0.dylib" "/Library/Frameworks/R.framework/Versions/4.3-x86_64/Resources/lib/libquadmath.0.dylib" "destiny.buildbin-libdir/destiny/libs/destiny.so"
>>>>>>> Paths after fix:
destiny.buildbin-libdir/destiny/libs/destiny.so:
destiny.so (compatibility version 0.0.0, current version 0.0.0)
/Library/Frameworks/R.framework/Versions/4.3-x86_64/Resources/lib/libR.dylib (compatibility version 4.3.0, current version 4.3.2)
/System/Library/Frameworks/CoreFoundation.framework/Versions/A/CoreFoundation (compatibility version 150.0.0, current version 1775.118.101)
/usr/lib/libc++.1.dylib (compatibility version 1.0.0, current version 905.6.0)
/usr/lib/libSystem.B.dylib (compatibility version 1.0.0, current version 1292.100.5)