| Back to Multiple platform build/check report for BioC 3.18: simplified long |
|
This page was generated on 2023-11-02 11:40:33 -0400 (Thu, 02 Nov 2023).
| Hostname | OS | Arch (*) | R version | Installed pkgs |
|---|---|---|---|---|
| nebbiolo2 | Linux (Ubuntu 22.04.2 LTS) | x86_64 | 4.3.1 (2023-06-16) -- "Beagle Scouts" | 4729 |
| palomino4 | Windows Server 2022 Datacenter | x64 | 4.3.1 (2023-06-16 ucrt) -- "Beagle Scouts" | 4463 |
| lconway | macOS 12.6.5 Monterey | x86_64 | 4.3.1 Patched (2023-06-17 r84564) -- "Beagle Scouts" | 4478 |
| kunpeng2 | Linux (openEuler 22.03 LTS-SP1) | aarch64 | 4.3.1 (2023-06-16) -- "Beagle Scouts" | 4464 |
| Click on any hostname to see more info about the system (e.g. compilers) (*) as reported by 'uname -p', except on Windows and Mac OS X | ||||
| Package 407/2266 | Hostname | OS / Arch | INSTALL | BUILD | CHECK | BUILD BIN | ||||||||
| comapr 1.6.1 (landing page) Ruqian Lyu
| nebbiolo2 | Linux (Ubuntu 22.04.2 LTS) / x86_64 | OK | OK | OK | |||||||||
| palomino4 | Windows Server 2022 Datacenter / x64 | OK | OK | OK | OK | |||||||||
| lconway | macOS 12.6.5 Monterey / x86_64 | OK | OK | OK | OK | |||||||||
| kjohnson1 | macOS 13.6.1 Ventura / arm64 | see weekly results here | ||||||||||||
| kunpeng2 | Linux (openEuler 22.03 LTS-SP1) / aarch64 | OK | OK | ERROR | ||||||||||
|
To the developers/maintainers of the comapr package: - Allow up to 24 hours (and sometimes 48 hours) for your latest push to git@git.bioconductor.org:packages/comapr.git to reflect on this report. See Troubleshooting Build Report for more information. - Use the following Renviron settings to reproduce errors and warnings. - If 'R CMD check' started to fail recently on the Linux builder(s) over a missing dependency, add the missing dependency to 'Suggests:' in your DESCRIPTION file. See Renviron.bioc for more information. - See Martin Grigorov's blog post for how to debug Linux ARM64 related issues on a x86_64 host. |
| Package: comapr |
| Version: 1.6.1 |
| Command: /home/biocbuild/R/R-4.3.1/bin/R CMD check --install=check:comapr.install-out.txt --library=/home/biocbuild/R/R-4.3.1/site-library --no-vignettes --timings comapr_1.6.1.tar.gz |
| StartedAt: 2023-11-02 09:29:06 -0000 (Thu, 02 Nov 2023) |
| EndedAt: 2023-11-02 09:37:59 -0000 (Thu, 02 Nov 2023) |
| EllapsedTime: 532.7 seconds |
| RetCode: 1 |
| Status: ERROR |
| CheckDir: comapr.Rcheck |
| Warnings: NA |
##############################################################################
##############################################################################
###
### Running command:
###
### /home/biocbuild/R/R-4.3.1/bin/R CMD check --install=check:comapr.install-out.txt --library=/home/biocbuild/R/R-4.3.1/site-library --no-vignettes --timings comapr_1.6.1.tar.gz
###
##############################################################################
##############################################################################
* using log directory ‘/home/biocbuild/bbs-3.18-bioc/meat/comapr.Rcheck’
* using R version 4.3.1 (2023-06-16)
* using platform: aarch64-unknown-linux-gnu (64-bit)
* R was compiled by
gcc (GCC) 10.3.1
GNU Fortran (GCC) 10.3.1
* running under: openEuler 22.03 (LTS-SP1)
* using session charset: UTF-8
* using option ‘--no-vignettes’
* checking for file ‘comapr/DESCRIPTION’ ... OK
* this is package ‘comapr’ version ‘1.6.1’
* package encoding: UTF-8
* checking package namespace information ... OK
* checking package dependencies ... OK
* checking if this is a source package ... OK
* checking if there is a namespace ... OK
* checking for hidden files and directories ... OK
* checking for portable file names ... OK
* checking for sufficient/correct file permissions ... OK
* checking whether package ‘comapr’ can be installed ... OK
* checking installed package size ... OK
* checking package directory ... OK
* checking ‘build’ directory ... OK
* checking DESCRIPTION meta-information ... OK
* checking top-level files ... OK
* checking for left-over files ... OK
* checking index information ... OK
* checking package subdirectories ... OK
* checking R files for non-ASCII characters ... OK
* checking R files for syntax errors ... OK
* checking whether the package can be loaded ... OK
* checking whether the package can be loaded with stated dependencies ... OK
* checking whether the package can be unloaded cleanly ... OK
* checking whether the namespace can be loaded with stated dependencies ... OK
* checking whether the namespace can be unloaded cleanly ... OK
* checking loading without being on the library search path ... OK
* checking dependencies in R code ... OK
* checking S3 generic/method consistency ... OK
* checking replacement functions ... OK
* checking foreign function calls ... OK
* checking R code for possible problems ... OK
* checking Rd files ... OK
* checking Rd metadata ... OK
* checking Rd cross-references ... OK
* checking for missing documentation entries ... OK
* checking for code/documentation mismatches ... OK
* checking Rd \usage sections ... OK
* checking Rd contents ... OK
* checking for unstated dependencies in examples ... OK
* checking contents of ‘data’ directory ... OK
* checking data for non-ASCII characters ... OK
* checking data for ASCII and uncompressed saves ... OK
* checking files in ‘vignettes’ ... OK
* checking examples ... OK
Examples with CPU (user + system) or elapsed time > 5s
user system elapsed
bootstrapDist 4.983 0.168 5.163
* checking for unstated dependencies in ‘tests’ ... OK
* checking tests ...
Running ‘testthat.R’/home/biocbuild/R/R-4.3.1/bin/BATCH: line 60: 842248 Killed ${R_HOME}/bin/R -f ${in} ${opts} ${R_BATCH_OPTIONS} > ${out} 2>&1
ERROR
Running the tests in ‘tests/testthat.R’ failed.
Complete output:
> library(testthat)
> library(comapr)
>
> test_check("comapr")
* checking for unstated dependencies in vignettes ... OK
* checking package vignettes in ‘inst/doc’ ... OK
* checking running R code from vignettes ... SKIPPED
* checking re-building of vignette outputs ... SKIPPED
* checking PDF version of manual ... OK
* DONE
Status: 1 ERROR
See
‘/home/biocbuild/bbs-3.18-bioc/meat/comapr.Rcheck/00check.log’
for details.
comapr.Rcheck/00install.out
############################################################################## ############################################################################## ### ### Running command: ### ### /home/biocbuild/R/R-4.3.1/bin/R CMD INSTALL comapr ### ############################################################################## ############################################################################## * installing to library ‘/home/biocbuild/R/R-4.3.1/site-library’ * installing *source* package ‘comapr’ ... ** using staged installation ** R ** data ** inst ** byte-compile and prepare package for lazy loading ** help *** installing help indices ** building package indices ** installing vignettes ** testing if installed package can be loaded from temporary location ** testing if installed package can be loaded from final location ** testing if installed package keeps a record of temporary installation path * DONE (comapr)
comapr.Rcheck/tests/testthat.Rout.fail
R version 4.3.1 (2023-06-16) -- "Beagle Scouts"
Copyright (C) 2023 The R Foundation for Statistical Computing
Platform: aarch64-unknown-linux-gnu (64-bit)
R is free software and comes with ABSOLUTELY NO WARRANTY.
You are welcome to redistribute it under certain conditions.
Type 'license()' or 'licence()' for distribution details.
R is a collaborative project with many contributors.
Type 'contributors()' for more information and
'citation()' on how to cite R or R packages in publications.
Type 'demo()' for some demos, 'help()' for on-line help, or
'help.start()' for an HTML browser interface to help.
Type 'q()' to quit R.
> library(testthat)
> library(comapr)
>
> test_check("comapr")
comapr.Rcheck/comapr-Ex.timings
| name | user | system | elapsed | |
| bootstrapDist | 4.983 | 0.168 | 5.163 | |
| calGeneticDist | 0.207 | 0.232 | 0.203 | |
| combineHapState | 2.108 | 0.310 | 2.435 | |
| correctGT | 0.010 | 0.001 | 0.013 | |
| countBinState | 0.459 | 0.060 | 1.474 | |
| countCOs | 0.693 | 0.088 | 0.786 | |
| countGT | 0.160 | 0.000 | 0.161 | |
| filterGT | 0.117 | 0.012 | 0.129 | |
| findDupSamples | 0.006 | 0.004 | 0.010 | |
| getAFTracks | 1.373 | 0.055 | 1.434 | |
| getCellAFTrack | 1.231 | 0.016 | 1.253 | |
| getCellCORange | 0.607 | 0.028 | 0.637 | |
| getCellDPTrack | 0.599 | 0.016 | 0.617 | |
| getDistortedMarkers | 0.435 | 0.000 | 0.436 | |
| getMeanDPTrack | 0.064 | 0.004 | 0.068 | |
| getSNPDensityTrack | 0.065 | 0.000 | 0.065 | |
| perCellChrQC | 0.053 | 0.004 | 0.057 | |
| perSegChrQC | 0.074 | 0.004 | 0.080 | |
| permuteDist | 0.032 | 0.000 | 0.033 | |
| plotCount | 0.946 | 0.015 | 0.983 | |
| plotGTFreq | 0.435 | 0.000 | 0.443 | |
| plotGeneticDist | 0.424 | 0.020 | 0.448 | |
| plotWholeGenome | 0.479 | 0.028 | 0.508 | |
| readColMM | 0.010 | 0.000 | 0.013 | |
| readHapState | 0.138 | 0.012 | 0.152 | |