Back to Multiple platform build/check report for BioC 3.18:   simplified   long
AB[C]DEFGHIJKLMNOPQRSTUVWXYZ

This page was generated on 2023-11-02 11:40:30 -0400 (Thu, 02 Nov 2023).

HostnameOSArch (*)R versionInstalled pkgs
nebbiolo2Linux (Ubuntu 22.04.2 LTS)x86_644.3.1 (2023-06-16) -- "Beagle Scouts" 4729
palomino4Windows Server 2022 Datacenterx644.3.1 (2023-06-16 ucrt) -- "Beagle Scouts" 4463
lconwaymacOS 12.6.5 Montereyx86_644.3.1 Patched (2023-06-17 r84564) -- "Beagle Scouts" 4478
kunpeng2Linux (openEuler 22.03 LTS-SP1)aarch644.3.1 (2023-06-16) -- "Beagle Scouts" 4464
Click on any hostname to see more info about the system (e.g. compilers)      (*) as reported by 'uname -p', except on Windows and Mac OS X

Package 295/2266HostnameOS / ArchINSTALLBUILDCHECKBUILD BIN
cellHTS2 2.66.0  (landing page)
Joseph Barry
Snapshot Date: 2023-11-01 14:05:06 -0400 (Wed, 01 Nov 2023)
git_url: https://git.bioconductor.org/packages/cellHTS2
git_branch: RELEASE_3_18
git_last_commit: 3fe8e7d
git_last_commit_date: 2023-10-24 09:38:36 -0400 (Tue, 24 Oct 2023)
nebbiolo2Linux (Ubuntu 22.04.2 LTS) / x86_64  OK    OK    WARNINGS  UNNEEDED, same version is already published
palomino4Windows Server 2022 Datacenter / x64  OK    OK    OK    OK  UNNEEDED, same version is already published
lconwaymacOS 12.6.5 Monterey / x86_64  OK    OK    OK    OK  UNNEEDED, same version is already published
kjohnson1macOS 13.6.1 Ventura / arm64see weekly results here
kunpeng2Linux (openEuler 22.03 LTS-SP1) / aarch64  OK    OK    OK  

CHECK results for cellHTS2 on kunpeng2


To the developers/maintainers of the cellHTS2 package:
- Allow up to 24 hours (and sometimes 48 hours) for your latest push to git@git.bioconductor.org:packages/cellHTS2.git to reflect on this report. See Troubleshooting Build Report for more information.
- Use the following Renviron settings to reproduce errors and warnings.
- If 'R CMD check' started to fail recently on the Linux builder(s) over a missing dependency, add the missing dependency to 'Suggests:' in your DESCRIPTION file. See Renviron.bioc for more information.
- See Martin Grigorov's blog post for how to debug Linux ARM64 related issues on a x86_64 host.

raw results


Summary

Package: cellHTS2
Version: 2.66.0
Command: /home/biocbuild/R/R-4.3.1/bin/R CMD check --install=check:cellHTS2.install-out.txt --library=/home/biocbuild/R/R-4.3.1/site-library --no-vignettes --timings cellHTS2_2.66.0.tar.gz
StartedAt: 2023-11-02 09:05:07 -0000 (Thu, 02 Nov 2023)
EndedAt: 2023-11-02 09:10:40 -0000 (Thu, 02 Nov 2023)
EllapsedTime: 332.5 seconds
RetCode: 0
Status:   OK  
CheckDir: cellHTS2.Rcheck
Warnings: 0

Command output

##############################################################################
##############################################################################
###
### Running command:
###
###   /home/biocbuild/R/R-4.3.1/bin/R CMD check --install=check:cellHTS2.install-out.txt --library=/home/biocbuild/R/R-4.3.1/site-library --no-vignettes --timings cellHTS2_2.66.0.tar.gz
###
##############################################################################
##############################################################################


* using log directory ‘/home/biocbuild/bbs-3.18-bioc/meat/cellHTS2.Rcheck’
* using R version 4.3.1 (2023-06-16)
* using platform: aarch64-unknown-linux-gnu (64-bit)
* R was compiled by
    gcc (GCC) 10.3.1
    GNU Fortran (GCC) 10.3.1
* running under: openEuler 22.03 (LTS-SP1)
* using session charset: UTF-8
* using option ‘--no-vignettes’
* checking for file ‘cellHTS2/DESCRIPTION’ ... OK
* this is package ‘cellHTS2’ version ‘2.66.0’
* checking package namespace information ... OK
* checking package dependencies ... NOTE
Depends: includes the non-default packages:
  'RColorBrewer', 'Biobase', 'genefilter', 'splots', 'vsn', 'hwriter',
  'locfit', 'grid'
Adding so many packages to the search path is excessive and importing
selectively is preferable.
* checking if this is a source package ... OK
* checking if there is a namespace ... OK
* checking for hidden files and directories ... OK
* checking for portable file names ... OK
* checking for sufficient/correct file permissions ... OK
* checking whether package ‘cellHTS2’ can be installed ... OK
* checking installed package size ... OK
* checking package directory ... OK
* checking ‘build’ directory ... OK
* checking DESCRIPTION meta-information ... OK
* checking top-level files ... OK
* checking for left-over files ... OK
* checking index information ... OK
* checking package subdirectories ... OK
* checking R files for non-ASCII characters ... OK
* checking R files for syntax errors ... OK
* checking whether the package can be loaded ... OK
* checking whether the package can be loaded with stated dependencies ... OK
* checking whether the package can be unloaded cleanly ... OK
* checking whether the namespace can be loaded with stated dependencies ... OK
* checking whether the namespace can be unloaded cleanly ... OK
* checking loading without being on the library search path ... OK
* checking startup messages can be suppressed ... OK
* checking dependencies in R code ... NOTE
Package in Depends field not imported from: ‘genefilter’
  These packages need to be imported from (in the NAMESPACE file)
  for when this namespace is loaded but not attached.
Unexported object imported by a ':::' call: ‘Biobase:::.showAnnotatedDataFrame’
  See the note in ?`:::` about the use of this operator.
* checking S3 generic/method consistency ... OK
* checking replacement functions ... OK
* checking foreign function calls ... OK
* checking R code for possible problems ... NOTE
plotPlate: no visible global function definition for ‘dev.cur’
plotPlate: no visible global function definition for ‘plot.new’
Undefined global functions or variables:
  dev.cur plot.new
Consider adding
  importFrom("grDevices", "dev.cur")
  importFrom("graphics", "plot.new")
to your NAMESPACE file.
* checking Rd files ... OK
* checking Rd metadata ... OK
* checking Rd cross-references ... NOTE
Unknown packages ‘cellHTS’, ‘prada’ in Rd xrefs
* checking for missing documentation entries ... OK
* checking for code/documentation mismatches ... OK
* checking Rd \usage sections ... OK
* checking Rd contents ... OK
* checking for unstated dependencies in examples ... OK
* checking contents of ‘data’ directory ... OK
* checking data for non-ASCII characters ... OK
* checking data for ASCII and uncompressed saves ... OK
* checking files in ‘vignettes’ ... OK
* checking examples ... OK
* checking for unstated dependencies in ‘tests’ ... OK
* checking tests ...
  Running ‘test.R’
 OK
* checking for unstated dependencies in vignettes ... OK
* checking package vignettes in ‘inst/doc’ ... OK
* checking running R code from vignettes ... SKIPPED
* checking re-building of vignette outputs ... SKIPPED
* checking PDF version of manual ... OK
* DONE

Status: 4 NOTEs
See
  ‘/home/biocbuild/bbs-3.18-bioc/meat/cellHTS2.Rcheck/00check.log’
for details.



Installation output

cellHTS2.Rcheck/00install.out

##############################################################################
##############################################################################
###
### Running command:
###
###   /home/biocbuild/R/R-4.3.1/bin/R CMD INSTALL cellHTS2
###
##############################################################################
##############################################################################


* installing to library ‘/home/biocbuild/R/R-4.3.1/site-library’
* installing *source* package ‘cellHTS2’ ...
** using staged installation
** R
** data
** inst
** byte-compile and prepare package for lazy loading
** help
*** installing help indices
** building package indices
** installing vignettes
** testing if installed package can be loaded from temporary location
** testing if installed package can be loaded from final location
** testing if installed package keeps a record of temporary installation path
* DONE (cellHTS2)

Tests output

cellHTS2.Rcheck/tests/test.Rout


R version 4.3.1 (2023-06-16) -- "Beagle Scouts"
Copyright (C) 2023 The R Foundation for Statistical Computing
Platform: aarch64-unknown-linux-gnu (64-bit)

R is free software and comes with ABSOLUTELY NO WARRANTY.
You are welcome to redistribute it under certain conditions.
Type 'license()' or 'licence()' for distribution details.

R is a collaborative project with many contributors.
Type 'contributors()' for more information and
'citation()' on how to cite R or R packages in publications.

Type 'demo()' for some demos, 'help()' for on-line help, or
'help.start()' for an HTML browser interface to help.
Type 'q()' to quit R.

> ## cat tests/test.R | R --vanilla
> ## cellHTS2 crash test on various conditions
> library(cellHTS2)
Loading required package: RColorBrewer
Loading required package: Biobase
Loading required package: BiocGenerics

Attaching package: 'BiocGenerics'

The following objects are masked from 'package:stats':

    IQR, mad, sd, var, xtabs

The following objects are masked from 'package:base':

    Filter, Find, Map, Position, Reduce, anyDuplicated, aperm, append,
    as.data.frame, basename, cbind, colnames, dirname, do.call,
    duplicated, eval, evalq, get, grep, grepl, intersect, is.unsorted,
    lapply, mapply, match, mget, order, paste, pmax, pmax.int, pmin,
    pmin.int, rank, rbind, rownames, sapply, setdiff, sort, table,
    tapply, union, unique, unsplit, which.max, which.min

Welcome to Bioconductor

    Vignettes contain introductory material; view with
    'browseVignettes()'. To cite Bioconductor, see
    'citation("Biobase")', and for packages 'citation("pkgname")'.

Loading required package: genefilter
Loading required package: splots
Loading required package: vsn
Loading required package: hwriter
Loading required package: locfit
locfit 1.5-9.8 	 2023-06-11
Loading required package: grid
> path <- system.file("testscreen", package="cellHTS2")
> 
> testPlatelist=function(platelist, normalize=TRUE)
+ {
+     x <- readPlateList(platelist, name="test", path=path)
+     x <- configure(x, descripFile="description.txt", confFile="plateconf.txt",
+                    logFile="screenlog.txt", path=path)
+     
+     if (normalize)
+     {
+         ## normalize results
+         xn <- normalizePlates(x, scale="multiplicative", log=FALSE, method="median",
+                               varianceAdjust="none")
+         
+         ## score and summarize replicates
+         xsc <- scoreReplicates(xn, sign="-", method="zscore")
+         xsc <- summarizeReplicates(xsc, summary="mean")
+     }
+     
+     ## write reports
+     outdir <- file.path(tempdir(),platelist,'raw')
+     mainScriptFile <-  system.file("scripts/dummy.R", package="cellHTS2")
+     writeReport(raw=x, force=TRUE, plotPlateArgs = TRUE,imageScreenArgs = list(zrange=c( -4, 8), ar=1),
+                 map=TRUE, outdir=outdir, mainScriptFile=mainScriptFile)
+     if (interactive()) browseURL(file.path(outdir,'index.html'))
+     if (normalize)
+     {
+         outdir <- file.path(tempdir(),platelist,'norm')
+         writeReport(raw=x, normalized=xn, scored=xsc, force=TRUE, plotPlateArgs = TRUE,
+                     imageScreenArgs = list(zrange=c( -4, 8), ar=1), map=TRUE, outdir=outdir,
+                     mainScriptFile=mainScriptFile)
+         if (interactive()) browseURL(file.path(outdir,'index.html'))
+     }
+ }
> 
> ######
> ## 2 plates, 2 replicates, 1 channel
> testPlatelist('platelist221.txt')
cellHTS2 is busy creating HTML pages for 'test'. 
Found raw data.
State:
configured=TRUE, annotated=FALSE

0% done (step 1 of 6)
33% done (step 2 of 6)
38% done (step 3 of 6)
42% done (step 3 of 6)
52% done (step 4 of 6)
88% done (step 5 of 6)
100% done (step 5 of 6)
100% done (step 5 of 6)
100% done (step 6 of 6)
Report was successfully generated in folder /home/biocbuild/tmp/Rtmp2cnxLz/platelist221.txt/raw/index.html
cellHTS2 is busy creating HTML pages for 'test'. 
Found raw, normalized and scored data.
State:
configured=TRUE, annotated=FALSE

0% done (step 1 of 8)
17% done (step 2 of 8)
19% done (step 3 of 8)
22% done (step 3 of 8)
27% done (step 4 of 8)
46% done (step 5 of 8)
92% done (step 6 of 8)
94% done (step 7 of 8)
100% done (step 8 of 8)
Report was successfully generated in folder /home/biocbuild/tmp/Rtmp2cnxLz/platelist221.txt/norm/index.html
Warning messages:
1: The plotPlateArgs argument is deprecated. Please use the settings infrastructure as explained in '?setSettings'. 
2: The imageScreenArgs argument is deprecated. Please use the settings infrastructure as explained in '?setSettings'. 
3: The function splots::plotScreen is obsolete, please use ggplot with geom_raster and facet_wrap instead, as described in the vignette of the splots package 
4: The function splots::plotScreen is obsolete, please use ggplot with geom_raster and facet_wrap instead, as described in the vignette of the splots package 
5: The plotPlateArgs argument is deprecated. Please use the settings infrastructure as explained in '?setSettings'. 
6: The imageScreenArgs argument is deprecated. Please use the settings infrastructure as explained in '?setSettings'. 
7: The function splots::plotScreen is obsolete, please use ggplot with geom_raster and facet_wrap instead, as described in the vignette of the splots package 
8: The function splots::plotScreen is obsolete, please use ggplot with geom_raster and facet_wrap instead, as described in the vignette of the splots package 
9: In sprintf("Left: raw, right: normalized", r) :
  one argument not used by format 'Left: raw, right: normalized'
10: In sprintf("Left: raw, right: normalized", r) :
  one argument not used by format 'Left: raw, right: normalized'
> 
> ######
> ## 2 plates, 1 replicate, 2 channels
> testPlatelist('platelist212.txt', normalize=FALSE)
cellHTS2 is busy creating HTML pages for 'test'. 
Found raw data.
State:
configured=TRUE, annotated=FALSE

0% done (step 1 of 6)
33% done (step 2 of 6)
38% done (step 3 of 6)
42% done (step 3 of 6)
52% done (step 4 of 6)
88% done (step 5 of 6)
100% done (step 5 of 6)
100% done (step 5 of 6)
100% done (step 6 of 6)
Report was successfully generated in folder /home/biocbuild/tmp/Rtmp2cnxLz/platelist212.txt/raw/index.html
Warning messages:
1: The plotPlateArgs argument is deprecated. Please use the settings infrastructure as explained in '?setSettings'. 
2: The imageScreenArgs argument is deprecated. Please use the settings infrastructure as explained in '?setSettings'. 
3: The function splots::plotScreen is obsolete, please use ggplot with geom_raster and facet_wrap instead, as described in the vignette of the splots package 
4: The function splots::plotScreen is obsolete, please use ggplot with geom_raster and facet_wrap instead, as described in the vignette of the splots package 
> 
> ######
> ## 2 plates, 1 replicate, 3 channels
> testPlatelist('platelist213.txt', normalize=FALSE)
cellHTS2 is busy creating HTML pages for 'test'. 
Found raw data.
State:
configured=TRUE, annotated=FALSE

0% done (step 1 of 6)
26% done (step 2 of 6)
31% done (step 3 of 6)
37% done (step 3 of 6)
48% done (step 4 of 6)
91% done (step 5 of 6)
100% done (step 5 of 6)
100% done (step 5 of 6)
100% done (step 6 of 6)
Report was successfully generated in folder /home/biocbuild/tmp/Rtmp2cnxLz/platelist213.txt/raw/index.html
Warning messages:
1: The plotPlateArgs argument is deprecated. Please use the settings infrastructure as explained in '?setSettings'. 
2: The imageScreenArgs argument is deprecated. Please use the settings infrastructure as explained in '?setSettings'. 
3: The function splots::plotScreen is obsolete, please use ggplot with geom_raster and facet_wrap instead, as described in the vignette of the splots package 
4: The function splots::plotScreen is obsolete, please use ggplot with geom_raster and facet_wrap instead, as described in the vignette of the splots package 
> 
> ######
> ## 2 plates, 2 replicates, 2 channels
> testPlatelist('platelist222.txt', normalize=FALSE)
cellHTS2 is busy creating HTML pages for 'test'. 
Found raw data.
State:
configured=TRUE, annotated=FALSE

0% done (step 1 of 6)
21% done (step 2 of 6)
27% done (step 3 of 6)
33% done (step 3 of 6)
46% done (step 4 of 6)
92% done (step 5 of 6)
100% done (step 5 of 6)
100% done (step 5 of 6)
100% done (step 6 of 6)
Report was successfully generated in folder /home/biocbuild/tmp/Rtmp2cnxLz/platelist222.txt/raw/index.html
Warning messages:
1: The plotPlateArgs argument is deprecated. Please use the settings infrastructure as explained in '?setSettings'. 
2: The imageScreenArgs argument is deprecated. Please use the settings infrastructure as explained in '?setSettings'. 
3: The function splots::plotScreen is obsolete, please use ggplot with geom_raster and facet_wrap instead, as described in the vignette of the splots package 
4: The function splots::plotScreen is obsolete, please use ggplot with geom_raster and facet_wrap instead, as described in the vignette of the splots package 
> 
> ######
> ## 2 plates, 1 replicates, 1 channel
> testPlatelist('platelist211.txt')
cellHTS2 is busy creating HTML pages for 'test'. 
Found raw data.
State:
configured=TRUE, annotated=FALSE

0% done (step 1 of 6)
46% done (step 2 of 6)
49% done (step 3 of 6)
52% done (step 3 of 6)
59% done (step 4 of 6)
84% done (step 5 of 6)
100% done (step 5 of 6)
100% done (step 5 of 6)
100% done (step 6 of 6)
Report was successfully generated in folder /home/biocbuild/tmp/Rtmp2cnxLz/platelist211.txt/raw/index.html
cellHTS2 is busy creating HTML pages for 'test'. 
Found raw, normalized and scored data.
State:
configured=TRUE, annotated=FALSE

0% done (step 1 of 8)
28% done (step 2 of 8)
30% done (step 3 of 8)
31% done (step 3 of 8)
36% done (step 4 of 8)
51% done (step 5 of 8)
88% done (step 6 of 8)
90% done (step 7 of 8)
100% done (step 8 of 8)
Report was successfully generated in folder /home/biocbuild/tmp/Rtmp2cnxLz/platelist211.txt/norm/index.html
Warning messages:
1: The plotPlateArgs argument is deprecated. Please use the settings infrastructure as explained in '?setSettings'. 
2: The imageScreenArgs argument is deprecated. Please use the settings infrastructure as explained in '?setSettings'. 
3: The function splots::plotScreen is obsolete, please use ggplot with geom_raster and facet_wrap instead, as described in the vignette of the splots package 
4: The function splots::plotScreen is obsolete, please use ggplot with geom_raster and facet_wrap instead, as described in the vignette of the splots package 
5: The plotPlateArgs argument is deprecated. Please use the settings infrastructure as explained in '?setSettings'. 
6: The imageScreenArgs argument is deprecated. Please use the settings infrastructure as explained in '?setSettings'. 
7: The function splots::plotScreen is obsolete, please use ggplot with geom_raster and facet_wrap instead, as described in the vignette of the splots package 
8: The function splots::plotScreen is obsolete, please use ggplot with geom_raster and facet_wrap instead, as described in the vignette of the splots package 
9: In sprintf("Left: raw, right: normalized", r) :
  one argument not used by format 'Left: raw, right: normalized'
> 
> ######
> ## 2 plates, 3 replicates, 3 channels
> testPlatelist('platelist233.txt', normalize=FALSE)
cellHTS2 is busy creating HTML pages for 'test'. 
Found raw data.
State:
configured=TRUE, annotated=FALSE

0% done (step 1 of 6)
11% done (step 2 of 6)
18% done (step 3 of 6)
25% done (step 3 of 6)
40% done (step 4 of 6)
96% done (step 5 of 6)
100% done (step 5 of 6)
100% done (step 5 of 6)
100% done (step 6 of 6)
Report was successfully generated in folder /home/biocbuild/tmp/Rtmp2cnxLz/platelist233.txt/raw/index.html
Warning messages:
1: The plotPlateArgs argument is deprecated. Please use the settings infrastructure as explained in '?setSettings'. 
2: The imageScreenArgs argument is deprecated. Please use the settings infrastructure as explained in '?setSettings'. 
3: The function splots::plotScreen is obsolete, please use ggplot with geom_raster and facet_wrap instead, as described in the vignette of the splots package 
4: The function splots::plotScreen is obsolete, please use ggplot with geom_raster and facet_wrap instead, as described in the vignette of the splots package 
> 
> proc.time()
   user  system elapsed 
 34.834   0.925  35.934 

Example timings

cellHTS2.Rcheck/cellHTS2-Ex.timings

nameusersystemelapsed
Bscore3.4010.1513.559
ROC-class0.2870.0080.296
ROC1.1320.0321.167
annotate0.8780.0240.911
bdgpbiomart0.1920.0040.196
buildCellHTS20.3330.0120.346
cellHTS-class0.8420.0320.875
configurationAsScreenPlot1.2930.0001.295
configure0.7570.0080.767
convertOldCellHTS0.6990.0120.713
convertWellCoordinates0.0010.0000.001
data-KcViab0.1350.0000.134
data-KcViabSmall0.0100.0000.011
data-dualCh0.0070.0040.011
data-oldKcViabSmall0.010.000.01
getDynamicRange0.5790.0000.581
getEnVisionRawData0.0250.0000.026
getMeasureRepAgreement0.4840.0000.486
getTopTable1.2390.0161.258
getZfactor0.3280.0000.330
imageScreen1.0630.0041.070
normalizePlates1.4000.0201.423
oneRowPerId0.0040.0000.004
plotSpatialEffects1.8000.0041.809
readHTAnalystData0.8220.0000.827
readPlateList0.5480.0040.553
rsa0.8250.0040.830
scoreReplicates0.9610.0120.974
scores2calls1.0790.0001.081
setSettings0.0040.0000.004
spatialNormalization1.8220.0281.853
summarizeChannels1.9540.0161.974
summarizeReplicates0.9570.0080.967
templateDescriptionFile0.0010.0000.001
updateCellHTS0.0950.0000.095
write.tabdel0.0640.0000.065
writeReport0.010.000.01
writeTab0.0150.0000.016