Back to Multiple platform build/check report for BioC 3.18: simplified long |
|
This page was generated on 2023-11-02 11:40:29 -0400 (Thu, 02 Nov 2023).
Hostname | OS | Arch (*) | R version | Installed pkgs |
---|---|---|---|---|
nebbiolo2 | Linux (Ubuntu 22.04.2 LTS) | x86_64 | 4.3.1 (2023-06-16) -- "Beagle Scouts" | 4729 |
palomino4 | Windows Server 2022 Datacenter | x64 | 4.3.1 (2023-06-16 ucrt) -- "Beagle Scouts" | 4463 |
lconway | macOS 12.6.5 Monterey | x86_64 | 4.3.1 Patched (2023-06-17 r84564) -- "Beagle Scouts" | 4478 |
kunpeng2 | Linux (openEuler 22.03 LTS-SP1) | aarch64 | 4.3.1 (2023-06-16) -- "Beagle Scouts" | 4464 |
Click on any hostname to see more info about the system (e.g. compilers) (*) as reported by 'uname -p', except on Windows and Mac OS X |
Package 275/2266 | Hostname | OS / Arch | INSTALL | BUILD | CHECK | BUILD BIN | ||||||||
categoryCompare 1.46.0 (landing page) Robert M. Flight
| nebbiolo2 | Linux (Ubuntu 22.04.2 LTS) / x86_64 | OK | OK | OK | ![]() | ||||||||
palomino4 | Windows Server 2022 Datacenter / x64 | OK | OK | OK | OK | ![]() | ||||||||
lconway | macOS 12.6.5 Monterey / x86_64 | OK | OK | OK | OK | ![]() | ||||||||
kjohnson1 | macOS 13.6.1 Ventura / arm64 | see weekly results here | ||||||||||||
kunpeng2 | Linux (openEuler 22.03 LTS-SP1) / aarch64 | OK | OK | OK | ||||||||||
To the developers/maintainers of the categoryCompare package: - Allow up to 24 hours (and sometimes 48 hours) for your latest push to git@git.bioconductor.org:packages/categoryCompare.git to reflect on this report. See Troubleshooting Build Report for more information. - Use the following Renviron settings to reproduce errors and warnings. - If 'R CMD check' started to fail recently on the Linux builder(s) over a missing dependency, add the missing dependency to 'Suggests:' in your DESCRIPTION file. See Renviron.bioc for more information. - See Martin Grigorov's blog post for how to debug Linux ARM64 related issues on a x86_64 host. |
Package: categoryCompare |
Version: 1.46.0 |
Command: /home/biocbuild/R/R-4.3.1/bin/R CMD check --install=check:categoryCompare.install-out.txt --library=/home/biocbuild/R/R-4.3.1/site-library --no-vignettes --timings categoryCompare_1.46.0.tar.gz |
StartedAt: 2023-11-02 09:00:51 -0000 (Thu, 02 Nov 2023) |
EndedAt: 2023-11-02 09:05:07 -0000 (Thu, 02 Nov 2023) |
EllapsedTime: 255.6 seconds |
RetCode: 0 |
Status: OK |
CheckDir: categoryCompare.Rcheck |
Warnings: 0 |
############################################################################## ############################################################################## ### ### Running command: ### ### /home/biocbuild/R/R-4.3.1/bin/R CMD check --install=check:categoryCompare.install-out.txt --library=/home/biocbuild/R/R-4.3.1/site-library --no-vignettes --timings categoryCompare_1.46.0.tar.gz ### ############################################################################## ############################################################################## * using log directory ‘/home/biocbuild/bbs-3.18-bioc/meat/categoryCompare.Rcheck’ * using R version 4.3.1 (2023-06-16) * using platform: aarch64-unknown-linux-gnu (64-bit) * R was compiled by gcc (GCC) 10.3.1 GNU Fortran (GCC) 10.3.1 * running under: openEuler 22.03 (LTS-SP1) * using session charset: UTF-8 * using option ‘--no-vignettes’ * checking for file ‘categoryCompare/DESCRIPTION’ ... OK * this is package ‘categoryCompare’ version ‘1.46.0’ * checking package namespace information ... OK * checking package dependencies ... OK * checking if this is a source package ... OK * checking if there is a namespace ... OK * checking for hidden files and directories ... OK * checking for portable file names ... OK * checking for sufficient/correct file permissions ... OK * checking whether package ‘categoryCompare’ can be installed ... OK * checking installed package size ... OK * checking package directory ... OK * checking ‘build’ directory ... OK * checking DESCRIPTION meta-information ... OK * checking top-level files ... OK * checking for left-over files ... OK * checking index information ... OK * checking package subdirectories ... OK * checking R files for non-ASCII characters ... OK * checking R files for syntax errors ... OK * checking whether the package can be loaded ... OK * checking whether the package can be loaded with stated dependencies ... OK * checking whether the package can be unloaded cleanly ... OK * checking whether the namespace can be loaded with stated dependencies ... OK * checking whether the namespace can be unloaded cleanly ... OK * checking loading without being on the library search path ... OK * checking dependencies in R code ... OK * checking S3 generic/method consistency ... OK * checking replacement functions ... OK * checking foreign function calls ... OK * checking R code for possible problems ... NOTE .ccCompareGO: no visible binding for global variable ‘GOBPPARENTS’ .ccCompareGO: no visible binding for global variable ‘GOMFPARENTS’ .ccCompareGO: no visible binding for global variable ‘GOCCPARENTS’ .ccCompareGO: no visible binding for global variable ‘GOTERM’ .ccCompareGO: no visible binding for global variable ‘Term’ .cytOutNodes: ... may be used in an incorrect context: exportImage(filename = fileName, type = "png", network = cwObj, ...) .getDesc : <anonymous>: no visible global function definition for ‘Term’ show,HyperGResultCC: no visible global function definition for ‘description’ Undefined global functions or variables: GOBPPARENTS GOCCPARENTS GOMFPARENTS GOTERM Term description * checking Rd files ... OK * checking Rd metadata ... OK * checking Rd cross-references ... OK * checking for missing documentation entries ... OK * checking for code/documentation mismatches ... OK * checking Rd \usage sections ... OK * checking Rd contents ... OK * checking for unstated dependencies in examples ... OK * checking contents of ‘data’ directory ... OK * checking data for non-ASCII characters ... OK * checking data for ASCII and uncompressed saves ... OK * checking files in ‘vignettes’ ... OK * checking examples ... OK * checking for unstated dependencies in vignettes ... OK * checking package vignettes in ‘inst/doc’ ... OK * checking running R code from vignettes ... SKIPPED * checking re-building of vignette outputs ... SKIPPED * checking PDF version of manual ... OK * DONE Status: 1 NOTE See ‘/home/biocbuild/bbs-3.18-bioc/meat/categoryCompare.Rcheck/00check.log’ for details.
categoryCompare.Rcheck/00install.out
############################################################################## ############################################################################## ### ### Running command: ### ### /home/biocbuild/R/R-4.3.1/bin/R CMD INSTALL categoryCompare ### ############################################################################## ############################################################################## * installing to library ‘/home/biocbuild/R/R-4.3.1/site-library’ * installing *source* package ‘categoryCompare’ ... ** using staged installation ** R ** data ** inst ** byte-compile and prepare package for lazy loading Note: ... may be used in an incorrect context ** help *** installing help indices ** building package indices ** installing vignettes ** testing if installed package can be loaded from temporary location ** testing if installed package can be loaded from final location ** testing if installed package keeps a record of temporary installation path * DONE (categoryCompare)
categoryCompare.Rcheck/categoryCompare-Ex.timings
name | user | system | elapsed | |
GENccEnrichResult-class | 0.582 | 0.012 | 0.596 | |
HyperGParamsCC-class | 0.001 | 0.000 | 0.002 | |
HyperGResultCC-class | 0.001 | 0.000 | 0.000 | |
breakEdges-methods | 0.671 | 0.008 | 0.680 | |
ccCompare | 0.607 | 0.008 | 0.616 | |
ccCompareCollection-class | 0.001 | 0.000 | 0.000 | |
ccCompareResult-class | 0.001 | 0.000 | 0.000 | |
ccData | 0.660 | 0.008 | 0.669 | |
ccEnrich | 0.594 | 0.004 | 0.600 | |
ccEnrichCollection-class | 1.876 | 0.843 | 4.157 | |
ccEnrichResult-class | 2.957 | 0.095 | 3.094 | |
ccGeneList-class | 0.639 | 0.027 | 0.682 | |
ccOptions-class | 0.020 | 0.000 | 0.022 | |
ccOutCyt-methods | 0 | 0 | 0 | |
ccSigList-class | 0.000 | 0.000 | 0.001 | |
cytOutData-methods | 0.000 | 0.000 | 0.001 | |
cytOutNodes-methods | 0 | 0 | 0 | |
hyperGTestCC | 0.958 | 0.067 | 1.045 | |
mergeLists-methods | 1.290 | 0.028 | 1.337 | |
mergedData-class | 0.829 | 0.020 | 0.852 | |
minCount | 2.591 | 0.067 | 2.682 | |
minNodes | 0.000 | 0.000 | 0.001 | |
pvalueType | 1.675 | 0.023 | 1.717 | |
show-methods | 0 | 0 | 0 | |