| Back to Multiple platform build/check report for BioC 3.18: simplified long |
|
This page was generated on 2024-03-04 11:37:10 -0500 (Mon, 04 Mar 2024).
| Hostname | OS | Arch (*) | R version | Installed pkgs |
|---|---|---|---|---|
| nebbiolo2 | Linux (Ubuntu 22.04.3 LTS) | x86_64 | 4.3.2 Patched (2023-11-13 r85521) -- "Eye Holes" | 4692 |
| palomino4 | Windows Server 2022 Datacenter | x64 | 4.3.2 (2023-10-31 ucrt) -- "Eye Holes" | 4445 |
| lconway | macOS 12.7.1 Monterey | x86_64 | 4.3.2 Patched (2023-11-01 r85457) -- "Eye Holes" | 4466 |
| Click on any hostname to see more info about the system (e.g. compilers) (*) as reported by 'uname -p', except on Windows and Mac OS X | ||||
| Package 236/2266 | Hostname | OS / Arch | INSTALL | BUILD | CHECK | BUILD BIN | ||||||||
| branchpointer 1.28.0 (landing page) Beth Signal
| nebbiolo2 | Linux (Ubuntu 22.04.3 LTS) / x86_64 | OK | OK | OK | |||||||||
| palomino4 | Windows Server 2022 Datacenter / x64 | OK | OK | OK | OK | |||||||||
| lconway | macOS 12.7.1 Monterey / x86_64 | OK | OK | OK | OK | |||||||||
| kjohnson1 | macOS 13.6.1 Ventura / arm64 | see weekly results here | ||||||||||||
|
To the developers/maintainers of the branchpointer package: - Allow up to 24 hours (and sometimes 48 hours) for your latest push to git@git.bioconductor.org:packages/branchpointer.git to reflect on this report. See Troubleshooting Build Report for more information. - Use the following Renviron settings to reproduce errors and warnings. - If 'R CMD check' started to fail recently on the Linux builder(s) over a missing dependency, add the missing dependency to 'Suggests:' in your DESCRIPTION file. See Renviron.bioc for more information. |
| Package: branchpointer |
| Version: 1.28.0 |
| Command: /Library/Frameworks/R.framework/Resources/bin/R CMD check --install=check:branchpointer.install-out.txt --library=/Library/Frameworks/R.framework/Resources/library --no-vignettes --timings branchpointer_1.28.0.tar.gz |
| StartedAt: 2024-03-03 19:19:27 -0500 (Sun, 03 Mar 2024) |
| EndedAt: 2024-03-03 19:25:48 -0500 (Sun, 03 Mar 2024) |
| EllapsedTime: 380.9 seconds |
| RetCode: 0 |
| Status: OK |
| CheckDir: branchpointer.Rcheck |
| Warnings: 0 |
##############################################################################
##############################################################################
###
### Running command:
###
### /Library/Frameworks/R.framework/Resources/bin/R CMD check --install=check:branchpointer.install-out.txt --library=/Library/Frameworks/R.framework/Resources/library --no-vignettes --timings branchpointer_1.28.0.tar.gz
###
##############################################################################
##############################################################################
* using log directory ‘/Users/biocbuild/bbs-3.18-bioc/meat/branchpointer.Rcheck’
* using R version 4.3.2 Patched (2023-11-01 r85457)
* using platform: x86_64-apple-darwin20 (64-bit)
* R was compiled by
Apple clang version 14.0.3 (clang-1403.0.22.14.1)
GNU Fortran (GCC) 12.2.0
* running under: macOS Monterey 12.7.1
* using session charset: UTF-8
* using option ‘--no-vignettes’
* checking for file ‘branchpointer/DESCRIPTION’ ... OK
* checking extension type ... Package
* this is package ‘branchpointer’ version ‘1.28.0’
* checking package namespace information ... OK
* checking package dependencies ... OK
* checking if this is a source package ... OK
* checking if there is a namespace ... OK
* checking for hidden files and directories ... OK
* checking for portable file names ... OK
* checking for sufficient/correct file permissions ... OK
* checking whether package ‘branchpointer’ can be installed ... OK
* checking installed package size ... NOTE
installed size is 5.3Mb
sub-directories of 1Mb or more:
R 4.1Mb
extdata 1.1Mb
* checking package directory ... OK
* checking ‘build’ directory ... OK
* checking DESCRIPTION meta-information ... OK
* checking top-level files ... OK
* checking for left-over files ... OK
* checking index information ... OK
* checking package subdirectories ... OK
* checking R files for non-ASCII characters ... OK
* checking R files for syntax errors ... OK
* checking whether the package can be loaded ... OK
* checking whether the package can be loaded with stated dependencies ... OK
* checking whether the package can be unloaded cleanly ... OK
* checking whether the namespace can be loaded with stated dependencies ... OK
* checking whether the namespace can be unloaded cleanly ... OK
* checking dependencies in R code ... OK
* checking S3 generic/method consistency ... OK
* checking replacement functions ... OK
* checking foreign function calls ... OK
* checking R code for possible problems ... OK
* checking Rd files ... OK
* checking Rd metadata ... OK
* checking Rd cross-references ... OK
* checking for missing documentation entries ... OK
* checking for code/documentation mismatches ... OK
* checking Rd \usage sections ... OK
* checking Rd contents ... OK
* checking for unstated dependencies in examples ... OK
* checking R/sysdata.rda ... OK
* checking sizes of PDF files under ‘inst/doc’ ... OK
* checking files in ‘vignettes’ ... OK
* checking examples ... OK
Examples with CPU (user + system) or elapsed time > 5s
user system elapsed
plotBranchpointWindow 5.419 0.232 5.709
makeBranchpointWindowForSNP 2.336 0.094 12.271
* checking for unstated dependencies in vignettes ... OK
* checking package vignettes in ‘inst/doc’ ... OK
* checking running R code from vignettes ... SKIPPED
* checking re-building of vignette outputs ... SKIPPED
* checking PDF version of manual ... OK
* DONE
Status: 1 NOTE
See
‘/Users/biocbuild/bbs-3.18-bioc/meat/branchpointer.Rcheck/00check.log’
for details.
branchpointer.Rcheck/00install.out
############################################################################## ############################################################################## ### ### Running command: ### ### /Library/Frameworks/R.framework/Resources/bin/R CMD INSTALL branchpointer ### ############################################################################## ############################################################################## * installing to library ‘/Library/Frameworks/R.framework/Versions/4.3-x86_64/Resources/library’ * installing *source* package ‘branchpointer’ ... ** using staged installation ** R ** inst ** byte-compile and prepare package for lazy loading ** help *** installing help indices ** building package indices ** installing vignettes ** testing if installed package can be loaded from temporary location ** testing if installed package can be loaded from final location ** testing if installed package keeps a record of temporary installation path * DONE (branchpointer)
branchpointer.Rcheck/branchpointer-Ex.timings
| name | user | system | elapsed | |
| gtfToExons | 1.158 | 0.029 | 1.197 | |
| makeBranchpointWindowForExons | 1.519 | 0.018 | 1.551 | |
| makeBranchpointWindowForSNP | 2.336 | 0.094 | 12.271 | |
| plotBranchpointWindow | 5.419 | 0.232 | 5.709 | |
| predictBranchpoints | 2.687 | 0.037 | 2.744 | |
| predictionsToSummary | 3.000 | 0.079 | 3.105 | |
| readQueryFile | 1.992 | 0.019 | 2.029 | |