Back to Multiple platform build/check report for BioC 3.18: simplified long |
|
This page was generated on 2023-11-02 11:40:27 -0400 (Thu, 02 Nov 2023).
Hostname | OS | Arch (*) | R version | Installed pkgs |
---|---|---|---|---|
nebbiolo2 | Linux (Ubuntu 22.04.2 LTS) | x86_64 | 4.3.1 (2023-06-16) -- "Beagle Scouts" | 4729 |
palomino4 | Windows Server 2022 Datacenter | x64 | 4.3.1 (2023-06-16 ucrt) -- "Beagle Scouts" | 4463 |
lconway | macOS 12.6.5 Monterey | x86_64 | 4.3.1 Patched (2023-06-17 r84564) -- "Beagle Scouts" | 4478 |
kunpeng2 | Linux (openEuler 22.03 LTS-SP1) | aarch64 | 4.3.1 (2023-06-16) -- "Beagle Scouts" | 4464 |
Click on any hostname to see more info about the system (e.g. compilers) (*) as reported by 'uname -p', except on Windows and Mac OS X |
Package 193/2266 | Hostname | OS / Arch | INSTALL | BUILD | CHECK | BUILD BIN | ||||||||
biocViews 1.70.0 (landing page) Bioconductor Package Maintainer
| nebbiolo2 | Linux (Ubuntu 22.04.2 LTS) / x86_64 | OK | OK | OK | |||||||||
palomino4 | Windows Server 2022 Datacenter / x64 | OK | OK | OK | OK | |||||||||
lconway | macOS 12.6.5 Monterey / x86_64 | OK | OK | OK | OK | |||||||||
kjohnson1 | macOS 13.6.1 Ventura / arm64 | see weekly results here | ||||||||||||
kunpeng2 | Linux (openEuler 22.03 LTS-SP1) / aarch64 | OK | OK | OK | ||||||||||
To the developers/maintainers of the biocViews package: - Allow up to 24 hours (and sometimes 48 hours) for your latest push to git@git.bioconductor.org:packages/biocViews.git to reflect on this report. See Troubleshooting Build Report for more information. - Use the following Renviron settings to reproduce errors and warnings. - If 'R CMD check' started to fail recently on the Linux builder(s) over a missing dependency, add the missing dependency to 'Suggests:' in your DESCRIPTION file. See Renviron.bioc for more information. - See Martin Grigorov's blog post for how to debug Linux ARM64 related issues on a x86_64 host. |
Package: biocViews |
Version: 1.70.0 |
Command: /home/biocbuild/R/R-4.3.1/bin/R CMD check --install=check:biocViews.install-out.txt --library=/home/biocbuild/R/R-4.3.1/site-library --no-vignettes --timings biocViews_1.70.0.tar.gz |
StartedAt: 2023-11-02 08:43:09 -0000 (Thu, 02 Nov 2023) |
EndedAt: 2023-11-02 08:44:35 -0000 (Thu, 02 Nov 2023) |
EllapsedTime: 85.9 seconds |
RetCode: 0 |
Status: OK |
CheckDir: biocViews.Rcheck |
Warnings: 0 |
############################################################################## ############################################################################## ### ### Running command: ### ### /home/biocbuild/R/R-4.3.1/bin/R CMD check --install=check:biocViews.install-out.txt --library=/home/biocbuild/R/R-4.3.1/site-library --no-vignettes --timings biocViews_1.70.0.tar.gz ### ############################################################################## ############################################################################## * using log directory ‘/home/biocbuild/bbs-3.18-bioc/meat/biocViews.Rcheck’ * using R version 4.3.1 (2023-06-16) * using platform: aarch64-unknown-linux-gnu (64-bit) * R was compiled by gcc (GCC) 10.3.1 GNU Fortran (GCC) 10.3.1 * running under: openEuler 22.03 (LTS-SP1) * using session charset: UTF-8 * using option ‘--no-vignettes’ * checking for file ‘biocViews/DESCRIPTION’ ... OK * this is package ‘biocViews’ version ‘1.70.0’ * checking package namespace information ... OK * checking package dependencies ... OK * checking if this is a source package ... OK * checking if there is a namespace ... OK * checking for hidden files and directories ... OK * checking for portable file names ... OK * checking for sufficient/correct file permissions ... OK * checking whether package ‘biocViews’ can be installed ... OK * checking installed package size ... OK * checking package directory ... OK * checking ‘build’ directory ... OK * checking DESCRIPTION meta-information ... OK * checking top-level files ... OK * checking for left-over files ... OK * checking index information ... OK * checking package subdirectories ... OK * checking R files for non-ASCII characters ... OK * checking R files for syntax errors ... OK * checking whether the package can be loaded ... OK * checking whether the package can be loaded with stated dependencies ... OK * checking whether the package can be unloaded cleanly ... OK * checking whether the namespace can be loaded with stated dependencies ... OK * checking whether the namespace can be unloaded cleanly ... OK * checking loading without being on the library search path ... OK * checking dependencies in R code ... NOTE ':::' call which should be '::': ‘tools:::vignetteInfo’ See the note in ?`:::` about the use of this operator. Unexported objects imported by ':::' calls: ‘tools:::.build_news_db_from_package_NEWS_Rd’ ‘tools:::.build_news_db_from_package_NEWS_md’ ‘tools:::.build_repository_package_db’ ‘tools:::.expand_package_description_db_R_fields’ ‘tools:::.get_standard_repository_db_fields’ ‘tools:::.news_reader_default’ ‘tools:::.read_description’ ‘tools:::.split_dependencies’ See the note in ?`:::` about the use of this operator. * checking S3 generic/method consistency ... OK * checking replacement functions ... OK * checking foreign function calls ... OK * checking R code for possible problems ... NOTE getPackageNEWS : getNews: no visible binding for global variable ‘Version’ getReverseDepends : <anonymous>: no visible binding for global variable ‘Package’ Undefined global functions or variables: Package Version * checking Rd files ... OK * checking Rd metadata ... OK * checking Rd cross-references ... OK * checking for missing documentation entries ... OK * checking for code/documentation mismatches ... OK * checking Rd \usage sections ... OK * checking Rd contents ... OK * checking for unstated dependencies in examples ... OK * checking contents of ‘data’ directory ... OK * checking data for non-ASCII characters ... OK * checking data for ASCII and uncompressed saves ... OK * checking installed files from ‘inst/doc’ ... OK * checking files in ‘vignettes’ ... OK * checking examples ... OK * checking for unstated dependencies in ‘tests’ ... OK * checking tests ... Running ‘runTests.R’ OK * checking for unstated dependencies in vignettes ... OK * checking package vignettes in ‘inst/doc’ ... OK * checking running R code from vignettes ... SKIPPED * checking re-building of vignette outputs ... SKIPPED * checking PDF version of manual ... OK * DONE Status: 2 NOTEs See ‘/home/biocbuild/bbs-3.18-bioc/meat/biocViews.Rcheck/00check.log’ for details.
biocViews.Rcheck/00install.out
############################################################################## ############################################################################## ### ### Running command: ### ### /home/biocbuild/R/R-4.3.1/bin/R CMD INSTALL biocViews ### ############################################################################## ############################################################################## * installing to library ‘/home/biocbuild/R/R-4.3.1/site-library’ * installing *source* package ‘biocViews’ ... ** using staged installation ** R ** data ** inst ** byte-compile and prepare package for lazy loading ** help *** installing help indices ** building package indices ** installing vignettes ** testing if installed package can be loaded from temporary location ** testing if installed package can be loaded from final location ** testing if installed package keeps a record of temporary installation path * DONE (biocViews)
biocViews.Rcheck/tests/runTests.Rout
R version 4.3.1 (2023-06-16) -- "Beagle Scouts" Copyright (C) 2023 The R Foundation for Statistical Computing Platform: aarch64-unknown-linux-gnu (64-bit) R is free software and comes with ABSOLUTELY NO WARRANTY. You are welcome to redistribute it under certain conditions. Type 'license()' or 'licence()' for distribution details. R is a collaborative project with many contributors. Type 'contributors()' for more information and 'citation()' on how to cite R or R packages in publications. Type 'demo()' for some demos, 'help()' for on-line help, or 'help.start()' for an HTML browser interface to help. Type 'q()' to quit R. > BiocGenerics:::testPackage("biocViews") Generate citation for /home/biocbuild/tmp/RtmpUBimsj/testing/testrepos/src/contrib/biocViews2_1.70.0.tar.gz ... (try to process CITATION file) OK Generate citation for /home/biocbuild/tmp/RtmpUBimsj/testing/testrepos/src/contrib/biocViews_1.70.0.tar.gz ... /usr/bin/gtar: biocViews/inst/CITATION: Not found in archive /usr/bin/gtar: Exiting with failure status due to previous errors (auto-generate from DESCRIPTION file) OK RUNIT TEST PROTOCOL -- Thu Nov 2 08:44:29 2023 *********************************************** Number of test functions: 5 Number of errors: 0 Number of failures: 0 1 Test Suite : biocViews RUnit Tests - 5 test functions, 0 errors, 0 failures Number of test functions: 5 Number of errors: 0 Number of failures: 0 Warning message: In untar(tarball, tpaths, exdir = tmpdir) : '/usr/bin/gtar -xf '/home/biocbuild/tmp/RtmpUBimsj/testing/testrepos/src/contrib/biocViews_1.70.0.tar.gz' -C '/home/biocbuild/tmp/RtmpUBimsj' 'biocViews/DESCRIPTION' 'biocViews/inst/CITATION'' returned error code 2 > > proc.time() user system elapsed 3.785 0.197 22.814
biocViews.Rcheck/biocViews-Ex.timings
name | user | system | elapsed | |
PackageDetail-class | 0.101 | 0.000 | 0.102 | |
biocViews-package | 0.199 | 0.000 | 0.199 | |
biocViewsVocab | 0.002 | 0.003 | 0.005 | |
getBiocSubViews | 1.385 | 0.120 | 1.508 | |
getBiocViews | 1.175 | 0.016 | 1.193 | |
getCurrentbiocViews | 0.007 | 0.000 | 0.008 | |
getPackageTitles | 0 | 0 | 0 | |
getSubTerms | 0.211 | 0.000 | 0.212 | |
guessPackageType | 0.013 | 0.000 | 0.013 | |
recommendPackages | 0.438 | 0.021 | 3.146 | |
validation_tests | 0.003 | 0.000 | 0.003 | |