Back to Multiple platform build/check report for BioC 3.18: simplified long |
|
This page was generated on 2024-03-04 11:37:08 -0500 (Mon, 04 Mar 2024).
Hostname | OS | Arch (*) | R version | Installed pkgs |
---|---|---|---|---|
nebbiolo2 | Linux (Ubuntu 22.04.3 LTS) | x86_64 | 4.3.2 Patched (2023-11-13 r85521) -- "Eye Holes" | 4692 |
palomino4 | Windows Server 2022 Datacenter | x64 | 4.3.2 (2023-10-31 ucrt) -- "Eye Holes" | 4445 |
lconway | macOS 12.7.1 Monterey | x86_64 | 4.3.2 Patched (2023-11-01 r85457) -- "Eye Holes" | 4466 |
Click on any hostname to see more info about the system (e.g. compilers) (*) as reported by 'uname -p', except on Windows and Mac OS X |
Package 126/2266 | Hostname | OS / Arch | INSTALL | BUILD | CHECK | BUILD BIN | ||||||||
basecallQC 1.26.0 (landing page) Thomas Carroll
| nebbiolo2 | Linux (Ubuntu 22.04.3 LTS) / x86_64 | OK | OK | OK | |||||||||
palomino4 | Windows Server 2022 Datacenter / x64 | OK | OK | OK | OK | |||||||||
lconway | macOS 12.7.1 Monterey / x86_64 | OK | OK | OK | OK | |||||||||
kjohnson1 | macOS 13.6.1 Ventura / arm64 | see weekly results here | ||||||||||||
To the developers/maintainers of the basecallQC package: - Allow up to 24 hours (and sometimes 48 hours) for your latest push to git@git.bioconductor.org:packages/basecallQC.git to reflect on this report. See Troubleshooting Build Report for more information. - Use the following Renviron settings to reproduce errors and warnings. - If 'R CMD check' started to fail recently on the Linux builder(s) over a missing dependency, add the missing dependency to 'Suggests:' in your DESCRIPTION file. See Renviron.bioc for more information. |
Package: basecallQC |
Version: 1.26.0 |
Command: /Library/Frameworks/R.framework/Resources/bin/R CMD check --install=check:basecallQC.install-out.txt --library=/Library/Frameworks/R.framework/Resources/library --no-vignettes --timings basecallQC_1.26.0.tar.gz |
StartedAt: 2024-03-03 19:03:23 -0500 (Sun, 03 Mar 2024) |
EndedAt: 2024-03-03 19:11:21 -0500 (Sun, 03 Mar 2024) |
EllapsedTime: 478.7 seconds |
RetCode: 0 |
Status: OK |
CheckDir: basecallQC.Rcheck |
Warnings: 0 |
############################################################################## ############################################################################## ### ### Running command: ### ### /Library/Frameworks/R.framework/Resources/bin/R CMD check --install=check:basecallQC.install-out.txt --library=/Library/Frameworks/R.framework/Resources/library --no-vignettes --timings basecallQC_1.26.0.tar.gz ### ############################################################################## ############################################################################## * using log directory ‘/Users/biocbuild/bbs-3.18-bioc/meat/basecallQC.Rcheck’ * using R version 4.3.2 Patched (2023-11-01 r85457) * using platform: x86_64-apple-darwin20 (64-bit) * R was compiled by Apple clang version 14.0.3 (clang-1403.0.22.14.1) GNU Fortran (GCC) 12.2.0 * running under: macOS Monterey 12.7.1 * using session charset: UTF-8 * using option ‘--no-vignettes’ * checking for file ‘basecallQC/DESCRIPTION’ ... OK * checking extension type ... Package * this is package ‘basecallQC’ version ‘1.26.0’ * checking package namespace information ... OK * checking package dependencies ... OK * checking if this is a source package ... OK * checking if there is a namespace ... OK * checking for hidden files and directories ... OK * checking for portable file names ... OK * checking for sufficient/correct file permissions ... OK * checking whether package ‘basecallQC’ can be installed ... OK * checking installed package size ... OK * checking package directory ... OK * checking ‘build’ directory ... OK * checking DESCRIPTION meta-information ... OK * checking top-level files ... OK * checking for left-over files ... OK * checking index information ... OK * checking package subdirectories ... OK * checking R files for non-ASCII characters ... OK * checking R files for syntax errors ... OK * checking whether the package can be loaded ... OK * checking whether the package can be loaded with stated dependencies ... OK * checking whether the package can be unloaded cleanly ... OK * checking whether the namespace can be loaded with stated dependencies ... OK * checking whether the namespace can be unloaded cleanly ... OK * checking dependencies in R code ... OK * checking S3 generic/method consistency ... OK * checking replacement functions ... OK * checking foreign function calls ... OK * checking R code for possible problems ... OK * checking Rd files ... OK * checking Rd metadata ... OK * checking Rd cross-references ... OK * checking for missing documentation entries ... OK * checking for code/documentation mismatches ... OK * checking Rd \usage sections ... OK * checking Rd contents ... OK * checking for unstated dependencies in examples ... OK * checking files in ‘vignettes’ ... OK * checking examples ... OK Examples with CPU (user + system) or elapsed time > 5s user system elapsed reportBCL 8.781 0.279 9.214 summaryDemuxTable 6.404 0.071 6.509 passFilterTileplot 5.714 0.060 5.841 basecallQC 5.610 0.093 5.737 demuxBarplot 5.632 0.055 5.735 summaryConvStatsTable 5.501 0.064 5.593 passFilterBoxplot 5.465 0.076 5.586 demuxBoxplot 5.340 0.048 5.421 passFilterBar 5.298 0.052 5.383 makeFQTable 5.174 0.046 5.250 baseCallMetrics 5.032 0.174 5.243 * checking for unstated dependencies in ‘tests’ ... OK * checking tests ... Running ‘testthat.R’ OK * checking for unstated dependencies in vignettes ... OK * checking package vignettes in ‘inst/doc’ ... OK * checking running R code from vignettes ... SKIPPED * checking re-building of vignette outputs ... SKIPPED * checking PDF version of manual ... OK * DONE Status: OK
basecallQC.Rcheck/00install.out
############################################################################## ############################################################################## ### ### Running command: ### ### /Library/Frameworks/R.framework/Resources/bin/R CMD INSTALL basecallQC ### ############################################################################## ############################################################################## * installing to library ‘/Library/Frameworks/R.framework/Versions/4.3-x86_64/Resources/library’ * installing *source* package ‘basecallQC’ ... ** using staged installation ** R ** inst ** byte-compile and prepare package for lazy loading ** help *** installing help indices ** building package indices ** installing vignettes ** testing if installed package can be loaded from temporary location ** testing if installed package can be loaded from final location ** testing if installed package keeps a record of temporary installation path * DONE (basecallQC)
basecallQC.Rcheck/tests/testthat.Rout
R version 4.3.2 Patched (2023-11-01 r85457) -- "Eye Holes" Copyright (C) 2023 The R Foundation for Statistical Computing Platform: x86_64-apple-darwin20 (64-bit) R is free software and comes with ABSOLUTELY NO WARRANTY. You are welcome to redistribute it under certain conditions. Type 'license()' or 'licence()' for distribution details. R is a collaborative project with many contributors. Type 'contributors()' for more information and 'citation()' on how to cite R or R packages in publications. Type 'demo()' for some demos, 'help()' for on-line help, or 'help.start()' for an HTML browser interface to help. Type 'q()' to quit R. > library(testthat) > library(basecallQC) Loading required package: rmarkdown Loading required package: knitr Loading required package: prettydoc Loading required package: yaml > > test_check("basecallQC") [ FAIL 0 | WARN 47 | SKIP 0 | PASS 5 ] [ FAIL 0 | WARN 47 | SKIP 0 | PASS 5 ] > > proc.time() user system elapsed 28.320 1.093 29.607
basecallQC.Rcheck/basecallQC-Ex.timings
name | user | system | elapsed | |
BCL2FastQparams | 1.218 | 0.038 | 1.264 | |
baseCallMetrics | 5.032 | 0.174 | 5.243 | |
basecallQC | 5.610 | 0.093 | 5.737 | |
createBCLcommand | 0.345 | 0.005 | 0.353 | |
createBasemasks | 1.316 | 0.013 | 1.338 | |
demultiplexMetrics | 0.076 | 0.003 | 0.080 | |
demuxBarplot | 5.632 | 0.055 | 5.735 | |
demuxBoxplot | 5.340 | 0.048 | 5.421 | |
indexlengths | 0.033 | 0.002 | 0.035 | |
interOpsReport | 0.026 | 0.002 | 0.029 | |
makeFQTable | 5.174 | 0.046 | 5.250 | |
passFilterBar | 5.298 | 0.052 | 5.383 | |
passFilterBoxplot | 5.465 | 0.076 | 5.586 | |
passFilterTileplot | 5.714 | 0.060 | 5.841 | |
readlengths | 0.037 | 0.001 | 0.038 | |
reportBCL | 8.781 | 0.279 | 9.214 | |
summaryConvStatsTable | 5.501 | 0.064 | 5.593 | |
summaryDemuxTable | 6.404 | 0.071 | 6.509 | |
validateBCLSheet | 0.075 | 0.003 | 0.079 | |