| Back to Multiple platform build/check report for BioC 3.18: simplified long |
|
This page was generated on 2024-04-17 11:35:47 -0400 (Wed, 17 Apr 2024).
| Hostname | OS | Arch (*) | R version | Installed pkgs |
|---|---|---|---|---|
| nebbiolo2 | Linux (Ubuntu 22.04.3 LTS) | x86_64 | 4.3.3 (2024-02-29) -- "Angel Food Cake" | 4676 |
| palomino4 | Windows Server 2022 Datacenter | x64 | 4.3.3 (2024-02-29 ucrt) -- "Angel Food Cake" | 4414 |
| merida1 | macOS 12.7.1 Monterey | x86_64 | 4.3.3 (2024-02-29) -- "Angel Food Cake" | 4437 |
| Click on any hostname to see more info about the system (e.g. compilers) (*) as reported by 'uname -p', except on Windows and Mac OS X | ||||
| Package 123/2266 | Hostname | OS / Arch | INSTALL | BUILD | CHECK | BUILD BIN | ||||||||
| bandle 1.6.0 (landing page) Oliver M. Crook
| nebbiolo2 | Linux (Ubuntu 22.04.3 LTS) / x86_64 | OK | OK | ERROR | |||||||||
| palomino4 | Windows Server 2022 Datacenter / x64 | OK | OK | OK | OK | |||||||||
| merida1 | macOS 12.7.1 Monterey / x86_64 | OK | OK | WARNINGS | OK | |||||||||
| kjohnson1 | macOS 13.6.1 Ventura / arm64 | see weekly results here | ||||||||||||
|
To the developers/maintainers of the bandle package: - Allow up to 24 hours (and sometimes 48 hours) for your latest push to git@git.bioconductor.org:packages/bandle.git to reflect on this report. See Troubleshooting Build Report for more information. - Use the following Renviron settings to reproduce errors and warnings. - If 'R CMD check' started to fail recently on the Linux builder(s) over a missing dependency, add the missing dependency to 'Suggests:' in your DESCRIPTION file. See Renviron.bioc for more information. |
| Package: bandle |
| Version: 1.6.0 |
| Command: /home/biocbuild/bbs-3.18-bioc/R/bin/R CMD check --install=check:bandle.install-out.txt --library=/home/biocbuild/bbs-3.18-bioc/R/site-library --timings bandle_1.6.0.tar.gz |
| StartedAt: 2024-04-15 20:13:40 -0400 (Mon, 15 Apr 2024) |
| EndedAt: 2024-04-15 20:35:38 -0400 (Mon, 15 Apr 2024) |
| EllapsedTime: 1317.8 seconds |
| RetCode: 1 |
| Status: ERROR |
| CheckDir: bandle.Rcheck |
| Warnings: NA |
##############################################################################
##############################################################################
###
### Running command:
###
### /home/biocbuild/bbs-3.18-bioc/R/bin/R CMD check --install=check:bandle.install-out.txt --library=/home/biocbuild/bbs-3.18-bioc/R/site-library --timings bandle_1.6.0.tar.gz
###
##############################################################################
##############################################################################
* using log directory ‘/home/biocbuild/bbs-3.18-bioc/meat/bandle.Rcheck’
* using R version 4.3.3 (2024-02-29)
* using platform: x86_64-pc-linux-gnu (64-bit)
* R was compiled by
gcc (Ubuntu 11.4.0-1ubuntu1~22.04) 11.4.0
GNU Fortran (Ubuntu 11.4.0-1ubuntu1~22.04) 11.4.0
* running under: Ubuntu 22.04.4 LTS
* using session charset: UTF-8
* checking for file ‘bandle/DESCRIPTION’ ... OK
* checking extension type ... Package
* this is package ‘bandle’ version ‘1.6.0’
* package encoding: UTF-8
* checking package namespace information ... OK
* checking package dependencies ... OK
* checking if this is a source package ... OK
* checking if there is a namespace ... OK
* checking for hidden files and directories ... OK
* checking for portable file names ... OK
* checking for sufficient/correct file permissions ... OK
* checking whether package ‘bandle’ can be installed ... OK
* used C++ compiler: ‘g++ (Ubuntu 11.4.0-1ubuntu1~22.04) 11.4.0’
* checking C++ specification ... NOTE
Specified C++11: please drop specification unless essential
* checking installed package size ... NOTE
installed size is 7.7Mb
sub-directories of 1Mb or more:
libs 6.9Mb
* checking package directory ... OK
* checking ‘build’ directory ... OK
* checking DESCRIPTION meta-information ... OK
* checking top-level files ... OK
* checking for left-over files ... OK
* checking index information ... OK
* checking package subdirectories ... OK
* checking R files for non-ASCII characters ... OK
* checking R files for syntax errors ... OK
* checking whether the package can be loaded ... OK
* checking whether the package can be loaded with stated dependencies ... OK
* checking whether the package can be unloaded cleanly ... OK
* checking whether the namespace can be loaded with stated dependencies ... OK
* checking whether the namespace can be unloaded cleanly ... OK
* checking loading without being on the library search path ... OK
* checking dependencies in R code ... NOTE
'library' or 'require' call to ‘Biobase’ which was already attached by Depends.
Please remove these calls from your code.
':::' call which should be '::': ‘dplyr:::summarise’
See the note in ?`:::` about the use of this operator.
* checking S3 generic/method consistency ... OK
* checking replacement functions ... OK
* checking foreign function calls ... OK
* checking R code for possible problems ... OK
* checking Rd files ... OK
* checking Rd metadata ... OK
* checking Rd cross-references ... OK
* checking for missing documentation entries ... OK
* checking for code/documentation mismatches ... OK
* checking Rd \usage sections ... OK
* checking Rd contents ... OK
* checking for unstated dependencies in examples ... OK
* checking line endings in C/C++/Fortran sources/headers ... OK
* checking line endings in Makefiles ... OK
* checking compilation flags in Makevars ... OK
* checking for GNU extensions in Makefiles ... OK
* checking for portable use of $(BLAS_LIBS) and $(LAPACK_LIBS) ... OK
* checking use of PKG_*FLAGS in Makefiles ... OK
* checking compiled code ... NOTE
Note: information on .o files is not available
* checking files in ‘vignettes’ ... OK
* checking examples ... OK
Examples with CPU (user + system) or elapsed time > 5s
user system elapsed
bandle-differentiallocalisation 23.369 0.499 23.870
bandle-gpfit 17.380 0.212 17.592
bandle 11.261 0.192 11.454
bandle-EFDR 9.061 0.708 9.769
bandle-plots-translocations 8.378 0.048 8.425
bandle-predict 7.869 0.028 7.897
bandle-process 7.446 0.044 7.489
bandle-prior 6.532 0.468 7.000
bandle-plots-translocations-table 6.788 0.080 6.869
bandle-plots-convergence 6.630 0.068 6.698
bandle-plots-prob 5.985 0.036 6.021
* checking for unstated dependencies in ‘tests’ ... OK
* checking tests ...
Running ‘spelling.R’
Running ‘testthat.R’
OK
* checking for unstated dependencies in vignettes ... OK
* checking package vignettes in ‘inst/doc’ ... OK
* checking running R code from vignettes ...
‘v01-getting-started.Rmd’ using ‘UTF-8’... OK
‘v02-workflow.Rmd’ using ‘UTF-8’... failed
ERROR
Errors in running code in vignettes:
when running code in ‘v02-workflow.Rmd’
...
> fData(res_12h[[2]])$bandle.allocation.pred.pred <- res_alloc_12hr
> par(mfrow = c(5, 2))
> plot2D(res_0h[[1]], main = "Unstimulated - replicate 1 \n subcellular markers",
+ fcol = "markers")
When sourcing ‘v02-workflow.R’:
Error: figure margins too large
Execution halted
* checking re-building of vignette outputs ... OK
* checking PDF version of manual ... OK
* DONE
Status: 1 ERROR, 4 NOTEs
See
‘/home/biocbuild/bbs-3.18-bioc/meat/bandle.Rcheck/00check.log’
for details.
bandle.Rcheck/00install.out
##############################################################################
##############################################################################
###
### Running command:
###
### /home/biocbuild/bbs-3.18-bioc/R/bin/R CMD INSTALL bandle
###
##############################################################################
##############################################################################
* installing to library ‘/home/biocbuild/bbs-3.18-bioc/R/site-library’
* installing *source* package ‘bandle’ ...
** using staged installation
** libs
using C++ compiler: ‘g++ (Ubuntu 11.4.0-1ubuntu1~22.04) 11.4.0’
using C++11
g++ -std=gnu++11 -I"/home/biocbuild/bbs-3.18-bioc/R/include" -DNDEBUG -I'/home/biocbuild/bbs-3.18-bioc/R/site-library/Rcpp/include' -I'/home/biocbuild/bbs-3.18-bioc/R/site-library/RcppArmadillo/include' -I'/home/biocbuild/bbs-3.18-bioc/R/site-library/BH/include' -I/usr/local/include -fopenmp -fpic -g -O2 -Wall -c Bessel2ndKind.cpp -o Bessel2ndKind.o
In file included from /home/biocbuild/bbs-3.18-bioc/R/site-library/BH/include/boost/math/special_functions/detail/round_fwd.hpp:11,
from /home/biocbuild/bbs-3.18-bioc/R/site-library/BH/include/boost/math/special_functions/math_fwd.hpp:29,
from /home/biocbuild/bbs-3.18-bioc/R/site-library/BH/include/boost/math/special_functions/bessel.hpp:19,
from Bessel2ndKind.cpp:3:
/home/biocbuild/bbs-3.18-bioc/R/site-library/BH/include/boost/math/tools/config.hpp:23:6: warning: #warning "The minimum language standard to use Boost.Math will be C++14 starting in July 2023 (Boost 1.82 release)" [-Wcpp]
23 | # warning "The minimum language standard to use Boost.Math will be C++14 starting in July 2023 (Boost 1.82 release)"
| ^~~~~~~
g++ -std=gnu++11 -I"/home/biocbuild/bbs-3.18-bioc/R/include" -DNDEBUG -I'/home/biocbuild/bbs-3.18-bioc/R/site-library/Rcpp/include' -I'/home/biocbuild/bbs-3.18-bioc/R/site-library/RcppArmadillo/include' -I'/home/biocbuild/bbs-3.18-bioc/R/site-library/BH/include' -I/usr/local/include -fopenmp -fpic -g -O2 -Wall -c RcppExports.cpp -o RcppExports.o
g++ -std=gnu++11 -I"/home/biocbuild/bbs-3.18-bioc/R/include" -DNDEBUG -I'/home/biocbuild/bbs-3.18-bioc/R/site-library/Rcpp/include' -I'/home/biocbuild/bbs-3.18-bioc/R/site-library/RcppArmadillo/include' -I'/home/biocbuild/bbs-3.18-bioc/R/site-library/BH/include' -I/usr/local/include -fopenmp -fpic -g -O2 -Wall -c dmvtCpp.cpp -o dmvtCpp.o
g++ -std=gnu++11 -I"/home/biocbuild/bbs-3.18-bioc/R/include" -DNDEBUG -I'/home/biocbuild/bbs-3.18-bioc/R/site-library/Rcpp/include' -I'/home/biocbuild/bbs-3.18-bioc/R/site-library/RcppArmadillo/include' -I'/home/biocbuild/bbs-3.18-bioc/R/site-library/BH/include' -I/usr/local/include -fopenmp -fpic -g -O2 -Wall -c leapfrogGPcpp.cpp -o leapfrogGPcpp.o
g++ -std=gnu++11 -I"/home/biocbuild/bbs-3.18-bioc/R/include" -DNDEBUG -I'/home/biocbuild/bbs-3.18-bioc/R/site-library/Rcpp/include' -I'/home/biocbuild/bbs-3.18-bioc/R/site-library/RcppArmadillo/include' -I'/home/biocbuild/bbs-3.18-bioc/R/site-library/BH/include' -I/usr/local/include -fopenmp -fpic -g -O2 -Wall -c pg_sample.cpp -o pg_sample.o
g++ -std=gnu++11 -shared -L/home/biocbuild/bbs-3.18-bioc/R/lib -L/usr/local/lib -o bandle.so Bessel2ndKind.o RcppExports.o dmvtCpp.o leapfrogGPcpp.o pg_sample.o -fopenmp -llapack -L/home/biocbuild/bbs-3.18-bioc/R/lib -lRblas -lgfortran -lm -lquadmath -L/home/biocbuild/bbs-3.18-bioc/R/lib -lR
installing to /home/biocbuild/bbs-3.18-bioc/R/site-library/00LOCK-bandle/00new/bandle/libs
** R
** inst
** byte-compile and prepare package for lazy loading
Creating a generic function from function ‘posteriorEstimates’ in package ‘bandle’
Creating a generic function from function ‘bandleJoint’ in package ‘bandle’
** help
*** installing help indices
** building package indices
** installing vignettes
** testing if installed package can be loaded from temporary location
** checking absolute paths in shared objects and dynamic libraries
** testing if installed package can be loaded from final location
** testing if installed package keeps a record of temporary installation path
* DONE (bandle)
bandle.Rcheck/tests/spelling.Rout
R version 4.3.3 (2024-02-29) -- "Angel Food Cake"
Copyright (C) 2024 The R Foundation for Statistical Computing
Platform: x86_64-pc-linux-gnu (64-bit)
R is free software and comes with ABSOLUTELY NO WARRANTY.
You are welcome to redistribute it under certain conditions.
Type 'license()' or 'licence()' for distribution details.
R is a collaborative project with many contributors.
Type 'contributors()' for more information and
'citation()' on how to cite R or R packages in publications.
Type 'demo()' for some demos, 'help()' for on-line help, or
'help.start()' for an HTML browser interface to help.
Type 'q()' to quit R.
> #if(requireNamespace('spelling', quietly = TRUE))
> # spelling::spell_check_test(vignettes = TRUE, error = FALSE,
> # skip_on_cran = TRUE)
>
> proc.time()
user system elapsed
0.156 0.020 0.166
bandle.Rcheck/tests/testthat.Rout
R version 4.3.3 (2024-02-29) -- "Angel Food Cake"
Copyright (C) 2024 The R Foundation for Statistical Computing
Platform: x86_64-pc-linux-gnu (64-bit)
R is free software and comes with ABSOLUTELY NO WARRANTY.
You are welcome to redistribute it under certain conditions.
Type 'license()' or 'licence()' for distribution details.
R is a collaborative project with many contributors.
Type 'contributors()' for more information and
'citation()' on how to cite R or R packages in publications.
Type 'demo()' for some demos, 'help()' for on-line help, or
'help.start()' for an HTML browser interface to help.
Type 'q()' to quit R.
> # The setting of R_TESTS exists to work around an R bug. See
> # https://github.com/hadley/testthat/issues/144
> # We should remove it when the issue is resolved.
> Sys.setenv("R_TESTS" = "")
>
> library("testthat")
> library("bandle")
Loading required package: S4Vectors
Loading required package: stats4
Loading required package: BiocGenerics
Attaching package: 'BiocGenerics'
The following objects are masked from 'package:stats':
IQR, mad, sd, var, xtabs
The following objects are masked from 'package:base':
Filter, Find, Map, Position, Reduce, anyDuplicated, aperm, append,
as.data.frame, basename, cbind, colnames, dirname, do.call,
duplicated, eval, evalq, get, grep, grepl, intersect, is.unsorted,
lapply, mapply, match, mget, order, paste, pmax, pmax.int, pmin,
pmin.int, rank, rbind, rownames, sapply, setdiff, sort, table,
tapply, union, unique, unsplit, which.max, which.min
Attaching package: 'S4Vectors'
The following object is masked from 'package:utils':
findMatches
The following objects are masked from 'package:base':
I, expand.grid, unname
Loading required package: Biobase
Welcome to Bioconductor
Vignettes contain introductory material; view with
'browseVignettes()'. To cite Bioconductor, see
'citation("Biobase")', and for packages 'citation("pkgname")'.
Loading required package: MSnbase
Loading required package: mzR
Loading required package: Rcpp
Loading required package: ProtGenerics
Attaching package: 'ProtGenerics'
The following object is masked from 'package:stats':
smooth
This is MSnbase version 2.28.1
Visit https://lgatto.github.io/MSnbase/ to get started.
Attaching package: 'MSnbase'
The following object is masked from 'package:base':
trimws
Loading required package: pRoloc
Loading required package: MLInterfaces
Loading required package: annotate
Loading required package: AnnotationDbi
Loading required package: IRanges
Loading required package: XML
Attaching package: 'annotate'
The following object is masked from 'package:mzR':
nChrom
Loading required package: cluster
Loading required package: BiocParallel
This is pRoloc version 1.42.0
Visit https://lgatto.github.io/pRoloc/ to get started.
Attaching package: 'bandle'
The following object is masked from 'package:pRoloc':
spatial2D
> library("pRolocdata")
This is pRolocdata version 1.40.0.
Use 'pRolocdata()' to list available data sets.
>
> test_check("bandle")
[1] "markers"
[1] "markers"
[1] "markers"
|
| | 0%
|
|============== | 20%
|
|============================ | 40%
|
|========================================== | 60%[1] "markers"
[1] "markers"
|
| | 0%
|
|============== | 20%
|
|============================ | 40%
|
|========================================== | 60%[1] "xx"
[1] "xx"
|
| | 0%
|
|============== | 20%
|
|============================ | 40%
|
|========================================== | 60%[1] "xx"
[1] "xx"
|
| | 0%
|
|============== | 20%
|
|============================ | 40%
|
|========================================== | 60%[1] "markers"
[1] "markers"
|
| | 0%
|
|============== | 20%
|
|============================ | 40%
|
|========================================== | 60%[1] "markers"
[1] "markers"
|
| | 0%
|
|============== | 20%
|
|============================ | 40%
|
|========================================== | 60%[1] "xx"
[1] "xx"
|
| | 0%
|
|============== | 20%
|
|============================ | 40%
|
|========================================== | 60%[1] "xx"
[1] "xx"
|
| | 0%
|
|============== | 20%
|
|============================ | 40%
|
|========================================== | 60%[1] "markers"
[1] "markers"
|
| | 0%
|
|============== | 20%
|
|============================ | 40%
|
|========================================== | 60%[1] "markers"
[1] "markers"
|
| | 0%
|
|============== | 20%
|
|============================ | 40%
|
|========================================== | 60%[1] "xx"
[1] "xx"
|
| | 0%
|
|============== | 20%
|
|============================ | 40%
|
|========================================== | 60%[1] "xx"
[1] "xx"
|
| | 0%
|
|============== | 20%
|
|============================ | 40%
|
|========================================== | 60%[1] "markers"
[1] "markers"
|
| | 0%
|
|============== | 20%
|
|============================ | 40%
|
|========================================== | 60%[1] "markers"
[1] "markers"
|
| | 0%
|
|============== | 20%
|
|============================ | 40%
|
|========================================== | 60%[1] "xx"
[1] "xx"
|
| | 0%
|
|============== | 20%
|
|============================ | 40%
|
|========================================== | 60%[1] "xx"
[1] "xx"
|
| | 0%
|
|============== | 20%
|
|============================ | 40%
|
|========================================== | 60%[1] "markers"
[1] "markers"
|
| | 0%
|
|==== | 5%
|
|======= | 10%
|
|========== | 15%
|
|============== | 20%
|
|================== | 25%
|
|===================== | 30%
|
|======================== | 35%
|
|============================ | 40%
|
|================================ | 45%
|
|=================================== | 50%
|
|====================================== | 55%
|
|========================================== | 60%
|
|============================================== | 65%
|
|================================================= | 70%
|
|==================================================== | 75%
|
|======================================================== | 80%
|
|============================================================ | 85%
|
|=============================================================== | 90%[1] "markers"
[1] "markers"
|
| | 0%
|
|==== | 5%
|
|======= | 10%
|
|========== | 15%
|
|============== | 20%
|
|================== | 25%
|
|===================== | 30%
|
|======================== | 35%
|
|============================ | 40%
|
|================================ | 45%
|
|=================================== | 50%
|
|====================================== | 55%
|
|========================================== | 60%
|
|============================================== | 65%
|
|================================================= | 70%
|
|==================================================== | 75%
|
|======================================================== | 80%
|
|============================================================ | 85%
|
|=============================================================== | 90%[1] "xx"
[1] "xx"
|
| | 0%
|
|==== | 5%
|
|======= | 10%
|
|========== | 15%
|
|============== | 20%
|
|================== | 25%
|
|===================== | 30%
|
|======================== | 35%
|
|============================ | 40%
|
|================================ | 45%
|
|=================================== | 50%
|
|====================================== | 55%
|
|========================================== | 60%
|
|============================================== | 65%
|
|================================================= | 70%
|
|==================================================== | 75%
|
|======================================================== | 80%
|
|============================================================ | 85%
|
|=============================================================== | 90%[1] "xx"
[1] "xx"
|
| | 0%
|
|==== | 5%
|
|======= | 10%
|
|========== | 15%
|
|============== | 20%
|
|================== | 25%
|
|===================== | 30%
|
|======================== | 35%
|
|============================ | 40%
|
|================================ | 45%
|
|=================================== | 50%
|
|====================================== | 55%
|
|========================================== | 60%
|
|============================================== | 65%
|
|================================================= | 70%
|
|==================================================== | 75%
|
|======================================================== | 80%
|
|============================================================ | 85%
|
|=============================================================== | 90%[1] "markers"
[1] "markers"
[1] "markers"
|
| | 0%
|
|============== | 20%
|
|============================ | 40%
|
|========================================== | 60%[1] "markers"
[1] "markers"
|
| | 0%
|
|============== | 20%
|
|============================ | 40%
|
|========================================== | 60%[1] "markers"
[1] "markers"
|
| | 0%
|
|============== | 20%
|
|============================ | 40%
|
|========================================== | 60%[1] "markers"
[1] "markers"
|
| | 0%
|
|============== | 20%
|
|============================ | 40%
|
|========================================== | 60%[1] "markers"
[1] "markers"
[1] "markers"
|
| | 0%
|
|======= | 10%
|
|============== | 20%
|
|===================== | 30%
|
|============================ | 40%
|
|=================================== | 50%
|
|========================================== | 60%
|
|================================================= | 70%
|
|======================================================== | 80%[1] "markers"
[1] "markers"
|
| | 0%
|
|======= | 10%
|
|============== | 20%
|
|===================== | 30%
|
|============================ | 40%
|
|=================================== | 50%
|
|========================================== | 60%
|
|================================================= | 70%
|
|======================================================== | 80%[1] "markers"
[1] "markers"
|
| | 0%
|
|======= | 10%
|
|============== | 20%
|
|===================== | 30%
|
|============================ | 40%
|
|=================================== | 50%
|
|========================================== | 60%
|
|================================================= | 70%
|
|======================================================== | 80%[1] "markers"
[1] "markers"
|
| | 0%
|
|======= | 10%
|
|============== | 20%
|
|===================== | 30%
|
|============================ | 40%
|
|=================================== | 50%
|
|========================================== | 60%
|
|================================================= | 70%
|
|======================================================== | 80%[1] "markers"
[1] "markers"
|
| | 0%
|
|======= | 10%
|
|============== | 20%
|
|===================== | 30%
|
|============================ | 40%
|
|=================================== | 50%
|
|========================================== | 60%
|
|================================================= | 70%
|
|======================================================== | 80%[1] "markers"
[1] "markers"
|
| | 0%
|
|======= | 10%
|
|============== | 20%
|
|===================== | 30%
|
|============================ | 40%
|
|=================================== | 50%
|
|========================================== | 60%
|
|================================================= | 70%
|
|======================================================== | 80%[1] "markers"
[1] "markers"
[1] "markers"
[1] "markers"
[ FAIL 0 | WARN 0 | SKIP 0 | PASS 36 ]
>
> proc.time()
user system elapsed
112.609 2.063 114.667
bandle.Rcheck/bandle-Ex.timings
| name | user | system | elapsed | |
| bandle-EFDR | 9.061 | 0.708 | 9.769 | |
| bandle-cpp | 0 | 0 | 0 | |
| bandle-differentiallocalisation | 23.369 | 0.499 | 23.870 | |
| bandle-gp | 0.001 | 0.000 | 0.001 | |
| bandle-gpfit | 17.380 | 0.212 | 17.592 | |
| bandle-internal | 0.495 | 0.008 | 0.502 | |
| bandle-meanOrganelle | 0.030 | 0.004 | 0.034 | |
| bandle-plots-convergence | 6.630 | 0.068 | 6.698 | |
| bandle-plots-prob | 5.985 | 0.036 | 6.021 | |
| bandle-plots-spatial | 0 | 0 | 0 | |
| bandle-plots-translocations-table | 6.788 | 0.080 | 6.869 | |
| bandle-plots-translocations | 8.378 | 0.048 | 8.425 | |
| bandle-predict | 7.869 | 0.028 | 7.897 | |
| bandle-prior | 6.532 | 0.468 | 7.000 | |
| bandle-process | 7.446 | 0.044 | 7.489 | |
| bandle-sim | 0.474 | 0.004 | 0.477 | |
| bandle | 11.261 | 0.192 | 11.454 | |
| method-mr | 1.669 | 0.012 | 1.681 | |