| Back to Multiple platform build/check report for BioC 3.18: simplified long |
|
This page was generated on 2024-04-17 11:35:46 -0400 (Wed, 17 Apr 2024).
| Hostname | OS | Arch (*) | R version | Installed pkgs |
|---|---|---|---|---|
| nebbiolo2 | Linux (Ubuntu 22.04.3 LTS) | x86_64 | 4.3.3 (2024-02-29) -- "Angel Food Cake" | 4676 |
| palomino4 | Windows Server 2022 Datacenter | x64 | 4.3.3 (2024-02-29 ucrt) -- "Angel Food Cake" | 4414 |
| merida1 | macOS 12.7.1 Monterey | x86_64 | 4.3.3 (2024-02-29) -- "Angel Food Cake" | 4437 |
| Click on any hostname to see more info about the system (e.g. compilers) (*) as reported by 'uname -p', except on Windows and Mac OS X | ||||
| Package 77/2266 | Hostname | OS / Arch | INSTALL | BUILD | CHECK | BUILD BIN | ||||||||
| anota2seq 1.24.0 (landing page) Christian Oertlin
| nebbiolo2 | Linux (Ubuntu 22.04.3 LTS) / x86_64 | OK | OK | ERROR | |||||||||
| palomino4 | Windows Server 2022 Datacenter / x64 | OK | OK | OK | OK | |||||||||
| merida1 | macOS 12.7.1 Monterey / x86_64 | OK | OK | OK | OK | |||||||||
| kjohnson1 | macOS 13.6.1 Ventura / arm64 | see weekly results here | ||||||||||||
|
To the developers/maintainers of the anota2seq package: - Allow up to 24 hours (and sometimes 48 hours) for your latest push to git@git.bioconductor.org:packages/anota2seq.git to reflect on this report. See Troubleshooting Build Report for more information. - Use the following Renviron settings to reproduce errors and warnings. - If 'R CMD check' started to fail recently on the Linux builder(s) over a missing dependency, add the missing dependency to 'Suggests:' in your DESCRIPTION file. See Renviron.bioc for more information. |
| Package: anota2seq |
| Version: 1.24.0 |
| Command: /home/biocbuild/bbs-3.18-bioc/R/bin/R CMD check --install=check:anota2seq.install-out.txt --library=/home/biocbuild/bbs-3.18-bioc/R/site-library --timings anota2seq_1.24.0.tar.gz |
| StartedAt: 2024-04-15 20:03:07 -0400 (Mon, 15 Apr 2024) |
| EndedAt: 2024-04-15 20:10:00 -0400 (Mon, 15 Apr 2024) |
| EllapsedTime: 412.4 seconds |
| RetCode: 1 |
| Status: ERROR |
| CheckDir: anota2seq.Rcheck |
| Warnings: NA |
##############################################################################
##############################################################################
###
### Running command:
###
### /home/biocbuild/bbs-3.18-bioc/R/bin/R CMD check --install=check:anota2seq.install-out.txt --library=/home/biocbuild/bbs-3.18-bioc/R/site-library --timings anota2seq_1.24.0.tar.gz
###
##############################################################################
##############################################################################
* using log directory ‘/home/biocbuild/bbs-3.18-bioc/meat/anota2seq.Rcheck’
* using R version 4.3.3 (2024-02-29)
* using platform: x86_64-pc-linux-gnu (64-bit)
* R was compiled by
gcc (Ubuntu 11.4.0-1ubuntu1~22.04) 11.4.0
GNU Fortran (Ubuntu 11.4.0-1ubuntu1~22.04) 11.4.0
* running under: Ubuntu 22.04.4 LTS
* using session charset: UTF-8
* checking for file ‘anota2seq/DESCRIPTION’ ... OK
* this is package ‘anota2seq’ version ‘1.24.0’
* checking package namespace information ... OK
* checking package dependencies ... OK
* checking if this is a source package ... OK
* checking if there is a namespace ... OK
* checking for hidden files and directories ... OK
* checking for portable file names ... OK
* checking for sufficient/correct file permissions ... OK
* checking whether package ‘anota2seq’ can be installed ... OK
* checking installed package size ... OK
* checking package directory ... OK
* checking ‘build’ directory ... OK
* checking DESCRIPTION meta-information ... OK
* checking top-level files ... OK
* checking for left-over files ... OK
* checking index information ... OK
* checking package subdirectories ... OK
* checking R files for non-ASCII characters ... OK
* checking R files for syntax errors ... OK
* checking whether the package can be loaded ... OK
* checking whether the package can be loaded with stated dependencies ... OK
* checking whether the package can be unloaded cleanly ... OK
* checking whether the namespace can be loaded with stated dependencies ... OK
* checking whether the namespace can be unloaded cleanly ... OK
* checking loading without being on the library search path ... OK
* checking dependencies in R code ... OK
* checking S3 generic/method consistency ... OK
* checking replacement functions ... OK
* checking foreign function calls ... OK
* checking R code for possible problems ... OK
* checking Rd files ... OK
* checking Rd metadata ... OK
* checking Rd cross-references ... OK
* checking for missing documentation entries ... OK
* checking for code/documentation mismatches ... OK
* checking Rd \usage sections ... OK
* checking Rd contents ... OK
* checking for unstated dependencies in examples ... OK
* checking contents of ‘data’ directory ... OK
* checking data for non-ASCII characters ... OK
* checking LazyData ... OK
* checking data for ASCII and uncompressed saves ... OK
* checking files in ‘vignettes’ ... OK
* checking examples ... OK
Examples with CPU (user + system) or elapsed time > 5s
user system elapsed
anota2seqGetQualityControl 31.455 0.280 31.735
anota2seqGetResidOutlierTest 31.479 0.232 31.711
* checking for unstated dependencies in vignettes ... OK
* checking package vignettes in ‘inst/doc’ ... OK
* checking running R code from vignettes ...
‘anota2seq.Rnw’... failed
ERROR
Errors in running code in vignettes:
when running code in ‘anota2seq.Rnw’
...
All input checkpoints passed.
> ads <- anota2seqPerformQC(Anota2seqDataSet = ads,
+ generateSingleGenePlots = TRUE, fileName = "figure/singleReg.pdf",
+ fileStem = "figur ..." ... [TRUNCATED]
When sourcing ‘anota2seq.R’:
Error: cannot open file 'figure/singleReg.pdf'
Execution halted
* checking re-building of vignette outputs ... NOTE
Error(s) in re-building vignettes:
...
--- re-building ‘anota2seq.Rnw’ using knitr
Error: processing vignette 'anota2seq.Rnw' failed with diagnostics:
Running 'texi2dvi' on 'anota2seq.tex' failed.
LaTeX errors:
! Package pdftex.def Error: File `figure/badSim.pdf' not found: using draft set
ting.
See the pdftex.def package documentation for explanation.
Type H <return> for immediate help.
! Emergency stop.
...
l.301 \includegraphics[]{figure/badSim.pdf}
! ==> Fatal error occurred, no output PDF file produced!
--- failed re-building ‘anota2seq.Rnw’
SUMMARY: processing the following file failed:
‘anota2seq.Rnw’
Error: Vignette re-building failed.
Execution halted
* checking PDF version of manual ... OK
* DONE
Status: 1 ERROR, 1 NOTE
See
‘/home/biocbuild/bbs-3.18-bioc/meat/anota2seq.Rcheck/00check.log’
for details.
anota2seq.Rcheck/00install.out
############################################################################## ############################################################################## ### ### Running command: ### ### /home/biocbuild/bbs-3.18-bioc/R/bin/R CMD INSTALL anota2seq ### ############################################################################## ############################################################################## * installing to library ‘/home/biocbuild/bbs-3.18-bioc/R/site-library’ * installing *source* package ‘anota2seq’ ... ** using staged installation ** R ** data *** moving datasets to lazyload DB ** inst ** byte-compile and prepare package for lazy loading ** help *** installing help indices ** building package indices ** installing vignettes ** testing if installed package can be loaded from temporary location ** testing if installed package can be loaded from final location ** testing if installed package keeps a record of temporary installation path * DONE (anota2seq)
anota2seq.Rcheck/anota2seq-Ex.timings
| name | user | system | elapsed | |
| anota2seq-plots | 0 | 0 | 0 | |
| anota2seqAnalyze | 0.778 | 0.097 | 0.850 | |
| anota2seqDataSetFromMatrix | 0.058 | 0.000 | 0.058 | |
| anota2seqGetContrasts | 0.452 | 0.008 | 0.447 | |
| anota2seqGetCovariates | 0.458 | 0.012 | 0.471 | |
| anota2seqGetDeltaData | 0.443 | 0.020 | 0.463 | |
| anota2seqGetNormalizedData | 0.031 | 0.000 | 0.031 | |
| anota2seqGetOutput | 0.404 | 0.008 | 0.412 | |
| anota2seqGetQualityControl | 31.455 | 0.280 | 31.735 | |
| anota2seqGetResidOutlierTest | 31.479 | 0.232 | 31.711 | |
| anota2seqGetThresholds | 0.413 | 0.004 | 0.417 | |
| anota2seqPerformQC | 0.000 | 0.000 | 0.001 | |
| anota2seqRegModes | 1.160 | 0.004 | 1.164 | |
| anota2seqResidOutlierTest | 0 | 0 | 0 | |
| anota2seqRun | 1.124 | 0.000 | 1.124 | |
| anota2seqSelSigGenes | 0.415 | 0.004 | 0.418 | |
| anota2seq_data | 0.012 | 0.000 | 0.012 | |
| show-Anota2seqDataSet-method | 0.089 | 0.000 | 0.089 | |