| Back to Multiple platform build/check report for BioC 3.18: simplified long |
|
This page was generated on 2024-04-17 11:35:45 -0400 (Wed, 17 Apr 2024).
| Hostname | OS | Arch (*) | R version | Installed pkgs |
|---|---|---|---|---|
| nebbiolo2 | Linux (Ubuntu 22.04.3 LTS) | x86_64 | 4.3.3 (2024-02-29) -- "Angel Food Cake" | 4676 |
| palomino4 | Windows Server 2022 Datacenter | x64 | 4.3.3 (2024-02-29 ucrt) -- "Angel Food Cake" | 4414 |
| merida1 | macOS 12.7.1 Monterey | x86_64 | 4.3.3 (2024-02-29) -- "Angel Food Cake" | 4437 |
| Click on any hostname to see more info about the system (e.g. compilers) (*) as reported by 'uname -p', except on Windows and Mac OS X | ||||
| Package 53/2266 | Hostname | OS / Arch | INSTALL | BUILD | CHECK | BUILD BIN | ||||||||
| alevinQC 1.18.1 (landing page) Charlotte Soneson
| nebbiolo2 | Linux (Ubuntu 22.04.3 LTS) / x86_64 | OK | OK | OK | |||||||||
| palomino4 | Windows Server 2022 Datacenter / x64 | OK | OK | OK | OK | |||||||||
| merida1 | macOS 12.7.1 Monterey / x86_64 | OK | OK | OK | OK | |||||||||
| kjohnson1 | macOS 13.6.1 Ventura / arm64 | see weekly results here | ||||||||||||
|
To the developers/maintainers of the alevinQC package: - Allow up to 24 hours (and sometimes 48 hours) for your latest push to git@git.bioconductor.org:packages/alevinQC.git to reflect on this report. See Troubleshooting Build Report for more information. - Use the following Renviron settings to reproduce errors and warnings. - If 'R CMD check' started to fail recently on the Linux builder(s) over a missing dependency, add the missing dependency to 'Suggests:' in your DESCRIPTION file. See Renviron.bioc for more information. |
| Package: alevinQC |
| Version: 1.18.1 |
| Command: /home/biocbuild/bbs-3.18-bioc/R/bin/R CMD check --install=check:alevinQC.install-out.txt --library=/home/biocbuild/bbs-3.18-bioc/R/site-library --timings alevinQC_1.18.1.tar.gz |
| StartedAt: 2024-04-15 19:58:38 -0400 (Mon, 15 Apr 2024) |
| EndedAt: 2024-04-15 20:01:49 -0400 (Mon, 15 Apr 2024) |
| EllapsedTime: 191.5 seconds |
| RetCode: 0 |
| Status: OK |
| CheckDir: alevinQC.Rcheck |
| Warnings: 0 |
##############################################################################
##############################################################################
###
### Running command:
###
### /home/biocbuild/bbs-3.18-bioc/R/bin/R CMD check --install=check:alevinQC.install-out.txt --library=/home/biocbuild/bbs-3.18-bioc/R/site-library --timings alevinQC_1.18.1.tar.gz
###
##############################################################################
##############################################################################
* using log directory ‘/home/biocbuild/bbs-3.18-bioc/meat/alevinQC.Rcheck’
* using R version 4.3.3 (2024-02-29)
* using platform: x86_64-pc-linux-gnu (64-bit)
* R was compiled by
gcc (Ubuntu 11.4.0-1ubuntu1~22.04) 11.4.0
GNU Fortran (Ubuntu 11.4.0-1ubuntu1~22.04) 11.4.0
* running under: Ubuntu 22.04.4 LTS
* using session charset: UTF-8
* checking for file ‘alevinQC/DESCRIPTION’ ... OK
* checking extension type ... Package
* this is package ‘alevinQC’ version ‘1.18.1’
* package encoding: UTF-8
* checking package namespace information ... OK
* checking package dependencies ... OK
* checking if this is a source package ... OK
* checking if there is a namespace ... OK
* checking for hidden files and directories ... OK
* checking for portable file names ... OK
* checking for sufficient/correct file permissions ... OK
* checking whether package ‘alevinQC’ can be installed ... OK
* used C++ compiler: ‘g++ (Ubuntu 11.4.0-1ubuntu1~22.04) 11.4.0’
* checking C++ specification ... NOTE
Specified C++11: please drop specification unless essential
* checking installed package size ... NOTE
installed size is 20.3Mb
sub-directories of 1Mb or more:
extdata 19.3Mb
* checking package directory ... OK
* checking ‘build’ directory ... OK
* checking DESCRIPTION meta-information ... OK
* checking top-level files ... OK
* checking for left-over files ... OK
* checking index information ... OK
* checking package subdirectories ... OK
* checking R files for non-ASCII characters ... OK
* checking R files for syntax errors ... OK
* checking whether the package can be loaded ... OK
* checking whether the package can be loaded with stated dependencies ... OK
* checking whether the package can be unloaded cleanly ... OK
* checking whether the namespace can be loaded with stated dependencies ... OK
* checking whether the namespace can be unloaded cleanly ... OK
* checking loading without being on the library search path ... OK
* checking dependencies in R code ... OK
* checking S3 generic/method consistency ... OK
* checking replacement functions ... OK
* checking foreign function calls ... OK
* checking R code for possible problems ... OK
* checking Rd files ... OK
* checking Rd metadata ... OK
* checking Rd cross-references ... OK
* checking for missing documentation entries ... OK
* checking for code/documentation mismatches ... OK
* checking Rd \usage sections ... OK
* checking Rd contents ... OK
* checking for unstated dependencies in examples ... OK
* checking line endings in C/C++/Fortran sources/headers ... OK
* checking compiled code ... NOTE
Note: information on .o files is not available
* checking files in ‘vignettes’ ... OK
* checking examples ... OK
Examples with CPU (user + system) or elapsed time > 5s
user system elapsed
qcReport 18.282 0.246 18.521
* checking for unstated dependencies in ‘tests’ ... OK
* checking tests ...
Running ‘testthat.R’
OK
* checking for unstated dependencies in vignettes ... OK
* checking package vignettes in ‘inst/doc’ ... OK
* checking running R code from vignettes ...
‘alevinqc.Rmd’ using ‘UTF-8’... OK
OK
* checking re-building of vignette outputs ... OK
* checking PDF version of manual ... OK
* DONE
Status: 3 NOTEs
See
‘/home/biocbuild/bbs-3.18-bioc/meat/alevinQC.Rcheck/00check.log’
for details.
alevinQC.Rcheck/00install.out
############################################################################## ############################################################################## ### ### Running command: ### ### /home/biocbuild/bbs-3.18-bioc/R/bin/R CMD INSTALL alevinQC ### ############################################################################## ############################################################################## * installing to library ‘/home/biocbuild/bbs-3.18-bioc/R/site-library’ * installing *source* package ‘alevinQC’ ... ** using staged installation ** libs using C++ compiler: ‘g++ (Ubuntu 11.4.0-1ubuntu1~22.04) 11.4.0’ using C++11 g++ -std=gnu++11 -I"/home/biocbuild/bbs-3.18-bioc/R/include" -DNDEBUG -I'/home/biocbuild/bbs-3.18-bioc/R/site-library/Rcpp/include' -I/usr/local/include -fpic -g -O2 -Wall -c RcppExports.cpp -o RcppExports.o g++ -std=gnu++11 -I"/home/biocbuild/bbs-3.18-bioc/R/include" -DNDEBUG -I'/home/biocbuild/bbs-3.18-bioc/R/site-library/Rcpp/include' -I/usr/local/include -fpic -g -O2 -Wall -c convert_permit_freq.cpp -o convert_permit_freq.o g++ -std=gnu++11 -shared -L/home/biocbuild/bbs-3.18-bioc/R/lib -L/usr/local/lib -o alevinQC.so RcppExports.o convert_permit_freq.o -L/home/biocbuild/bbs-3.18-bioc/R/lib -lR installing to /home/biocbuild/bbs-3.18-bioc/R/site-library/00LOCK-alevinQC/00new/alevinQC/libs ** R ** inst ** byte-compile and prepare package for lazy loading ** help *** installing help indices ** building package indices ** installing vignettes ** testing if installed package can be loaded from temporary location ** checking absolute paths in shared objects and dynamic libraries ** testing if installed package can be loaded from final location ** testing if installed package keeps a record of temporary installation path * DONE (alevinQC)
alevinQC.Rcheck/tests/testthat.Rout
R version 4.3.3 (2024-02-29) -- "Angel Food Cake"
Copyright (C) 2024 The R Foundation for Statistical Computing
Platform: x86_64-pc-linux-gnu (64-bit)
R is free software and comes with ABSOLUTELY NO WARRANTY.
You are welcome to redistribute it under certain conditions.
Type 'license()' or 'licence()' for distribution details.
R is a collaborative project with many contributors.
Type 'contributors()' for more information and
'citation()' on how to cite R or R packages in publications.
Type 'demo()' for some demos, 'help()' for on-line help, or
'help.start()' for an HTML browser interface to help.
Type 'q()' to quit R.
> library(testthat)
> library(alevinQC)
>
> test_check("alevinQC")
100% of barcodes in custom barcode set set2 were found in the data set (100% were quantified)
100% of barcodes in custom barcode set set2 were found in the data set (100% were quantified)
The magick package is required to crop "tmp2_files/figure-html/unnamed-chunk-8-1.png" but not available.
The magick package is required to crop "tmp2_files/figure-html/unnamed-chunk-11-1.png" but not available.
The magick package is required to crop "tmp2_files/figure-html/unnamed-chunk-15-1.png" but not available.
The magick package is required to crop "tmp2_files/figure-html/unnamed-chunk-17-1.png" but not available.
The magick package is required to crop "tmp2_files/figure-html/unnamed-chunk-18-1.png" but not available.
100% of barcodes in custom barcode set set1 were found in the data set (100% were quantified)
100% of barcodes in custom barcode set set2 were found in the data set (100% were quantified)
[ FAIL 0 | WARN 0 | SKIP 0 | PASS 274 ]
>
> proc.time()
user system elapsed
94.304 1.860 96.250
alevinQC.Rcheck/alevinQC-Ex.timings
| name | user | system | elapsed | |
| checkAlevinFryInputFiles | 0.004 | 0.000 | 0.004 | |
| checkAlevinInputFiles | 0.001 | 0.000 | 0.002 | |
| plotAlevinBarcodeCollapse | 1.499 | 0.079 | 1.579 | |
| plotAlevinHistogram | 0.858 | 0.012 | 0.869 | |
| plotAlevinKneeNbrGenes | 0.783 | 0.017 | 0.798 | |
| plotAlevinKneeRaw | 1.985 | 0.095 | 2.080 | |
| plotAlevinQuant | 1.624 | 0.016 | 1.641 | |
| plotAlevinQuantPairs | 2.167 | 0.009 | 2.176 | |
| qcReport | 18.282 | 0.246 | 18.521 | |
| qcShiny | 1.175 | 0.012 | 1.186 | |
| readAlevinFryQC | 0.395 | 0.004 | 0.399 | |
| readAlevinQC | 0.495 | 0.012 | 0.507 | |