| Back to Multiple platform build/check report for BioC 3.18: simplified long |
|
This page was generated on 2023-11-02 11:40:23 -0400 (Thu, 02 Nov 2023).
| Hostname | OS | Arch (*) | R version | Installed pkgs |
|---|---|---|---|---|
| nebbiolo2 | Linux (Ubuntu 22.04.2 LTS) | x86_64 | 4.3.1 (2023-06-16) -- "Beagle Scouts" | 4729 |
| palomino4 | Windows Server 2022 Datacenter | x64 | 4.3.1 (2023-06-16 ucrt) -- "Beagle Scouts" | 4463 |
| lconway | macOS 12.6.5 Monterey | x86_64 | 4.3.1 Patched (2023-06-17 r84564) -- "Beagle Scouts" | 4478 |
| kunpeng2 | Linux (openEuler 22.03 LTS-SP1) | aarch64 | 4.3.1 (2023-06-16) -- "Beagle Scouts" | 4464 |
| Click on any hostname to see more info about the system (e.g. compilers) (*) as reported by 'uname -p', except on Windows and Mac OS X | ||||
| Package 8/2266 | Hostname | OS / Arch | INSTALL | BUILD | CHECK | BUILD BIN | ||||||||
| abseqR 1.20.0 (landing page) JiaHong Fong
| nebbiolo2 | Linux (Ubuntu 22.04.2 LTS) / x86_64 | OK | OK | OK | |||||||||
| palomino4 | Windows Server 2022 Datacenter / x64 | OK | OK | OK | OK | |||||||||
| lconway | macOS 12.6.5 Monterey / x86_64 | OK | OK | OK | OK | |||||||||
| kjohnson1 | macOS 13.6.1 Ventura / arm64 | see weekly results here | ||||||||||||
| kunpeng2 | Linux (openEuler 22.03 LTS-SP1) / aarch64 | OK | OK | OK | ||||||||||
|
To the developers/maintainers of the abseqR package: - Allow up to 24 hours (and sometimes 48 hours) for your latest push to git@git.bioconductor.org:packages/abseqR.git to reflect on this report. See Troubleshooting Build Report for more information. - Use the following Renviron settings to reproduce errors and warnings. - If 'R CMD check' started to fail recently on the Linux builder(s) over a missing dependency, add the missing dependency to 'Suggests:' in your DESCRIPTION file. See Renviron.bioc for more information. - See Martin Grigorov's blog post for how to debug Linux ARM64 related issues on a x86_64 host. |
| Package: abseqR |
| Version: 1.20.0 |
| Command: /home/biocbuild/R/R-4.3.1/bin/R CMD check --install=check:abseqR.install-out.txt --library=/home/biocbuild/R/R-4.3.1/site-library --no-vignettes --timings abseqR_1.20.0.tar.gz |
| StartedAt: 2023-11-02 08:11:24 -0000 (Thu, 02 Nov 2023) |
| EndedAt: 2023-11-02 08:14:09 -0000 (Thu, 02 Nov 2023) |
| EllapsedTime: 164.8 seconds |
| RetCode: 0 |
| Status: OK |
| CheckDir: abseqR.Rcheck |
| Warnings: 0 |
##############################################################################
##############################################################################
###
### Running command:
###
### /home/biocbuild/R/R-4.3.1/bin/R CMD check --install=check:abseqR.install-out.txt --library=/home/biocbuild/R/R-4.3.1/site-library --no-vignettes --timings abseqR_1.20.0.tar.gz
###
##############################################################################
##############################################################################
* using log directory ‘/home/biocbuild/bbs-3.18-bioc/meat/abseqR.Rcheck’
* using R version 4.3.1 (2023-06-16)
* using platform: aarch64-unknown-linux-gnu (64-bit)
* R was compiled by
gcc (GCC) 10.3.1
GNU Fortran (GCC) 10.3.1
* running under: openEuler 22.03 (LTS-SP1)
* using session charset: UTF-8
* using option ‘--no-vignettes’
* checking for file ‘abseqR/DESCRIPTION’ ... OK
* checking extension type ... Package
* this is package ‘abseqR’ version ‘1.20.0’
* package encoding: UTF-8
* checking package namespace information ... OK
* checking package dependencies ... OK
* checking if this is a source package ... OK
* checking if there is a namespace ... OK
* checking for hidden files and directories ... OK
* checking for portable file names ... OK
* checking for sufficient/correct file permissions ... OK
* checking whether package ‘abseqR’ can be installed ... OK
* checking installed package size ... OK
* checking package directory ... OK
* checking ‘build’ directory ... OK
* checking DESCRIPTION meta-information ... OK
* checking top-level files ... OK
* checking for left-over files ... OK
* checking index information ... OK
* checking package subdirectories ... OK
* checking R files for non-ASCII characters ... OK
* checking R files for syntax errors ... OK
* checking whether the package can be loaded ... OK
* checking whether the package can be loaded with stated dependencies ... OK
* checking whether the package can be unloaded cleanly ... OK
* checking whether the namespace can be loaded with stated dependencies ... OK
* checking whether the namespace can be unloaded cleanly ... OK
* checking loading without being on the library search path ... OK
* checking dependencies in R code ... OK
* checking S3 generic/method consistency ... OK
* checking replacement functions ... OK
* checking foreign function calls ... OK
* checking R code for possible problems ... NOTE
.aminoAcidBar: no visible binding for global variable ‘position’
.aminoAcidBar: no visible binding for global variable ‘proportion’
.aminoAcidBar: no visible binding for global variable ‘aa’
.boxPlot: no visible binding for global variable ‘x’
.boxPlot: no visible binding for global variable ‘y’
.cloneDistHist: no visible binding for global variable ‘prop’
.cloneDistHist: no visible binding for global variable ‘..count..’
.cloneDistMarginal: no visible binding for global variable ‘prop’
.cloneDistMarginal: no visible binding for global variable ‘..scaled..’
.hmFromMatrix: no visible binding for global variable ‘Var2’
.hmFromMatrix: no visible binding for global variable ‘Var1’
.hmFromMatrix: no visible binding for global variable ‘value’
.plotDist: no visible binding for global variable ‘x’
.plotDist: no visible binding for global variable ‘y’
.plotDuplication: no visible binding for global variable ‘x’
.plotDuplication: no visible binding for global variable ‘y’
.plotDuplication: no visible binding for global variable ‘region’
.plotRarefaction: no visible binding for global variable ‘x’
.plotRarefaction: no visible binding for global variable ‘y’
.plotRarefaction: no visible binding for global variable ‘region’
.plotRarefaction: no visible binding for global variable ‘ci’
.plotRarefaction: no visible binding for global variable ‘compound’
.plotRecapture: no visible binding for global variable ‘x’
.plotRecapture: no visible binding for global variable ‘y’
.plotRecapture: no visible binding for global variable ‘region’
.plotRecapture: no visible binding for global variable ‘ci’
.plotRecapture: no visible binding for global variable ‘compound’
.plotSpectratype: no visible binding for global variable ‘percent’
.productivityPlot: no visible binding for global variable ‘Percentage’
.productivityPlot: no visible binding for global variable ‘Reason’
.regionAnalysis: no visible binding for global variable ‘cdr3’
.regionAnalysis: no visible binding for global variable ‘value’
.regionAnalysis: no visible binding for global variable ‘variable’
.scatterPlot: no visible binding for global variable ‘Count.x’
.scatterPlot: no visible binding for global variable ‘Count.y’
.scatterPlotComplex: no visible binding for global variable ‘prop.x’
.scatterPlotComplex: no visible binding for global variable ‘prop.y’
.topNDist: no visible binding for global variable ‘normPerc’
.topNDist: no visible binding for global variable ‘Clonotype’
Undefined global functions or variables:
..count.. ..scaled.. Clonotype Count.x Count.y Percentage Reason Var1
Var2 aa cdr3 ci compound normPerc percent position prop prop.x prop.y
proportion region value variable x y
* checking Rd files ... OK
* checking Rd metadata ... OK
* checking Rd cross-references ... OK
* checking for missing documentation entries ... OK
* checking for code/documentation mismatches ... OK
* checking Rd \usage sections ... OK
* checking Rd contents ... OK
* checking for unstated dependencies in examples ... OK
* checking files in ‘vignettes’ ... OK
* checking examples ... OK
* checking for unstated dependencies in ‘tests’ ... OK
* checking tests ...
Running ‘testthat.R’
OK
* checking for unstated dependencies in vignettes ... OK
* checking package vignettes in ‘inst/doc’ ... OK
* checking running R code from vignettes ... SKIPPED
* checking re-building of vignette outputs ... SKIPPED
* checking PDF version of manual ... OK
* DONE
Status: 1 NOTE
See
‘/home/biocbuild/bbs-3.18-bioc/meat/abseqR.Rcheck/00check.log’
for details.
abseqR.Rcheck/00install.out
############################################################################## ############################################################################## ### ### Running command: ### ### /home/biocbuild/R/R-4.3.1/bin/R CMD INSTALL abseqR ### ############################################################################## ############################################################################## * installing to library ‘/home/biocbuild/R/R-4.3.1/site-library’ * installing *source* package ‘abseqR’ ... ** using staged installation ** R ** inst ** byte-compile and prepare package for lazy loading ** help *** installing help indices *** copying figures ** building package indices ** installing vignettes ** testing if installed package can be loaded from temporary location ** testing if installed package can be loaded from final location ** testing if installed package keeps a record of temporary installation path * DONE (abseqR)
abseqR.Rcheck/tests/testthat.Rout
R version 4.3.1 (2023-06-16) -- "Beagle Scouts"
Copyright (C) 2023 The R Foundation for Statistical Computing
Platform: aarch64-unknown-linux-gnu (64-bit)
R is free software and comes with ABSOLUTELY NO WARRANTY.
You are welcome to redistribute it under certain conditions.
Type 'license()' or 'licence()' for distribution details.
R is a collaborative project with many contributors.
Type 'contributors()' for more information and
'citation()' on how to cite R or R packages in publications.
Type 'demo()' for some demos, 'help()' for on-line help, or
'help.start()' for an HTML browser interface to help.
Type 'q()' to quit R.
> library(testthat)
> library(abseqR)
>
> test_check("abseqR")
[ FAIL 0 | WARN 2 | SKIP 0 | PASS 30 ]
[ FAIL 0 | WARN 2 | SKIP 0 | PASS 30 ]
>
> proc.time()
user system elapsed
50.985 3.176 59.695
abseqR.Rcheck/abseqR-Ex.timings
| name | user | system | elapsed | |
| AbSeqCRep-class | 1.195 | 0.046 | 1.394 | |
| AbSeqRep-class | 0.036 | 0.016 | 0.085 | |
| abseqReport | 0.033 | 0.020 | 0.076 | |
| plus-AbSeqCRep-AbSeqCRep-method | 0.024 | 0.028 | 0.069 | |
| plus-AbSeqCRep-AbSeqRep-method | 0.029 | 0.023 | 0.057 | |
| plus-AbSeqRep-AbSeqCRep-method | 0.032 | 0.023 | 0.058 | |
| plus-AbSeqRep-AbSeqRep-method | 0.027 | 0.027 | 0.062 | |
| report | 0.034 | 0.020 | 0.057 | |