| Back to Multiple platform build/check report for BioC 3.18: simplified long |
|
This page was generated on 2023-10-13 11:40:58 -0400 (Fri, 13 Oct 2023).
| Hostname | OS | Arch (*) | R version | Installed pkgs |
|---|---|---|---|---|
| nebbiolo2 | Linux (Ubuntu 22.04.2 LTS) | x86_64 | 4.3.1 (2023-06-16) -- "Beagle Scouts" | 4679 |
| palomino4 | Windows Server 2022 Datacenter | x64 | 4.3.1 (2023-06-16 ucrt) -- "Beagle Scouts" | 4414 |
| lconway | macOS 12.6.5 Monterey | x86_64 | 4.3.1 Patched (2023-06-17 r84564) -- "Beagle Scouts" | 4433 |
| kunpeng2 | Linux (openEuler 22.03 LTS-SP1) | aarch64 | 4.3.1 (2023-06-16) -- "Beagle Scouts" | 4419 |
| Click on any hostname to see more info about the system (e.g. compilers) (*) as reported by 'uname -p', except on Windows and Mac OS X | ||||
| Package 2237/2244 | Hostname | OS / Arch | INSTALL | BUILD | CHECK | BUILD BIN | ||||||||
| YAPSA 1.27.8 (landing page) Zuguang Gu
| nebbiolo2 | Linux (Ubuntu 22.04.2 LTS) / x86_64 | OK | OK | OK | |||||||||
| palomino4 | Windows Server 2022 Datacenter / x64 | OK | OK | OK | OK | |||||||||
| lconway | macOS 12.6.5 Monterey / x86_64 | OK | OK | OK | OK | |||||||||
| kjohnson1 | macOS 13.3.1 Ventura / arm64 | see weekly results here | ||||||||||||
| kunpeng2 | Linux (openEuler 22.03 LTS-SP1) / aarch64 | OK | OK | OK | ||||||||||
|
To the developers/maintainers of the YAPSA package: - Allow up to 24 hours (and sometimes 48 hours) for your latest push to git@git.bioconductor.org:packages/YAPSA.git to reflect on this report. See Troubleshooting Build Report for more information. - Use the following Renviron settings to reproduce errors and warnings. - If 'R CMD check' started to fail recently on the Linux builder(s) over a missing dependency, add the missing dependency to 'Suggests:' in your DESCRIPTION file. See Renviron.bioc for more information. - See Martin Grigorov's blog post for how to debug Linux ARM64 related issues on a x86_64 host. |
| Package: YAPSA |
| Version: 1.27.8 |
| Command: /home/biocbuild/R/R-4.3.1/bin/R CMD check --install=check:YAPSA.install-out.txt --library=/home/biocbuild/R/R-4.3.1/site-library --timings YAPSA_1.27.8.tar.gz |
| StartedAt: 2023-10-13 14:09:12 -0000 (Fri, 13 Oct 2023) |
| EndedAt: 2023-10-13 14:25:10 -0000 (Fri, 13 Oct 2023) |
| EllapsedTime: 958.0 seconds |
| RetCode: 0 |
| Status: OK |
| CheckDir: YAPSA.Rcheck |
| Warnings: 0 |
##############################################################################
##############################################################################
###
### Running command:
###
### /home/biocbuild/R/R-4.3.1/bin/R CMD check --install=check:YAPSA.install-out.txt --library=/home/biocbuild/R/R-4.3.1/site-library --timings YAPSA_1.27.8.tar.gz
###
##############################################################################
##############################################################################
* using log directory ‘/home/biocbuild/bbs-3.18-bioc/meat/YAPSA.Rcheck’
* using R version 4.3.1 (2023-06-16)
* using platform: aarch64-unknown-linux-gnu (64-bit)
* R was compiled by
gcc (GCC) 10.3.1
GNU Fortran (GCC) 10.3.1
* running under: openEuler 22.03 (LTS-SP1)
* using session charset: UTF-8
* checking for file ‘YAPSA/DESCRIPTION’ ... OK
* checking extension type ... Package
* this is package ‘YAPSA’ version ‘1.27.8’
* package encoding: UTF-8
* checking package namespace information ... OK
* checking package dependencies ... OK
* checking if this is a source package ... OK
* checking if there is a namespace ... OK
* checking for hidden files and directories ... OK
* checking for portable file names ... OK
* checking for sufficient/correct file permissions ... OK
* checking whether package ‘YAPSA’ can be installed ... OK
* checking installed package size ... OK
* checking package directory ... OK
* checking ‘build’ directory ... OK
* checking DESCRIPTION meta-information ... OK
* checking top-level files ... OK
* checking for left-over files ... OK
* checking index information ... OK
* checking package subdirectories ... OK
* checking R files for non-ASCII characters ... OK
* checking R files for syntax errors ... OK
* checking whether the package can be loaded ... OK
* checking whether the package can be loaded with stated dependencies ... OK
* checking whether the package can be unloaded cleanly ... OK
* checking whether the namespace can be loaded with stated dependencies ... OK
* checking whether the namespace can be unloaded cleanly ... OK
* checking loading without being on the library search path ... OK
* checking dependencies in R code ... OK
* checking S3 generic/method consistency ... OK
* checking replacement functions ... OK
* checking foreign function calls ... OK
* checking R code for possible problems ... OK
* checking Rd files ... OK
* checking Rd metadata ... OK
* checking Rd cross-references ... OK
* checking for missing documentation entries ... OK
* checking for code/documentation mismatches ... OK
* checking Rd \usage sections ... OK
* checking Rd contents ... OK
* checking for unstated dependencies in examples ... OK
* checking contents of ‘data’ directory ... OK
* checking data for non-ASCII characters ... OK
* checking data for ASCII and uncompressed saves ... OK
* checking files in ‘vignettes’ ... OK
* checking examples ... OK
Examples with CPU (user + system) or elapsed time > 5s
user system elapsed
confidence_indel_only_calulation 33.857 0.280 34.192
create_indel_mutation_catalogue_from_df 20.824 1.006 21.871
run_SMC 7.056 0.304 7.372
build_gene_list_for_pathway 6.671 0.095 18.143
* checking for unstated dependencies in ‘tests’ ... OK
* checking tests ...
Running ‘testthat.R’
OK
* checking for unstated dependencies in vignettes ... OK
* checking package vignettes in ‘inst/doc’ ... OK
* checking running R code from vignettes ...
‘YAPSA.Rmd’ using ‘UTF-8’... OK
‘vignette_confidenceIntervals.Rmd’ using ‘UTF-8’... OK
‘vignette_exomes.Rmd’ using ‘UTF-8’... OK
‘vignette_signature_specific_cutoffs.Rmd’ using ‘UTF-8’... OK
‘vignette_stratifiedAnalysis.Rmd’ using ‘UTF-8’... OK
‘vignettes_Indel.Rmd’ using ‘UTF-8’... OK
NONE
* checking re-building of vignette outputs ... OK
* checking PDF version of manual ... OK
* DONE
Status: OK
YAPSA.Rcheck/00install.out
############################################################################## ############################################################################## ### ### Running command: ### ### /home/biocbuild/R/R-4.3.1/bin/R CMD INSTALL YAPSA ### ############################################################################## ############################################################################## * installing to library ‘/home/biocbuild/R/R-4.3.1/site-library’ * installing *source* package ‘YAPSA’ ... ** using staged installation ** R ** data ** inst ** byte-compile and prepare package for lazy loading ** help *** installing help indices ** building package indices ** installing vignettes ** testing if installed package can be loaded from temporary location ** testing if installed package can be loaded from final location ** testing if installed package keeps a record of temporary installation path * DONE (YAPSA)
YAPSA.Rcheck/tests/testthat.Rout
R version 4.3.1 (2023-06-16) -- "Beagle Scouts"
Copyright (C) 2023 The R Foundation for Statistical Computing
Platform: aarch64-unknown-linux-gnu (64-bit)
R is free software and comes with ABSOLUTELY NO WARRANTY.
You are welcome to redistribute it under certain conditions.
Type 'license()' or 'licence()' for distribution details.
R is a collaborative project with many contributors.
Type 'contributors()' for more information and
'citation()' on how to cite R or R packages in publications.
Type 'demo()' for some demos, 'help()' for on-line help, or
'help.start()' for an HTML browser interface to help.
Type 'q()' to quit R.
> Sys.setenv(R_TESTS=" ")
> library(testthat)
> library(YAPSA)
Loading required package: GenomicRanges
Loading required package: stats4
Loading required package: BiocGenerics
Attaching package: 'BiocGenerics'
The following objects are masked from 'package:stats':
IQR, mad, sd, var, xtabs
The following objects are masked from 'package:base':
Filter, Find, Map, Position, Reduce, anyDuplicated, aperm, append,
as.data.frame, basename, cbind, colnames, dirname, do.call,
duplicated, eval, evalq, get, grep, grepl, intersect, is.unsorted,
lapply, mapply, match, mget, order, paste, pmax, pmax.int, pmin,
pmin.int, rank, rbind, rownames, sapply, setdiff, sort, table,
tapply, union, unique, unsplit, which.max, which.min
Loading required package: S4Vectors
Attaching package: 'S4Vectors'
The following object is masked from 'package:utils':
findMatches
The following objects are masked from 'package:base':
I, expand.grid, unname
Loading required package: IRanges
Loading required package: GenomeInfoDb
Loading required package: ggplot2
Loading required package: grid
>
> test_check("YAPSA")
YAPSA:::shapiro_if_possible::error: Non-numeric inputYAPSA:::makeVRangesFromDataFrame::warning:strand information missing, set to "+".
YAPSA:::makeVRangesFromDataFrame::in_PID.field found. Retrieving PID information.
YAPSA:::makeVRangesFromDataFrame::in_subgroup.field found. Retrieving subgroup information.
[ FAIL 0 | WARN 1 | SKIP 0 | PASS 62 ]
[ FAIL 0 | WARN 1 | SKIP 0 | PASS 62 ]
>
> proc.time()
user system elapsed
25.059 0.938 26.024
YAPSA.Rcheck/YAPSA-Ex.timings
| name | user | system | elapsed | |
| GenomeOfNl_raw | 0.01 | 0.00 | 0.01 | |
| LCD | 0.007 | 0.003 | 0.010 | |
| LCD_complex_cutoff | 0 | 0 | 0 | |
| MutCat_indel_df | 0.004 | 0.000 | 0.005 | |
| SMC | 0.000 | 0.000 | 0.001 | |
| SMC_perPID | 0 | 0 | 0 | |
| add_annotation | 0 | 0 | 0 | |
| add_as_fist_to_list | 0 | 0 | 0 | |
| aggregate_exposures_by_category | 0 | 0 | 0 | |
| annotate_intermut_dist_PID | 0.026 | 0.000 | 0.025 | |
| annotate_intermut_dist_cohort | 0.032 | 0.000 | 0.031 | |
| annotation_exposures_barplot | 0 | 0 | 0 | |
| annotation_exposures_list_barplot | 0 | 0 | 0 | |
| annotation_heatmap_exposures | 0 | 0 | 0 | |
| attribute_nucleotide_exchanges | 0.004 | 0.000 | 0.003 | |
| attribute_sequence_contex_indel | 0.759 | 0.020 | 0.779 | |
| attribution_of_indels | 0.660 | 0.020 | 0.681 | |
| build_gene_list_for_pathway | 6.671 | 0.095 | 18.143 | |
| classify_indels | 0 | 0 | 0 | |
| compare_SMCs | 0 | 0 | 0 | |
| compare_exposures | 0 | 0 | 0 | |
| compare_expousre_sets | 0.004 | 0.000 | 0.005 | |
| compare_sets | 0.005 | 0.000 | 0.004 | |
| compare_to_catalogues | 0 | 0 | 0 | |
| complex_heatmap_exposures | 1.340 | 0.016 | 1.359 | |
| computeLogLik | 0.000 | 0.000 | 0.001 | |
| compute_comparison_stat_df | 0 | 0 | 0 | |
| confIntExp | 1.865 | 0.103 | 1.972 | |
| confidence_indel_calulation | 0.001 | 0.000 | 0.001 | |
| confidence_indel_only_calulation | 33.857 | 0.280 | 34.192 | |
| correct_rounded | 0 | 0 | 0 | |
| cosineDist | 0.001 | 0.000 | 0.000 | |
| cosineMatchDist | 0.000 | 0.002 | 0.001 | |
| create_indel_mut_cat_from_df | 0.664 | 0.009 | 0.674 | |
| create_indel_mutation_catalogue_from_df | 20.824 | 1.006 | 21.871 | |
| create_mutation_catalogue_from_VR | 1.859 | 0.064 | 1.927 | |
| create_mutation_catalogue_from_df | 1.339 | 0.104 | 1.445 | |
| cut_breaks_as_intervals | 0.199 | 0.016 | 0.216 | |
| deriveSigInd_df | 0 | 0 | 0 | |
| disambiguateVector | 0 | 0 | 0 | |
| enrichSigs | 0 | 0 | 0 | |
| exampleYAPSA | 0.075 | 0.004 | 0.079 | |
| exome_mutCatRaw_df | 0.012 | 0.004 | 0.015 | |
| exposures_barplot | 4.337 | 0.072 | 4.416 | |
| extract_names_from_gene_list | 0 | 0 | 0 | |
| find_affected_PIDs | 0 | 0 | 0 | |
| getSequenceContext | 0.186 | 0.018 | 0.204 | |
| get_extreme_PIDs | 0.011 | 0.000 | 0.012 | |
| hclust_exposures | 0.004 | 0.004 | 0.007 | |
| logLikelihood | 1.317 | 0.111 | 1.432 | |
| lymphomaNature2013_mutCat_df | 0.007 | 0.000 | 0.007 | |
| makeVRangesFromDataFrame | 0.169 | 0.000 | 0.169 | |
| make_catalogue_strata_df | 0.001 | 0.000 | 0.000 | |
| make_comparison_matrix | 0.205 | 0.012 | 0.217 | |
| make_strata_df | 0.000 | 0.000 | 0.001 | |
| make_subgroups_df | 0.04 | 0.00 | 0.04 | |
| melt_exposures | 0 | 0 | 0 | |
| merge_exposures | 0 | 0 | 0 | |
| normalizeMotifs_otherRownames | 0 | 0 | 0 | |
| normalize_df_per_dim | 0.013 | 0.000 | 0.013 | |
| plotExchangeSpectra | 0.000 | 0.000 | 0.001 | |
| plotExchangeSpectra_indel | 2.159 | 0.064 | 2.226 | |
| plotExposuresConfidence | 0.001 | 0.000 | 0.000 | |
| plotExposuresConfidence_indel | 0 | 0 | 0 | |
| plot_SMC | 0 | 0 | 0 | |
| plot_exposures | 0.875 | 0.000 | 0.876 | |
| plot_strata | 0.001 | 0.000 | 0.001 | |
| read_entry | 0 | 0 | 0 | |
| relateSigs | 0 | 0 | 0 | |
| repeat_df | 0.004 | 0.000 | 0.005 | |
| round_precision | 0 | 0 | 0 | |
| run_SMC | 7.056 | 0.304 | 7.372 | |
| run_annotate_vcf_pl | 0 | 0 | 0 | |
| run_comparison_catalogues | 0 | 0 | 0 | |
| run_comparison_general | 0.000 | 0.000 | 0.001 | |
| run_kmer_frequency_correction | 0 | 0 | 0 | |
| run_kmer_frequency_normalization | 0 | 0 | 0 | |
| run_plot_strata_general | 0 | 0 | 0 | |
| shapiro_if_possible | 0.001 | 0.000 | 0.001 | |
| split_exposures_by_subgroups | 0 | 0 | 0 | |
| stat_plot_subgroups | 0.001 | 0.000 | 0.000 | |
| stat_test_SMC | 0 | 0 | 0 | |
| stat_test_subgroups | 0 | 0 | 0 | |
| stderrmean | 0.001 | 0.000 | 0.000 | |
| sum_over_list_of_df | 0.003 | 0.000 | 0.003 | |
| testSigs | 0.001 | 0.000 | 0.000 | |
| test_exposureAffected | 0 | 0 | 0 | |
| test_gene_list_in_exposures | 0 | 0 | 0 | |
| transform_rownames_R_to_MATLAB | 0 | 0 | 0 | |
| translate_to_hg19 | 0.005 | 0.000 | 0.005 | |
| trellis_rainfall_plot | 2.649 | 0.048 | 2.705 | |
| variateExp | 3.728 | 0.119 | 3.855 | |
| variateExpSingle | 1.256 | 0.116 | 1.375 | |