| Back to Multiple platform build/check report for BioC 3.18: simplified long |
|
This page was generated on 2024-03-04 11:38:00 -0500 (Mon, 04 Mar 2024).
| Hostname | OS | Arch (*) | R version | Installed pkgs |
|---|---|---|---|---|
| nebbiolo2 | Linux (Ubuntu 22.04.3 LTS) | x86_64 | 4.3.2 Patched (2023-11-13 r85521) -- "Eye Holes" | 4692 |
| palomino4 | Windows Server 2022 Datacenter | x64 | 4.3.2 (2023-10-31 ucrt) -- "Eye Holes" | 4445 |
| lconway | macOS 12.7.1 Monterey | x86_64 | 4.3.2 Patched (2023-11-01 r85457) -- "Eye Holes" | 4466 |
| Click on any hostname to see more info about the system (e.g. compilers) (*) as reported by 'uname -p', except on Windows and Mac OS X | ||||
| Package 2234/2266 | Hostname | OS / Arch | INSTALL | BUILD | CHECK | BUILD BIN | ||||||||
| VplotR 1.12.1 (landing page) Jacques Serizay
| nebbiolo2 | Linux (Ubuntu 22.04.3 LTS) / x86_64 | OK | OK | OK | |||||||||
| palomino4 | Windows Server 2022 Datacenter / x64 | OK | OK | OK | OK | |||||||||
| lconway | macOS 12.7.1 Monterey / x86_64 | OK | OK | OK | OK | |||||||||
| kjohnson1 | macOS 13.6.1 Ventura / arm64 | see weekly results here | ||||||||||||
|
To the developers/maintainers of the VplotR package: - Allow up to 24 hours (and sometimes 48 hours) for your latest push to git@git.bioconductor.org:packages/VplotR.git to reflect on this report. See Troubleshooting Build Report for more information. - Use the following Renviron settings to reproduce errors and warnings. - If 'R CMD check' started to fail recently on the Linux builder(s) over a missing dependency, add the missing dependency to 'Suggests:' in your DESCRIPTION file. See Renviron.bioc for more information. |
| Package: VplotR |
| Version: 1.12.1 |
| Command: /Library/Frameworks/R.framework/Resources/bin/R CMD check --install=check:VplotR.install-out.txt --library=/Library/Frameworks/R.framework/Resources/library --no-vignettes --timings VplotR_1.12.1.tar.gz |
| StartedAt: 2024-03-04 00:10:14 -0500 (Mon, 04 Mar 2024) |
| EndedAt: 2024-03-04 00:16:15 -0500 (Mon, 04 Mar 2024) |
| EllapsedTime: 361.1 seconds |
| RetCode: 0 |
| Status: OK |
| CheckDir: VplotR.Rcheck |
| Warnings: 0 |
##############################################################################
##############################################################################
###
### Running command:
###
### /Library/Frameworks/R.framework/Resources/bin/R CMD check --install=check:VplotR.install-out.txt --library=/Library/Frameworks/R.framework/Resources/library --no-vignettes --timings VplotR_1.12.1.tar.gz
###
##############################################################################
##############################################################################
* using log directory ‘/Users/biocbuild/bbs-3.18-bioc/meat/VplotR.Rcheck’
* using R version 4.3.2 Patched (2023-11-01 r85457)
* using platform: x86_64-apple-darwin20 (64-bit)
* R was compiled by
Apple clang version 14.0.3 (clang-1403.0.22.14.1)
GNU Fortran (GCC) 12.2.0
* running under: macOS Monterey 12.7.1
* using session charset: UTF-8
* using option ‘--no-vignettes’
* checking for file ‘VplotR/DESCRIPTION’ ... OK
* checking extension type ... Package
* this is package ‘VplotR’ version ‘1.12.1’
* package encoding: UTF-8
* checking package namespace information ... OK
* checking package dependencies ... OK
* checking if this is a source package ... OK
* checking if there is a namespace ... OK
* checking for hidden files and directories ... OK
* checking for portable file names ... OK
* checking for sufficient/correct file permissions ... OK
* checking whether package ‘VplotR’ can be installed ... OK
* checking installed package size ... NOTE
installed size is 5.2Mb
sub-directories of 1Mb or more:
data 2.8Mb
figures 2.1Mb
* checking package directory ... OK
* checking ‘build’ directory ... OK
* checking DESCRIPTION meta-information ... OK
* checking top-level files ... NOTE
File
LICENSE
is not mentioned in the DESCRIPTION file.
* checking for left-over files ... OK
* checking index information ... OK
* checking package subdirectories ... OK
* checking R files for non-ASCII characters ... OK
* checking R files for syntax errors ... OK
* checking whether the package can be loaded ... OK
* checking whether the package can be loaded with stated dependencies ... OK
* checking whether the package can be unloaded cleanly ... OK
* checking whether the namespace can be loaded with stated dependencies ... OK
* checking whether the namespace can be unloaded cleanly ... OK
* checking dependencies in R code ... OK
* checking S3 generic/method consistency ... OK
* checking replacement functions ... OK
* checking foreign function calls ... OK
* checking R code for possible problems ... OK
* checking Rd files ... OK
* checking Rd metadata ... OK
* checking Rd cross-references ... OK
* checking for missing documentation entries ... OK
* checking for code/documentation mismatches ... OK
* checking Rd \usage sections ... OK
* checking Rd contents ... OK
* checking for unstated dependencies in examples ... OK
* checking contents of ‘data’ directory ... OK
* checking data for non-ASCII characters ... OK
* checking data for ASCII and uncompressed saves ... OK
* checking files in ‘vignettes’ ... OK
* checking examples ... OK
Examples with CPU (user + system) or elapsed time > 5s
user system elapsed
nucleosomeEnrichment.GRanges 10.138 0.866 11.070
nucleosomeEnrichment.Vmat 7.612 0.825 8.484
nucleosomeEnrichment 6.448 1.352 7.857
* checking for unstated dependencies in ‘tests’ ... OK
* checking tests ...
Running ‘testthat.R’
OK
* checking for unstated dependencies in vignettes ... OK
* checking package vignettes in ‘inst/doc’ ... OK
* checking running R code from vignettes ... SKIPPED
* checking re-building of vignette outputs ... SKIPPED
* checking PDF version of manual ... OK
* DONE
Status: 2 NOTEs
See
‘/Users/biocbuild/bbs-3.18-bioc/meat/VplotR.Rcheck/00check.log’
for details.
VplotR.Rcheck/00install.out
############################################################################## ############################################################################## ### ### Running command: ### ### /Library/Frameworks/R.framework/Resources/bin/R CMD INSTALL VplotR ### ############################################################################## ############################################################################## * installing to library ‘/Library/Frameworks/R.framework/Versions/4.3-x86_64/Resources/library’ * installing *source* package ‘VplotR’ ... ** using staged installation ** R ** data ** inst ** byte-compile and prepare package for lazy loading ** help *** installing help indices ** building package indices ** installing vignettes ** testing if installed package can be loaded from temporary location ** testing if installed package can be loaded from final location ** testing if installed package keeps a record of temporary installation path * DONE (VplotR)
VplotR.Rcheck/tests/testthat.Rout
R version 4.3.2 Patched (2023-11-01 r85457) -- "Eye Holes"
Copyright (C) 2023 The R Foundation for Statistical Computing
Platform: x86_64-apple-darwin20 (64-bit)
R is free software and comes with ABSOLUTELY NO WARRANTY.
You are welcome to redistribute it under certain conditions.
Type 'license()' or 'licence()' for distribution details.
R is a collaborative project with many contributors.
Type 'contributors()' for more information and
'citation()' on how to cite R or R packages in publications.
Type 'demo()' for some demos, 'help()' for on-line help, or
'help.start()' for an HTML browser interface to help.
Type 'q()' to quit R.
> library(testthat)
> library(VplotR)
Loading required package: GenomicRanges
Loading required package: stats4
Loading required package: BiocGenerics
Attaching package: 'BiocGenerics'
The following objects are masked from 'package:stats':
IQR, mad, sd, var, xtabs
The following objects are masked from 'package:base':
Filter, Find, Map, Position, Reduce, anyDuplicated, aperm, append,
as.data.frame, basename, cbind, colnames, dirname, do.call,
duplicated, eval, evalq, get, grep, grepl, intersect, is.unsorted,
lapply, mapply, match, mget, order, paste, pmax, pmax.int, pmin,
pmin.int, rank, rbind, rownames, sapply, setdiff, sort, table,
tapply, union, unique, unsplit, which.max, which.min
Loading required package: S4Vectors
Attaching package: 'S4Vectors'
The following object is masked from 'package:utils':
findMatches
The following objects are masked from 'package:base':
I, expand.grid, unname
Loading required package: IRanges
Loading required package: GenomeInfoDb
Loading required package: ggplot2
>
> test_check("VplotR")
[ FAIL 0 | WARN 18 | SKIP 0 | PASS 4 ]
[ FAIL 0 | WARN 18 | SKIP 0 | PASS 4 ]
>
> proc.time()
user system elapsed
70.593 6.814 78.049
VplotR.Rcheck/VplotR-Ex.timings
| name | user | system | elapsed | |
| ABF1_sacCer3 | 0.064 | 0.007 | 0.072 | |
| ATAC_ce11_Serizay2020 | 0.935 | 0.018 | 0.959 | |
| CTCF_hg38 | 0.034 | 0.004 | 0.036 | |
| MNase_sacCer3_Henikoff2011 | 0.105 | 0.006 | 0.112 | |
| MNase_sacCer3_Henikoff2011_subset | 0.072 | 0.004 | 0.075 | |
| REB1_sacCer3 | 0.021 | 0.003 | 0.024 | |
| alignToTSS | 0.104 | 0.004 | 0.109 | |
| bam_test | 0.045 | 0.004 | 0.048 | |
| ce11_all_REs | 0.032 | 0.004 | 0.036 | |
| ce11_proms | 0.020 | 0.003 | 0.024 | |
| computeVmat | 2.199 | 0.086 | 2.302 | |
| deconvolveBidirectionalPromoters | 0.129 | 0.006 | 0.135 | |
| getFragmentsDistribution | 0.145 | 0.008 | 0.154 | |
| importPEBamFiles | 0.274 | 0.014 | 0.292 | |
| normalizeVmat | 1.242 | 0.055 | 1.308 | |
| nucleosomeEnrichment.GRanges | 10.138 | 0.866 | 11.070 | |
| nucleosomeEnrichment | 6.448 | 1.352 | 7.857 | |
| nucleosomeEnrichment.Vmat | 7.612 | 0.825 | 8.484 | |
| plotFootprint | 0.464 | 0.011 | 0.479 | |
| plotProfile | 0.926 | 0.219 | 1.157 | |
| plotVmat.GRanges | 1.449 | 0.037 | 1.492 | |
| plotVmat | 1.397 | 0.049 | 1.451 | |
| plotVmat.Vmat | 1.926 | 0.124 | 2.067 | |
| plotVmat.VmatList | 2.704 | 0.122 | 2.838 | |
| plotVmat.default | 1.886 | 0.087 | 1.987 | |
| plotVmat.list | 2.549 | 0.147 | 2.709 | |
| sampleGRanges.GRanges | 2.620 | 0.285 | 2.920 | |
| sampleGRanges | 2.623 | 0.538 | 3.181 | |
| shiftATACGranges | 0.084 | 0.003 | 0.090 | |
| shuffleVmat | 1.129 | 0.026 | 1.166 | |
| theme_ggplot2 | 0.111 | 0.002 | 0.114 | |