Back to Multiple platform build/check report for BioC 3.18: simplified long |
|
This page was generated on 2023-11-02 11:41:25 -0400 (Thu, 02 Nov 2023).
Hostname | OS | Arch (*) | R version | Installed pkgs |
---|---|---|---|---|
nebbiolo2 | Linux (Ubuntu 22.04.2 LTS) | x86_64 | 4.3.1 (2023-06-16) -- "Beagle Scouts" | 4729 |
palomino4 | Windows Server 2022 Datacenter | x64 | 4.3.1 (2023-06-16 ucrt) -- "Beagle Scouts" | 4463 |
lconway | macOS 12.6.5 Monterey | x86_64 | 4.3.1 Patched (2023-06-17 r84564) -- "Beagle Scouts" | 4478 |
kunpeng2 | Linux (openEuler 22.03 LTS-SP1) | aarch64 | 4.3.1 (2023-06-16) -- "Beagle Scouts" | 4464 |
Click on any hostname to see more info about the system (e.g. compilers) (*) as reported by 'uname -p', except on Windows and Mac OS X |
Package 2223/2266 | Hostname | OS / Arch | INSTALL | BUILD | CHECK | BUILD BIN | ||||||||
VDJdive 1.4.0 (landing page) Kelly Street
| nebbiolo2 | Linux (Ubuntu 22.04.2 LTS) / x86_64 | OK | OK | OK | ![]() | ||||||||
palomino4 | Windows Server 2022 Datacenter / x64 | OK | OK | OK | OK | ![]() | ||||||||
lconway | macOS 12.6.5 Monterey / x86_64 | OK | OK | OK | OK | ![]() | ||||||||
kjohnson1 | macOS 13.6.1 Ventura / arm64 | see weekly results here | ||||||||||||
kunpeng2 | Linux (openEuler 22.03 LTS-SP1) / aarch64 | OK | OK | OK | ||||||||||
To the developers/maintainers of the VDJdive package: - Allow up to 24 hours (and sometimes 48 hours) for your latest push to git@git.bioconductor.org:packages/VDJdive.git to reflect on this report. See Troubleshooting Build Report for more information. - Use the following Renviron settings to reproduce errors and warnings. - If 'R CMD check' started to fail recently on the Linux builder(s) over a missing dependency, add the missing dependency to 'Suggests:' in your DESCRIPTION file. See Renviron.bioc for more information. - See Martin Grigorov's blog post for how to debug Linux ARM64 related issues on a x86_64 host. |
Package: VDJdive |
Version: 1.4.0 |
Command: /home/biocbuild/R/R-4.3.1/bin/R CMD check --install=check:VDJdive.install-out.txt --library=/home/biocbuild/R/R-4.3.1/site-library --no-vignettes --timings VDJdive_1.4.0.tar.gz |
StartedAt: 2023-11-02 15:10:09 -0000 (Thu, 02 Nov 2023) |
EndedAt: 2023-11-02 15:14:53 -0000 (Thu, 02 Nov 2023) |
EllapsedTime: 283.3 seconds |
RetCode: 0 |
Status: OK |
CheckDir: VDJdive.Rcheck |
Warnings: 0 |
############################################################################## ############################################################################## ### ### Running command: ### ### /home/biocbuild/R/R-4.3.1/bin/R CMD check --install=check:VDJdive.install-out.txt --library=/home/biocbuild/R/R-4.3.1/site-library --no-vignettes --timings VDJdive_1.4.0.tar.gz ### ############################################################################## ############################################################################## * using log directory ‘/home/biocbuild/bbs-3.18-bioc/meat/VDJdive.Rcheck’ * using R version 4.3.1 (2023-06-16) * using platform: aarch64-unknown-linux-gnu (64-bit) * R was compiled by gcc (GCC) 10.3.1 GNU Fortran (GCC) 10.3.1 * running under: openEuler 22.03 (LTS-SP1) * using session charset: UTF-8 * using option ‘--no-vignettes’ * checking for file ‘VDJdive/DESCRIPTION’ ... OK * this is package ‘VDJdive’ version ‘1.4.0’ * package encoding: UTF-8 * checking package namespace information ... OK * checking package dependencies ... OK * checking if this is a source package ... OK * checking if there is a namespace ... OK * checking for hidden files and directories ... OK * checking for portable file names ... OK * checking for sufficient/correct file permissions ... OK * checking whether package ‘VDJdive’ can be installed ... NOTE Found the following notes/warnings: Non-staged installation was used See ‘/home/biocbuild/bbs-3.18-bioc/meat/VDJdive.Rcheck/00install.out’ for details. * used C++ compiler: ‘g++ (GCC) 10.3.1’ * checking installed package size ... OK * checking package directory ... OK * checking ‘build’ directory ... OK * checking DESCRIPTION meta-information ... OK * checking top-level files ... OK * checking for left-over files ... OK * checking index information ... OK * checking package subdirectories ... OK * checking R files for non-ASCII characters ... OK * checking R files for syntax errors ... OK * checking whether the package can be loaded ... OK * checking whether the package can be loaded with stated dependencies ... OK * checking whether the package can be unloaded cleanly ... OK * checking whether the namespace can be loaded with stated dependencies ... OK * checking whether the namespace can be unloaded cleanly ... OK * checking loading without being on the library search path ... OK * checking dependencies in R code ... OK * checking S3 generic/method consistency ... OK * checking replacement functions ... OK * checking foreign function calls ... OK * checking R code for possible problems ... NOTE abundanceVDJ,clonoStats: no visible binding for global variable ‘count’ abundanceVDJ,clonoStats: no visible binding for global variable ‘y’ barVDJ,Matrix: no visible binding for global variable ‘count’ boxVDJ,matrix: no visible binding for global variable ‘group’ boxVDJ,matrix: no visible binding for global variable ‘Diversity’ pieVDJ,Matrix: no visible binding for global variable ‘count’ scatterVDJ,matrix: no visible binding for global variable ‘clono’ scatterVDJ,matrix: no visible binding for global variable ‘normentropy’ scatterVDJ,matrix: no visible binding for global variable ‘sampleType’ Undefined global functions or variables: Diversity clono count group normentropy sampleType y * checking Rd files ... OK * checking Rd metadata ... OK * checking Rd cross-references ... OK * checking for missing documentation entries ... OK * checking for code/documentation mismatches ... OK * checking Rd \usage sections ... OK * checking Rd contents ... OK * checking for unstated dependencies in examples ... OK * checking contents of ‘data’ directory ... OK * checking data for non-ASCII characters ... OK * checking data for ASCII and uncompressed saves ... OK * checking line endings in C/C++/Fortran sources/headers ... OK * checking compiled code ... NOTE Note: information on .o files is not available * checking files in ‘vignettes’ ... OK * checking examples ... OK * checking for unstated dependencies in ‘tests’ ... OK * checking tests ... Running ‘testthat.R’ OK * checking for unstated dependencies in vignettes ... OK * checking package vignettes in ‘inst/doc’ ... OK * checking running R code from vignettes ... SKIPPED * checking re-building of vignette outputs ... SKIPPED * checking PDF version of manual ... OK * DONE Status: 3 NOTEs See ‘/home/biocbuild/bbs-3.18-bioc/meat/VDJdive.Rcheck/00check.log’ for details.
VDJdive.Rcheck/00install.out
############################################################################## ############################################################################## ### ### Running command: ### ### /home/biocbuild/R/R-4.3.1/bin/R CMD INSTALL VDJdive ### ############################################################################## ############################################################################## * installing to library ‘/home/biocbuild/R/R-4.3.1/site-library’ * installing *source* package ‘VDJdive’ ... ** using non-staged installation via StagedInstall field ** libs using C++ compiler: ‘g++ (GCC) 10.3.1’ g++ -std=gnu++17 -I"/home/biocbuild/R/R-4.3.1/include" -DNDEBUG -I'/home/biocbuild/R/R-4.3.1/site-library/Rcpp/include' -I/usr/local/include -fPIC -g -O2 -Wall -c RcppExports.cpp -o RcppExports.o g++ -std=gnu++17 -I"/home/biocbuild/R/R-4.3.1/include" -DNDEBUG -I'/home/biocbuild/R/R-4.3.1/site-library/Rcpp/include' -I/usr/local/include -fPIC -g -O2 -Wall -c TCR_EM.cpp -o TCR_EM.o g++ -std=gnu++17 -shared -L/home/biocbuild/R/R-4.3.1/lib -L/usr/local/lib -o VDJdive.so RcppExports.o TCR_EM.o -L/home/biocbuild/R/R-4.3.1/lib -lR installing to /home/biocbuild/R/R-4.3.1/site-library/VDJdive/libs ** R ** data ** inst ** byte-compile and prepare package for lazy loading ** help *** installing help indices *** copying figures ** building package indices ** installing vignettes ** testing if installed package can be loaded * DONE (VDJdive)
VDJdive.Rcheck/tests/testthat.Rout
R version 4.3.1 (2023-06-16) -- "Beagle Scouts" Copyright (C) 2023 The R Foundation for Statistical Computing Platform: aarch64-unknown-linux-gnu (64-bit) R is free software and comes with ABSOLUTELY NO WARRANTY. You are welcome to redistribute it under certain conditions. Type 'license()' or 'licence()' for distribution details. R is a collaborative project with many contributors. Type 'contributors()' for more information and 'citation()' on how to cite R or R packages in publications. Type 'demo()' for some demos, 'help()' for on-line help, or 'help.start()' for an HTML browser interface to help. Type 'q()' to quit R. > library(testthat) > library(VDJdive) > > test_check("VDJdive") An object of class "clonoStats" clonotypes: 7 cells: 24 groups(2): sample1 sample2 has assignment: FALSEAn object of class "clonoStats" clonotypes: 7 cells: 24 groups(2): sample1 sample2 has assignment: TRUE[ FAIL 0 | WARN 0 | SKIP 0 | PASS 125 ] > > proc.time() user system elapsed 42.658 0.743 43.480
VDJdive.Rcheck/VDJdive-Ex.timings
name | user | system | elapsed | |
abundanceVDJ | 1.659 | 0.100 | 1.764 | |
addVDJtoSCE | 0.405 | 0.004 | 0.410 | |
barVDJ | 1.034 | 0.040 | 1.077 | |
boxVDJ | 1.084 | 0.020 | 1.106 | |
calculateDiversity | 1.528 | 0.019 | 1.551 | |
clonoStats-class | 0.685 | 0.000 | 0.686 | |
clonoStats | 0.703 | 0.008 | 0.712 | |
contigs | 0.716 | 0.008 | 0.725 | |
pieVDJ | 1.186 | 0.028 | 1.216 | |
readVDJcontigs | 0.082 | 0.004 | 0.087 | |
runBreakaway | 2.817 | 0.077 | 2.930 | |
runVDJPCA | 1.273 | 0.008 | 1.283 | |
scatterVDJ | 1.803 | 0.071 | 1.878 | |
splitClonotypes | 1.049 | 0.040 | 1.091 | |
summarizeClonotypes | 1.014 | 0.052 | 1.069 | |
writeVDJcontigs | 0.095 | 0.000 | 0.095 | |