Back to Multiple platform build/check report for BioC 3.18: simplified long |
|
This page was generated on 2024-04-17 11:36:29 -0400 (Wed, 17 Apr 2024).
Hostname | OS | Arch (*) | R version | Installed pkgs |
---|---|---|---|---|
nebbiolo2 | Linux (Ubuntu 22.04.3 LTS) | x86_64 | 4.3.3 (2024-02-29) -- "Angel Food Cake" | 4676 |
palomino4 | Windows Server 2022 Datacenter | x64 | 4.3.3 (2024-02-29 ucrt) -- "Angel Food Cake" | 4414 |
merida1 | macOS 12.7.1 Monterey | x86_64 | 4.3.3 (2024-02-29) -- "Angel Food Cake" | 4437 |
Click on any hostname to see more info about the system (e.g. compilers) (*) as reported by 'uname -p', except on Windows and Mac OS X |
Package 2203/2266 | Hostname | OS / Arch | INSTALL | BUILD | CHECK | BUILD BIN | ||||||||
UMI4Cats 1.12.0 (landing page) Mireia Ramos-Rodriguez
| nebbiolo2 | Linux (Ubuntu 22.04.3 LTS) / x86_64 | OK | OK | ERROR | |||||||||
palomino4 | Windows Server 2022 Datacenter / x64 | OK | OK | OK | OK | ![]() | ||||||||
merida1 | macOS 12.7.1 Monterey / x86_64 | OK | OK | OK | OK | ![]() | ||||||||
kjohnson1 | macOS 13.6.1 Ventura / arm64 | see weekly results here | ||||||||||||
To the developers/maintainers of the UMI4Cats package: - Allow up to 24 hours (and sometimes 48 hours) for your latest push to git@git.bioconductor.org:packages/UMI4Cats.git to reflect on this report. See Troubleshooting Build Report for more information. - Use the following Renviron settings to reproduce errors and warnings. - If 'R CMD check' started to fail recently on the Linux builder(s) over a missing dependency, add the missing dependency to 'Suggests:' in your DESCRIPTION file. See Renviron.bioc for more information. |
Package: UMI4Cats |
Version: 1.12.0 |
Command: /home/biocbuild/bbs-3.18-bioc/R/bin/R CMD check --install=check:UMI4Cats.install-out.txt --library=/home/biocbuild/bbs-3.18-bioc/R/site-library --timings UMI4Cats_1.12.0.tar.gz |
StartedAt: 2024-04-16 05:01:20 -0400 (Tue, 16 Apr 2024) |
EndedAt: 2024-04-16 05:08:02 -0400 (Tue, 16 Apr 2024) |
EllapsedTime: 402.3 seconds |
RetCode: 1 |
Status: ERROR |
CheckDir: UMI4Cats.Rcheck |
Warnings: NA |
############################################################################## ############################################################################## ### ### Running command: ### ### /home/biocbuild/bbs-3.18-bioc/R/bin/R CMD check --install=check:UMI4Cats.install-out.txt --library=/home/biocbuild/bbs-3.18-bioc/R/site-library --timings UMI4Cats_1.12.0.tar.gz ### ############################################################################## ############################################################################## * using log directory ‘/home/biocbuild/bbs-3.18-bioc/meat/UMI4Cats.Rcheck’ * using R version 4.3.3 (2024-02-29) * using platform: x86_64-pc-linux-gnu (64-bit) * R was compiled by gcc (Ubuntu 11.4.0-1ubuntu1~22.04) 11.4.0 GNU Fortran (Ubuntu 11.4.0-1ubuntu1~22.04) 11.4.0 * running under: Ubuntu 22.04.4 LTS * using session charset: UTF-8 * checking for file ‘UMI4Cats/DESCRIPTION’ ... OK * this is package ‘UMI4Cats’ version ‘1.12.0’ * package encoding: UTF-8 * checking package namespace information ... OK * checking package dependencies ... OK * checking if this is a source package ... OK * checking if there is a namespace ... OK * checking for hidden files and directories ... OK * checking for portable file names ... OK * checking for sufficient/correct file permissions ... OK * checking whether package ‘UMI4Cats’ can be installed ... OK * checking installed package size ... OK * checking package directory ... OK * checking ‘build’ directory ... OK * checking DESCRIPTION meta-information ... OK * checking top-level files ... OK * checking for left-over files ... OK * checking index information ... OK * checking package subdirectories ... OK * checking R files for non-ASCII characters ... OK * checking R files for syntax errors ... OK * checking whether the package can be loaded ... OK * checking whether the package can be loaded with stated dependencies ... OK * checking whether the package can be unloaded cleanly ... OK * checking whether the namespace can be loaded with stated dependencies ... OK * checking whether the namespace can be unloaded cleanly ... OK * checking loading without being on the library search path ... OK * checking dependencies in R code ... OK * checking S3 generic/method consistency ... OK * checking replacement functions ... OK * checking foreign function calls ... OK * checking R code for possible problems ... OK * checking Rd files ... OK * checking Rd metadata ... OK * checking Rd cross-references ... OK * checking for missing documentation entries ... OK * checking for code/documentation mismatches ... OK * checking Rd \usage sections ... OK * checking Rd contents ... OK * checking for unstated dependencies in examples ... OK * checking contents of ‘data’ directory ... OK * checking data for non-ASCII characters ... OK * checking data for ASCII and uncompressed saves ... OK * checking files in ‘vignettes’ ... OK * checking examples ... OK * checking for unstated dependencies in ‘tests’ ... OK * checking tests ... Running ‘testthat.R’ OK * checking for unstated dependencies in vignettes ... OK * checking package vignettes in ‘inst/doc’ ... OK * checking running R code from vignettes ... ‘UMI4Cats.Rmd’ using ‘UTF-8’... failed ERROR Errors in running code in vignettes: when running code in ‘UMI4Cats.Rmd’ ... > knitr::opts_chunk$set(collapse = TRUE, comment = "#>", + eval = TRUE, warning = FALSE, message = FALSE, fig.align = "center", + out.width .... [TRUNCATED] > knitr::include_graphics("../man/figures/UMI4Cats.png", + dpi = 800) When sourcing ‘UMI4Cats.R’: Error: Cannot find the file(s): "../man/figures/UMI4Cats.png" Execution halted * checking re-building of vignette outputs ... OK * checking PDF version of manual ... OK * DONE Status: 1 ERROR See ‘/home/biocbuild/bbs-3.18-bioc/meat/UMI4Cats.Rcheck/00check.log’ for details.
UMI4Cats.Rcheck/00install.out
############################################################################## ############################################################################## ### ### Running command: ### ### /home/biocbuild/bbs-3.18-bioc/R/bin/R CMD INSTALL UMI4Cats ### ############################################################################## ############################################################################## * installing to library ‘/home/biocbuild/bbs-3.18-bioc/R/site-library’ * installing *source* package ‘UMI4Cats’ ... ** using staged installation ** R ** data ** inst ** byte-compile and prepare package for lazy loading ** help *** installing help indices *** copying figures ** building package indices ** installing vignettes ** testing if installed package can be loaded from temporary location ** testing if installed package can be loaded from final location ** testing if installed package keeps a record of temporary installation path * DONE (UMI4Cats)
UMI4Cats.Rcheck/tests/testthat.Rout
R version 4.3.3 (2024-02-29) -- "Angel Food Cake" Copyright (C) 2024 The R Foundation for Statistical Computing Platform: x86_64-pc-linux-gnu (64-bit) R is free software and comes with ABSOLUTELY NO WARRANTY. You are welcome to redistribute it under certain conditions. Type 'license()' or 'licence()' for distribution details. R is a collaborative project with many contributors. Type 'contributors()' for more information and 'citation()' on how to cite R or R packages in publications. Type 'demo()' for some demos, 'help()' for on-line help, or 'help.start()' for an HTML browser interface to help. Type 'q()' to quit R. > library(testthat) > library(UMI4Cats) Loading required package: SummarizedExperiment Loading required package: MatrixGenerics Loading required package: matrixStats Attaching package: 'MatrixGenerics' The following objects are masked from 'package:matrixStats': colAlls, colAnyNAs, colAnys, colAvgsPerRowSet, colCollapse, colCounts, colCummaxs, colCummins, colCumprods, colCumsums, colDiffs, colIQRDiffs, colIQRs, colLogSumExps, colMadDiffs, colMads, colMaxs, colMeans2, colMedians, colMins, colOrderStats, colProds, colQuantiles, colRanges, colRanks, colSdDiffs, colSds, colSums2, colTabulates, colVarDiffs, colVars, colWeightedMads, colWeightedMeans, colWeightedMedians, colWeightedSds, colWeightedVars, rowAlls, rowAnyNAs, rowAnys, rowAvgsPerColSet, rowCollapse, rowCounts, rowCummaxs, rowCummins, rowCumprods, rowCumsums, rowDiffs, rowIQRDiffs, rowIQRs, rowLogSumExps, rowMadDiffs, rowMads, rowMaxs, rowMeans2, rowMedians, rowMins, rowOrderStats, rowProds, rowQuantiles, rowRanges, rowRanks, rowSdDiffs, rowSds, rowSums2, rowTabulates, rowVarDiffs, rowVars, rowWeightedMads, rowWeightedMeans, rowWeightedMedians, rowWeightedSds, rowWeightedVars Loading required package: GenomicRanges Loading required package: stats4 Loading required package: BiocGenerics Attaching package: 'BiocGenerics' The following objects are masked from 'package:stats': IQR, mad, sd, var, xtabs The following objects are masked from 'package:base': Filter, Find, Map, Position, Reduce, anyDuplicated, aperm, append, as.data.frame, basename, cbind, colnames, dirname, do.call, duplicated, eval, evalq, get, grep, grepl, intersect, is.unsorted, lapply, mapply, match, mget, order, paste, pmax, pmax.int, pmin, pmin.int, rank, rbind, rownames, sapply, setdiff, sort, table, tapply, union, unique, unsplit, which.max, which.min Loading required package: S4Vectors Attaching package: 'S4Vectors' The following object is masked from 'package:utils': findMatches The following objects are masked from 'package:base': I, expand.grid, unname Loading required package: IRanges Loading required package: GenomeInfoDb Loading required package: Biobase Welcome to Bioconductor Vignettes contain introductory material; view with 'browseVignettes()'. To cite Bioconductor, see 'citation("Biobase")', and for packages 'citation("pkgname")'. Attaching package: 'Biobase' The following object is masked from 'package:MatrixGenerics': rowMedians The following objects are masked from 'package:matrixStats': anyMissing, rowMedians > library(BSgenome) Loading required package: Biostrings Loading required package: XVector Attaching package: 'Biostrings' The following object is masked from 'package:base': strsplit Loading required package: BiocIO Loading required package: rtracklayer Attaching package: 'rtracklayer' The following object is masked from 'package:BiocIO': FileForFormat > > test_check("UMI4Cats") [ FAIL 0 | WARN 0 | SKIP 0 | PASS 21 ] > > proc.time() user system elapsed 21.130 1.164 22.284
UMI4Cats.Rcheck/UMI4Cats-Ex.timings
name | user | system | elapsed | |
UMI4C-methods | 2.526 | 0.124 | 2.650 | |
UMI4C | 4.538 | 0.124 | 4.663 | |
addGrouping | 1.947 | 0.148 | 2.095 | |
alignmentUMI4C | 0 | 0 | 0 | |
callInteractions | 2.495 | 0.113 | 2.608 | |
combineUMI4C | 0.342 | 0.000 | 0.342 | |
contactsUMI4C | 0.001 | 0.000 | 0.001 | |
counterUMI4C | 0.001 | 0.000 | 0.000 | |
createGeneAnnotation | 1.125 | 0.060 | 1.185 | |
darken | 0.001 | 0.000 | 0.000 | |
demultiplexFastq | 0.001 | 0.000 | 0.000 | |
differentialNbinomWaldTestUMI4C | 0.000 | 0.000 | 0.001 | |
digestGenome | 2.465 | 0.155 | 2.620 | |
downloadUMI4CexampleData | 0 | 0 | 0 | |
fisherUMI4C | 1.246 | 0.005 | 1.250 | |
getSignInteractions | 1.844 | 0.056 | 1.901 | |
getViewpointCoordinates | 0.485 | 0.143 | 0.630 | |
makeWindowFragments | 0.340 | 0.008 | 0.349 | |
pipe | 0.001 | 0.003 | 0.004 | |
plotDifferential | 1.565 | 0.072 | 1.636 | |
plotDomainogram | 1.959 | 0.080 | 2.039 | |
plotGenes | 1.269 | 0.009 | 1.277 | |
plotTrend | 0.596 | 0.011 | 0.608 | |
plotUMI4C | 2.886 | 0.021 | 2.905 | |
prepUMI4C | 0 | 0 | 0 | |
splitUMI4C | 0.000 | 0.000 | 0.001 | |
statsUMI4C | 0.692 | 0.003 | 0.697 | |
theme | 0.098 | 0.001 | 0.098 | |
themeXYblank | 0.093 | 0.000 | 0.093 | |
themeXblank | 0.098 | 0.000 | 0.098 | |
themeYblank | 0.104 | 0.000 | 0.104 | |
waldUMI4C | 2.273 | 0.063 | 2.337 | |