| Back to Multiple platform build/check report for BioC 3.18: simplified long |
|
This page was generated on 2023-11-02 11:41:22 -0400 (Thu, 02 Nov 2023).
| Hostname | OS | Arch (*) | R version | Installed pkgs |
|---|---|---|---|---|
| nebbiolo2 | Linux (Ubuntu 22.04.2 LTS) | x86_64 | 4.3.1 (2023-06-16) -- "Beagle Scouts" | 4729 |
| palomino4 | Windows Server 2022 Datacenter | x64 | 4.3.1 (2023-06-16 ucrt) -- "Beagle Scouts" | 4463 |
| lconway | macOS 12.6.5 Monterey | x86_64 | 4.3.1 Patched (2023-06-17 r84564) -- "Beagle Scouts" | 4478 |
| kunpeng2 | Linux (openEuler 22.03 LTS-SP1) | aarch64 | 4.3.1 (2023-06-16) -- "Beagle Scouts" | 4464 |
| Click on any hostname to see more info about the system (e.g. compilers) (*) as reported by 'uname -p', except on Windows and Mac OS X | ||||
| Package 2127/2266 | Hostname | OS / Arch | INSTALL | BUILD | CHECK | BUILD BIN | ||||||||
| TFutils 1.22.0 (landing page) Vincent Carey
| nebbiolo2 | Linux (Ubuntu 22.04.2 LTS) / x86_64 | OK | OK | OK | |||||||||
| palomino4 | Windows Server 2022 Datacenter / x64 | OK | OK | OK | OK | |||||||||
| lconway | macOS 12.6.5 Monterey / x86_64 | OK | OK | OK | OK | |||||||||
| kjohnson1 | macOS 13.6.1 Ventura / arm64 | see weekly results here | ||||||||||||
| kunpeng2 | Linux (openEuler 22.03 LTS-SP1) / aarch64 | OK | OK | OK | ||||||||||
|
To the developers/maintainers of the TFutils package: - Allow up to 24 hours (and sometimes 48 hours) for your latest push to git@git.bioconductor.org:packages/TFutils.git to reflect on this report. See Troubleshooting Build Report for more information. - Use the following Renviron settings to reproduce errors and warnings. - If 'R CMD check' started to fail recently on the Linux builder(s) over a missing dependency, add the missing dependency to 'Suggests:' in your DESCRIPTION file. See Renviron.bioc for more information. - See Martin Grigorov's blog post for how to debug Linux ARM64 related issues on a x86_64 host. |
| Package: TFutils |
| Version: 1.22.0 |
| Command: /home/biocbuild/R/R-4.3.1/bin/R CMD check --install=check:TFutils.install-out.txt --library=/home/biocbuild/R/R-4.3.1/site-library --no-vignettes --timings TFutils_1.22.0.tar.gz |
| StartedAt: 2023-11-02 14:52:40 -0000 (Thu, 02 Nov 2023) |
| EndedAt: 2023-11-02 14:58:33 -0000 (Thu, 02 Nov 2023) |
| EllapsedTime: 352.6 seconds |
| RetCode: 0 |
| Status: OK |
| CheckDir: TFutils.Rcheck |
| Warnings: 0 |
##############################################################################
##############################################################################
###
### Running command:
###
### /home/biocbuild/R/R-4.3.1/bin/R CMD check --install=check:TFutils.install-out.txt --library=/home/biocbuild/R/R-4.3.1/site-library --no-vignettes --timings TFutils_1.22.0.tar.gz
###
##############################################################################
##############################################################################
* using log directory ‘/home/biocbuild/bbs-3.18-bioc/meat/TFutils.Rcheck’
* using R version 4.3.1 (2023-06-16)
* using platform: aarch64-unknown-linux-gnu (64-bit)
* R was compiled by
gcc (GCC) 10.3.1
GNU Fortran (GCC) 10.3.1
* running under: openEuler 22.03 (LTS-SP1)
* using session charset: UTF-8
* using option ‘--no-vignettes’
* checking for file ‘TFutils/DESCRIPTION’ ... OK
* this is package ‘TFutils’ version ‘1.22.0’
* package encoding: UTF-8
* checking package namespace information ... OK
* checking package dependencies ... OK
* checking if this is a source package ... OK
* checking if there is a namespace ... OK
* checking for hidden files and directories ... OK
* checking for portable file names ... OK
* checking for sufficient/correct file permissions ... OK
* checking whether package ‘TFutils’ can be installed ... OK
* checking installed package size ... NOTE
installed size is 5.4Mb
sub-directories of 1Mb or more:
data 3.4Mb
lambert 1.4Mb
* checking package directory ... OK
* checking ‘build’ directory ... OK
* checking DESCRIPTION meta-information ... OK
* checking top-level files ... OK
* checking for left-over files ... OK
* checking index information ... OK
* checking package subdirectories ... OK
* checking R files for non-ASCII characters ... OK
* checking R files for syntax errors ... OK
* checking whether the package can be loaded ... OK
* checking whether the package can be loaded with stated dependencies ... OK
* checking whether the package can be unloaded cleanly ... OK
* checking whether the namespace can be loaded with stated dependencies ... OK
* checking whether the namespace can be unloaded cleanly ... OK
* checking loading without being on the library search path ... OK
* checking dependencies in R code ... OK
* checking S3 generic/method consistency ... OK
* checking replacement functions ... OK
* checking foreign function calls ... OK
* checking R code for possible problems ... NOTE
fimo_granges : proctext: warning in read.delim(con, h = FALSE,
stringsAsFactors = FALSE, sep = "\t"): partial argument match of 'h'
to 'header'
setupHIZE: warning in read.delim(txtfn, sep = "\t", skip = 3, h =
FALSE, stringsAsFactors = FALSE): partial argument match of 'h' to
'header'
directHitsInCISBP: no visible binding for global variable
‘DISEASE.TRAIT’
directHitsInCISBP: no visible binding for global variable ‘MAPPED_GENE’
directHitsInCISBP: no visible binding for global variable ‘cisbpTFcat’
directHitsInCISBP: no visible binding for global variable ‘HGNC’
directHitsInCISBP: no visible binding for global variable ‘Family_Name’
fimo_granges: no visible global function definition for ‘rowRanges<-’
fimo_granges: no visible global function definition for ‘reduceByRange’
fimo_granges : <anonymous>: no visible global function definition for
‘seqinfo<-’
tffamCirc.prep: no visible binding for global variable ‘TF family’
tffamCirc.prep: no visible binding for global variable ‘TFfamily’
tffamCirc.prep: no visible binding for global variable ‘Transcription
factor’
topTraitsOfTargets: no visible global function definition for ‘mcols’
topTraitsOfTargets: no visible binding for global variable
‘DISEASE.TRAIT’
Undefined global functions or variables:
DISEASE.TRAIT Family_Name HGNC MAPPED_GENE TF family TFfamily
Transcription factor cisbpTFcat mcols reduceByRange rowRanges<-
seqinfo<-
Consider adding
importFrom("base", "factor")
importFrom("stats", "family")
to your NAMESPACE file.
* checking Rd files ... OK
* checking Rd metadata ... OK
* checking Rd cross-references ... OK
* checking for missing documentation entries ... OK
* checking for code/documentation mismatches ... OK
* checking Rd \usage sections ... OK
* checking Rd contents ... OK
* checking for unstated dependencies in examples ... OK
* checking contents of ‘data’ directory ... OK
* checking data for non-ASCII characters ... NOTE
Note: found 62 marked UTF-8 strings
* checking LazyData ... OK
* checking data for ASCII and uncompressed saves ... OK
* checking line endings in Makefiles ... OK
* checking for GNU extensions in Makefiles ... OK
* checking include directives in Makefiles ... OK
* checking files in ‘vignettes’ ... OK
* checking examples ... OK
Examples with CPU (user + system) or elapsed time > 5s
user system elapsed
tffamCirc.plot 29.089 0.711 30.431
topTraitsOfTargets 21.387 0.072 21.500
fimo16 10.883 0.477 11.416
tffamCirc.prep 9.317 0.324 9.663
genemodForGviz 7.490 0.306 7.853
* checking for unstated dependencies in ‘tests’ ... OK
* checking tests ...
Running ‘testthat.R’
OK
* checking for unstated dependencies in vignettes ... OK
* checking package vignettes in ‘inst/doc’ ... OK
* checking running R code from vignettes ... SKIPPED
* checking re-building of vignette outputs ... SKIPPED
* checking PDF version of manual ... OK
* DONE
Status: 3 NOTEs
See
‘/home/biocbuild/bbs-3.18-bioc/meat/TFutils.Rcheck/00check.log’
for details.
TFutils.Rcheck/00install.out
############################################################################## ############################################################################## ### ### Running command: ### ### /home/biocbuild/R/R-4.3.1/bin/R CMD INSTALL TFutils ### ############################################################################## ############################################################################## * installing to library ‘/home/biocbuild/R/R-4.3.1/site-library’ * installing *source* package ‘TFutils’ ... ** using staged installation ** R ** data *** moving datasets to lazyload DB ** inst ** byte-compile and prepare package for lazy loading ** help *** installing help indices ** building package indices ** installing vignettes ** testing if installed package can be loaded from temporary location ** testing if installed package can be loaded from final location ** testing if installed package keeps a record of temporary installation path * DONE (TFutils)
TFutils.Rcheck/tests/testthat.Rout
R version 4.3.1 (2023-06-16) -- "Beagle Scouts"
Copyright (C) 2023 The R Foundation for Statistical Computing
Platform: aarch64-unknown-linux-gnu (64-bit)
R is free software and comes with ABSOLUTELY NO WARRANTY.
You are welcome to redistribute it under certain conditions.
Type 'license()' or 'licence()' for distribution details.
R is a collaborative project with many contributors.
Type 'contributors()' for more information and
'citation()' on how to cite R or R packages in publications.
Type 'demo()' for some demos, 'help()' for on-line help, or
'help.start()' for an HTML browser interface to help.
Type 'q()' to quit R.
> library(testthat)
> library(TFutils)
>
> test_check("TFutils")
[ FAIL 0 | WARN 0 | SKIP 0 | PASS 5 ]
>
>
> proc.time()
user system elapsed
20.208 0.716 20.944
TFutils.Rcheck/TFutils-Ex.timings
| name | user | system | elapsed | |
| HGNCmap | 0.000 | 0.000 | 0.001 | |
| TFCatalog | 0.214 | 0.016 | 0.231 | |
| TFtargs | 0 | 0 | 0 | |
| URL_s3_tf | 0.001 | 0.000 | 0.000 | |
| anchor_pmids | 0.005 | 0.000 | 0.005 | |
| browse_gotf_main | 0 | 0 | 0 | |
| browse_humantfs_main | 0 | 0 | 0 | |
| browse_lambert_gwaslinks | 0.000 | 0.000 | 0.001 | |
| browse_lambert_main | 0.001 | 0.000 | 0.000 | |
| cisbpTFcat | 0.068 | 0.004 | 0.072 | |
| cisbpTFcat_2.0 | 0.059 | 0.004 | 0.064 | |
| defaultCircosParms | 0.009 | 0.000 | 0.009 | |
| demo_fimo_granges | 0.009 | 0.000 | 0.009 | |
| directHitsInCISBP | 0.237 | 0.004 | 0.242 | |
| encode690 | 0.078 | 0.000 | 0.079 | |
| fimo16 | 10.883 | 0.477 | 11.416 | |
| fimoMap | 0.002 | 0.000 | 0.002 | |
| fimo_granges | 0 | 0 | 0 | |
| genemodForGviz | 7.490 | 0.306 | 7.853 | |
| genemodelDF | 0.123 | 0.000 | 0.123 | |
| get_rslocs_38 | 0.001 | 0.000 | 0.000 | |
| grabTab | 0.351 | 0.000 | 0.353 | |
| gwascat_hg19_chr17 | 0.055 | 0.000 | 0.055 | |
| hocomoco.mono | 0.005 | 0.000 | 0.005 | |
| hocomoco.mono.sep2018 | 0.005 | 0.000 | 0.005 | |
| importFIMO | 0.047 | 0.000 | 0.048 | |
| importFIMO_local_split | 0.010 | 0.004 | 0.014 | |
| lambert_snps | 0.333 | 0.008 | 0.342 | |
| metadata_tf | 0.008 | 0.000 | 0.008 | |
| named_tf | 0.005 | 0.004 | 0.009 | |
| retrieve_gotf_main | 0 | 0 | 0 | |
| retrieve_humantfs_main | 0 | 0 | 0 | |
| retrieve_lambert_main | 0.000 | 0.000 | 0.001 | |
| seqinfo_hg19_chr17 | 0.004 | 0.000 | 0.004 | |
| tffamCirc.plot | 29.089 | 0.711 | 30.431 | |
| tffamCirc.prep | 9.317 | 0.324 | 9.663 | |
| tfhash | 0.366 | 0.231 | 0.599 | |
| tftColl | 0.151 | 0.000 | 0.152 | |
| tftCollMap | 0.001 | 0.000 | 0.001 | |
| topTraitsOfTargets | 21.387 | 0.072 | 21.500 | |